BEGIN:VCALENDAR
VERSION:2.0
PRODID:-//Indonesia Kaya - ECPv6.15.15//NONSGML v1.0//EN
CALSCALE:GREGORIAN
METHOD:PUBLISH
X-WR-CALNAME:Indonesia Kaya
X-ORIGINAL-URL:https://indonesiakaya.com
X-WR-CALDESC:Events for Indonesia Kaya
REFRESH-INTERVAL;VALUE=DURATION:PT1H
X-Robots-Tag:noindex
X-PUBLISHED-TTL:PT1H
BEGIN:VTIMEZONE
TZID:Asia/Jakarta
BEGIN:STANDARD
TZOFFSETFROM:+0700
TZOFFSETTO:+0700
TZNAME:WIB
DTSTART:20240101T000000
END:STANDARD
END:VTIMEZONE
BEGIN:VEVENT
DTSTART;TZID=Asia/Jakarta:20250510T150000
DTEND;TZID=Asia/Jakarta:20250510T160000
DTSTAMP:20260423T210658
CREATED:20250502T102207Z
LAST-MODIFIED:20250504T081416Z
UID:92939-1746889200-1746892800@indonesiakaya.com
SUMMARY:Musikal Bawang Merah Bawang Putih oleh ADPRO
DESCRIPTION:Sebuah adaptasi baru dari kisah klasik Bawang Merah Bawang Putih yang ditulis oleh Titien Wattimena\, disutradarai oleh Aldafi Adnan dan diiringi Musik dan lagu karya Ammir Gita. Cerita yang dikemas menjadi musikal keluarga ini mengajarkan kita tentang kebaikan dan kesabaran melalui sentuhan fantasi dan magis seperti dongeng masa kecil. \nPertunjukan ini menampilkan Aisyah Fadhila sebagai Bawang Putih\, Maria Giena sebagai Bawang Merah\, Galabby sebagai Ibu Tiri\, Putri Indam Kamila sebagai Nenek Peri dan Beyon Destiano sebagai Narator. \nTentang Penyelenggara \nADPRO adalah kelompok teater musikal yang namanya kian mencuat baru-baru ini. Di sinilah keajaiban seni pertunjukan bertemu dengan denyut nadi kontemporer Indonesia. Adpro bukan sekadar penghibur\, tetapi juga pendongeng yang merangkai narasi yang beresonansi dengan jiwa masyarakat luas.  \nKarya Terbaru: Moonboy and His Starguide the Musical\, Musikal “Masih Ada” bersama Yayasan Kanker Indonesia\, Musikal “Adu Nasib Bersaudara” Bersama Google Year in Search 2023
URL:https://indonesiakaya.com/event/musikal-bawang-merah-bawang-putih-oleh-adpro/
LOCATION:Galeri Indonesia Kaya\, Grand Indonesia – West Mall Lantai 8\, Jl. M.H. Thamrin No.1\, Jakarta\, DKI Jakarta\, 10230\, Indonesia
CATEGORIES:Galeri Indonesia Kaya
ATTACH;FMTTYPE=image/jpeg:https://indonesiakaya.com/wp-content/uploads/2025/05/gik-10mei-15-1x1-1.jpg
END:VEVENT
END:VCALENDAR