BEGIN:VCALENDAR
VERSION:2.0
PRODID:-//Indonesia Kaya - ECPv6.15.15//NONSGML v1.0//EN
CALSCALE:GREGORIAN
METHOD:PUBLISH
X-WR-CALNAME:Indonesia Kaya
X-ORIGINAL-URL:https://indonesiakaya.com
X-WR-CALDESC:Events for Indonesia Kaya
REFRESH-INTERVAL;VALUE=DURATION:PT1H
X-Robots-Tag:noindex
X-PUBLISHED-TTL:PT1H
BEGIN:VTIMEZONE
TZID:Asia/Jakarta
BEGIN:STANDARD
TZOFFSETFROM:+0700
TZOFFSETTO:+0700
TZNAME:WIB
DTSTART:20190101T000000
END:STANDARD
END:VTIMEZONE
BEGIN:VEVENT
DTSTART;TZID=Asia/Jakarta:20201109T080000
DTEND;TZID=Asia/Jakarta:20201109T170000
DTSTAMP:20260421T090801
CREATED:20201102T024355Z
LAST-MODIFIED:20201105T061025Z
UID:42073-1604908800-1604941200@indonesiakaya.com
SUMMARY:Test Page Dorem ipsum dolor sit amet
DESCRIPTION:Amongster adalah pertunjukan koreografi kotemporer yang mengakar pada tradisi Lengger Lanang Banyumasan. Karya ini dibuat Otniel Tasman sebagai perayaan atas perjalanan tubuhnya selama 10 tahun berkarya menyelami semesta Lengger. Selayaknya perjalanan\, tubuh Lengger Otniel telah mengalami begitu banyak hal yang melahirkan kesimpulan bahwasanya identitas lengger yang ia jalani jauh dari kebenaran tunggal\, dan terpisah dari definisi umum soal gender\, seksualitas\, agama\, struktur sosial\, dan batas-batas yang umum diamini masyarakat.
URL:https://indonesiakaya.com/event/test-page-dorem-ipsum-dolor-sit-amet/
LOCATION:tiket.com
CATEGORIES:Agenda Budaya
ATTACH;FMTTYPE=image/jpeg:https://indonesiakaya.com/wp-content/uploads/2020/10/Mendoet-2.jpg
END:VEVENT
END:VCALENDAR