BEGIN:VCALENDAR
VERSION:2.0
PRODID:-//Indonesia Kaya - ECPv6.15.15//NONSGML v1.0//EN
CALSCALE:GREGORIAN
METHOD:PUBLISH
X-WR-CALNAME:Indonesia Kaya
X-ORIGINAL-URL:https://indonesiakaya.com
X-WR-CALDESC:Events for Indonesia Kaya
REFRESH-INTERVAL;VALUE=DURATION:PT1H
X-Robots-Tag:noindex
X-PUBLISHED-TTL:PT1H
BEGIN:VTIMEZONE
TZID:Asia/Jakarta
BEGIN:STANDARD
TZOFFSETFROM:+0700
TZOFFSETTO:+0700
TZNAME:WIB
DTSTART:20250101T000000
END:STANDARD
END:VTIMEZONE
BEGIN:VEVENT
DTSTART;TZID=Asia/Jakarta:20260425T150000
DTEND;TZID=Asia/Jakarta:20260425T160000
DTSTAMP:20260421T053454
CREATED:20260412T014344Z
LAST-MODIFIED:20260412T014344Z
UID:98159-1777129200-1777132800@indonesiakaya.com
SUMMARY:Dapur Sumur Tutur oleh Putri Ayudya
DESCRIPTION:Pertunjukan kali ini merupakan pertunjukan satu orang yang bersifat imersif\, membawa sebuah cerita tentang tiga generasi perempuan Jawa pada acara seribu hari peringatan kematian Eyang Kakung. Setiap perempuan memiliki kisahnya sendiri\, dan mereka berbicara tentang satu sama lain dari sudut pandang masing-masing. \nTentang Penyelenggara \nPutri Ayudya adalah seorang aktor\, dosen\, dan intimacy coordinator. Dua kali nominasi sebagai pemeran wanita terbaik FFI dan meraih Piala Maya\, tahun ini Putri memilih untuk lebih banyak mengabdikan diri dalam dunia pendidikan dan advokasi lingkungan shooting yang sehat. \nNosa Nurmanda adalah seorang penulis\, antropolog\, filmmaker dan mantan jurnalis internasional. Ia mendirikan MondiBlanc Film Workshop\, sebuah institusi pendidikan film progresif dan inklusif di Jakarta. \nBen Bening saat ini sibuk menjadi aktor\, penulis\, pemerhati keaktoran\, serta konsultan dan pelatih akting. Kini masih menjalani hidupnya sebagai aktor. Setidaknya sampai sesuatu “Yang Lebih Tinggi” bilang cukup.
URL:https://indonesiakaya.com/event/dapur-sumur-tutur-oleh-putri-ayudya/
LOCATION:Galeri Indonesia Kaya\, Grand Indonesia – West Mall Lantai 8\, Jl. M.H. Thamrin No.1\, Jakarta\, DKI Jakarta\, 10230\, Indonesia
CATEGORIES:Galeri Indonesia Kaya
ATTACH;FMTTYPE=image/jpeg:https://indonesiakaya.com/wp-content/uploads/2026/04/GIK_25-April-2026_Artboard-6-copy-5.jpg
END:VEVENT
BEGIN:VEVENT
DTSTART;TZID=Asia/Jakarta:20260425T190000
DTEND;TZID=Asia/Jakarta:20260425T200000
DTSTAMP:20260421T053454
CREATED:20260412T014521Z
LAST-MODIFIED:20260420T161842Z
UID:98161-1777143600-1777147200@indonesiakaya.com
SUMMARY:Dapur Sumur Tutur oleh Putri Ayudya - 19.00
DESCRIPTION:Pertunjukan kali ini merupakan pertunjukan satu orang yang bersifat imersif\, membawa sebuah cerita tentang tiga generasi perempuan Jawa pada acara seribu hari peringatan kematian Eyang Kakung. Setiap perempuan memiliki kisahnya sendiri\, dan mereka berbicara tentang satu sama lain dari sudut pandang masing-masing. \nTentang Penyelenggara \nPutri Ayudya adalah seorang aktor\, dosen\, dan intimacy coordinator. Dua kali nominasi sebagai pemeran wanita terbaik FFI dan meraih Piala Maya\, tahun ini Putri memilih untuk lebih banyak mengabdikan diri dalam dunia pendidikan dan advokasi lingkungan shooting yang sehat. \nNosa Nurmanda adalah seorang penulis\, antropolog\, filmmaker dan mantan jurnalis internasional. Ia mendirikan MondiBlanc Film Workshop\, sebuah institusi pendidikan film progresif dan inklusif di Jakarta. \nBen Bening saat ini sibuk menjadi aktor\, penulis\, pemerhati keaktoran\, serta konsultan dan pelatih akting. Kini masih menjalani hidupnya sebagai aktor. Setidaknya sampai sesuatu “Yang Lebih Tinggi” bilang cukup.
URL:https://indonesiakaya.com/event/dapur-sumur-tutur-oleh-putri-ayudya-19-00/
LOCATION:Galeri Indonesia Kaya\, Grand Indonesia – West Mall Lantai 8\, Jl. M.H. Thamrin No.1\, Jakarta\, DKI Jakarta\, 10230\, Indonesia
CATEGORIES:Galeri Indonesia Kaya
ATTACH;FMTTYPE=image/jpeg:https://indonesiakaya.com/wp-content/uploads/2026/04/GIK_25-April-2026_Artboard-6-copy-6.jpg
END:VEVENT
END:VCALENDAR