BEGIN:VCALENDAR
VERSION:2.0
PRODID:-//Indonesia Kaya - ECPv6.15.15//NONSGML v1.0//EN
CALSCALE:GREGORIAN
METHOD:PUBLISH
X-WR-CALNAME:Indonesia Kaya
X-ORIGINAL-URL:https://indonesiakaya.com
X-WR-CALDESC:Events for Indonesia Kaya
REFRESH-INTERVAL;VALUE=DURATION:PT1H
X-Robots-Tag:noindex
X-PUBLISHED-TTL:PT1H
BEGIN:VTIMEZONE
TZID:Asia/Jakarta
BEGIN:STANDARD
TZOFFSETFROM:+0700
TZOFFSETTO:+0700
TZNAME:WIB
DTSTART:20240101T000000
END:STANDARD
END:VTIMEZONE
BEGIN:VEVENT
DTSTART;VALUE=DATE:20250605
DTEND;VALUE=DATE:20260106
DTSTAMP:20260421T004040
CREATED:20250606T185320Z
LAST-MODIFIED:20251231T072648Z
UID:93758-1749081600-1767657599@indonesiakaya.com
SUMMARY:Petualangan Baru di Panel Interaktif Galeri Indonesia Kaya: Lutung Kasarung & Empat Raja
DESCRIPTION:Galeri Indonesia Kaya kembali memperbarui konten pada instalasi panel layar besar di galeri publik—salah satu fitur andalan yang telah lama menarik perhatian pengunjung. Dua kisah rakyat legendaris kini hadir lebih hidup: Lutung Kasarung dari Jawa dan Empat Raja dari Papua. Kedua cerita ini bisa dijelajahi secara mandiri oleh pengunjung dalam pengalaman yang menggabungkan narasi visual dan aktivitas digital. \n \n \nPada Lutung Kasarung\, pengalaman tak berhenti pada membaca cerita. Pengunjung diajak terlibat dalam tiga tantangan seru: memasak\, merias pengantin\, dan memilih busana untuk sang pangeran. Setelah menyelesaikan misi\, pengunjung juga dapat menciptakan avatar digital yang akan tampil sebagai tamu istimewa di pesta kerajaan\, langsung di layar besar. Konsep ini menghadirkan sentuhan personal dalam menjelajahi cerita rakyat yang kaya nilai dan imajinasi. \n.  \n \n \nSementara itu\, wahana Empat Raja menyuguhkan pendekatan eksploratif yang mendorong pengunjung untuk aktif mengikuti alur cerita. Berawal dari kisah lima telur ajaib yang melahirkan empat pendiri kerajaan Papua\, pengalaman ini mengajak pengunjung mengumpulkan poin dan membuka babak-babak baru dari kisah lewat panel interaktif yang responsif dan dinamis. Setiap interaksi dirancang agar pengunjung merasa menjadi bagian dari legenda itu sendiri. \n \n \n \nKehadiran dua tema baru ini menegaskan komitmen Galeri Indonesia Kaya dalam merancang pengalaman budaya yang relevan dengan perkembangan zaman. Teknologi bukan sekadar alat\, tapi menjadi jembatan untuk merasakan kembali warisan cerita rakyat dengan cara yang lebih segar—khususnya bagi generasi muda yang tumbuh di era digital. Dan yang terbaik: semuanya bisa diakses gratis\, langsung di Grand Indonesia\, Jakarta.
URL:https://indonesiakaya.com/event/petualangan-baru-di-panel-interaktif-galeri-indonesia-kaya-lutung-kasarung-empat-raja/
LOCATION:Galeri Indonesia Kaya\, Grand Indonesia – West Mall Lantai 8\, Jl. M.H. Thamrin No.1\, Jakarta\, DKI Jakarta\, 10230\, Indonesia
CATEGORIES:Galeri Indonesia Kaya
ATTACH;FMTTYPE=image/jpeg:https://indonesiakaya.com/wp-content/uploads/2025/06/800x800px.jpg
END:VEVENT
BEGIN:VEVENT
DTSTART;VALUE=DATE:20260101
DTEND;VALUE=DATE:20260901
DTSTAMP:20260421T004040
CREATED:20260106T162320Z
LAST-MODIFIED:20260107T115616Z
UID:93757-1767225600-1788220799@indonesiakaya.com
SUMMARY:Jelajah Indonesia Kaya
DESCRIPTION:Galeri Indonesia Kaya menghadirkan pengalaman berpetualang yang interaktif melalui panel digital berlayar besarnya. Jelajah Indonesia Kaya\, yang sempat menghiasi instalasi panel layar besar di Galeri Indonesia Kaya kini hadir kembali. \nPengunjung diajak menjelajahi beragam konten digital interaktif yang hadir sebagai fasilitas hiburan sekaligus edukasi tentang seni budaya dan kekayaan Nusantara. Pengalaman ini bisa dirasakan kembali secara mandiri oleh pengunjung melalui tujuh aktivitas digital. \n\nBersatu Padu\, disambut panel interaktif yang menampilkan berbagai animasi desa digital\, mengajak kita untuk lebih mengenal kekayaan budaya disetiap daerah di Indonesia.\nSelaras Seirama\, pengunjung diajak menikmati animasi tarian tradisional nan interaktif yang diiringi musik tradisional.\nSajian Rasa\, pengalaman meracik hidangan tradisional dalam warung-warung digital yang menyuguhkan citra kuliner Nusantara sambil menyajikan fakta menarik tentang kekayaan kuliner di Indonesia.\nArundaya\, permainan interaktif di mana pengunjung dapat membuat avatar virtual yang bisa berinteraksi dengan pemain lainnya.\nCerita Kita\, instalasi digital berupa buku raksasa yang memuat cerita-cerita rakyat dan karya-karya tulis dari berbagai wilayah di Indonesia.\nArungi\, permainan interaktif dimana pengunjung dapat mengemudikan pesawat virtual dan menjelajahi berbagai tempat di Indonesia.\nPesona Alam\, pengunjung diajak berinteraksi dengan berbagai macam flora dan fauna endemik Indonesia.\n\nSemuanya bisa diakses gratis\, langsung di Galeri Indonesia Kaya\, Grand Indonesia\, Jakarta.
URL:https://indonesiakaya.com/event/jelajah-indonesia-kaya/
LOCATION:Galeri Indonesia Kaya\, Grand Indonesia – West Mall Lantai 8\, Jl. M.H. Thamrin No.1\, Jakarta\, DKI Jakarta\, 10230\, Indonesia
CATEGORIES:Galeri Indonesia Kaya
ATTACH;FMTTYPE=image/jpeg:https://indonesiakaya.com/wp-content/uploads/2026/01/jelajah-nusantara-mobile-banner.jpg
END:VEVENT
BEGIN:VEVENT
DTSTART;VALUE=DATE:20260130
DTEND;VALUE=DATE:20260216
DTSTAMP:20260421T004040
CREATED:20260112T065129Z
LAST-MODIFIED:20260112T065129Z
UID:96938-1769731200-1771199999@indonesiakaya.com
SUMMARY:Musikal Perahu Kertas
DESCRIPTION:Hidupkan Lagi Mimpi-Mimpi \nTrinity Entertainment Network berkolaborasi dengan Trinity Youth Symphony Orchestra (TRUST) dan Indonesia Kaya menghadirkan pertunjukan panggung Musikal Perahu Kertas yang siap mengajak penonton menelusuri perjalanan emosional yang hangat dan menyentuh. Diadaptasi dari novel legendaris Perahu Kertas karya Dee Lestari\, produksi panggung ini akan tayang pada 30 Januari hingga 15 Februari 2026 di Ciputra Artpreneur\, Jakarta\, dengan total 21 pertunjukan. \nCerita Perahu Kertas dinilai begitu dekat dengan hati banyak orang\, terutama tentang cinta\, mimpi\, dan keberanian menjadi diri sendiri\, sehingga menarik untuk diangkat ke atas panggung. Karya ini juga menjadi tonggak penting bagi Dee Lestari\, Penulis Novel Perahu Kertas\, yang untuk pertama kalinya melihat salah satu karyanya diadaptasi ke bentuk musikal. \nMusikal Perahu Kertas menampilkan perjalanan tentang pencarian jati diri\, penerimaan\, kehilangan\, dan keberanian untuk menghidupkan lagi mimpi-mimpi melalui kisah Kugy dan Keenan\, dua jiwa muda yang sama-sama lahir dengan darah seni. Kugy\, yang sadar bahwa realita tak seindah itu\, memilih untuk menciptakan dongeng sebagai zona nyamannya. Sementara Keenan\, pelukis muda jenius yang hidup di bawah bayang ekspektasi ayahnya\, mencari jalan untuk bebas mengekspresikan diri meskipun dunia menuntutnya menjadi orang lain. Keduanya bertemu di antara milyaran manusia. Sebuah pertemuan yang membuat mereka percaya bahwa suatu hari nanti cerita dan karya mereka akan saling bersama di persimpangan hidup. \nJudul : Musikal Perahu Kertas \nPenulis Novel : Dee Lestari \nProduser Eksekutif : Yonathan Nugroho \nProduser : Billy Gamaliel\, Eunike Elisaveta\, Chriskevin Adefrid \nSutradara & Koreografer : Venytha Yoshiantini \nPenulis Naskah Musikal : Widya Arifianti \nKomposer : Ifa Fachir\, Simhala Avadana \nPengarah Musik : Nathania Karina \nPenata Musik : Ivan Tangkulung \nRumah Produksi : Trinity Entertainment Network \n  \nTentang Penyelenggara \nTrinity Entertainment Network \nTrinity Entertainment Network adalah salah satu perusahaan label rekaman dan manajemen artis terbesar di Indonesia (didirikan pada tahun 2003) yang didirikan atas kolaborasi empat sosok terkemuka di industri musik Indonesia: Adi Nugroho\, Handi Santoso\, Effendy Widjaja\, dan Yonathan Nugroho. \nDengan visi untuk mengembangkan dan memajukan industri hiburan Indonesia\, Trinity berkomitmen untuk terus berkembang dan beradaptasi dengan permintaan pasar yang terus berubah dalam industri hiburan Indonesia. \n  \nTrinity Youth Symphony Orchestra (TRUST Orchestra) \nTrinity Youth Symphony Orchestra (TRUST) adalah organisasi nirlaba di bawah naungan Trinity Optima Production\, salah satu label rekaman terkemuka di Indonesia\, sebagai bagian dari program Corporate Social Responsibility (CSR) mereka. TRUST dipimpin oleh Dr. Nathania Karina sebagai pengarah musik dan konduktor tetap. Orkestra ini awalnya berdiri sebagai Andante Youth Community Orchestra\, sebuah orkestra komunitas yang berbasis di Jakarta Utara dan didirikan pada Oktober 2008. Audisi pertamanya diselenggarakan pada Februari 2013 dan menarik banyak peserta dari seluruh Jakarta dan sekitarnya. Saat ini\, TRUST memiliki lebih dari 150 anggota yang terdiri dari talenta muda terbaik Jakarta berusia antara 10 hingga 35 tahun. \nSejak diresmikan pada Oktober 2013\, TRUST telah tampil di berbagai acara dan panggung bergengsi\, baik di tingkat nasional maupun internasional. Beberapa di antaranya termasuk World Orchestra Festival 2019 di Wina (meraih Medali Emas)\, Australian International Music Festival 2015 di Sydney Opera House (meraih Medali Perak). Selain itu\, TRUST juga dikenal sebagai orkestra resmi untuk Festival Film Indonesia 2015\, Indonesia Orchestra & Ensemble Festival setiap tahun\, serta Java Jazz Festival 2015. \n  \nIndonesia Kaya \nIndonesia Kaya adalah sebuah inisiatif budaya dari Bakti Budaya Djarum Foundation\, yang mengemban peran untuk memperkenalkan\, melestarikan\, dan menghidupkan kembali kekayaan budaya Indonesia melalui pendekatan yang modern dan interaktif. Sejak awal berdirinya\, Indonesia Kaya telah menjadi ruang yang mempertemukan seni\, tradisi\, dan masyarakat dalam satu wadah yang inklusif dan inspiratif.  \nwww.indonesiakaya.com juga merupakan rumah digital bagi program-program lainnya\, seperti Ruang Kreatif\, Indonesia Menari dan juga senantiasa menghadirkan berbagai kegiatan menarik bagi para penikmat seni yang sedang di rumah. Salah satunya #MusikalDiRumahAja yang mengangkat cerita rakyat Indonesia dengan adaptasi dari segi cerita dan penggunaan teknologi secara online pada 2020 yang lalu. Penikmat seni juga dapat menikmati Serial Musikal Nurbaya yang terinspirasi dari novel Sitti Nurbaya: Kasih Tak Sampai karya Marah Rusli dan Serial Musikal Payung Fantasi yang terinspirasi dari kisah dan karya Ismail Marzuki yang dapat diakses di akun YouTube IndonesiaKaya.
URL:https://indonesiakaya.com/event/musikal-perahu-kertas/
LOCATION:Ciputra Artpreneur
CATEGORIES:Galeri Indonesia Kaya
ATTACH;FMTTYPE=image/jpeg:https://indonesiakaya.com/wp-content/uploads/2026/01/mobile-banner-musikal-perahu-kertas.jpg
END:VEVENT
BEGIN:VEVENT
DTSTART;TZID=Asia/Jakarta:20260131T150000
DTEND;TZID=Asia/Jakarta:20260131T160000
DTSTAMP:20260421T004040
CREATED:20260124T175424Z
LAST-MODIFIED:20260124T175424Z
UID:97364-1769871600-1769875200@indonesiakaya.com
SUMMARY:Jemari Kecil oleh Fantasi Tuli
DESCRIPTION:Jemari Kecil merupakan teater musikal Tuli pertama di Indonesia\, sebuah ruang kolaborasi Tuli dan dengar dalam seni pertunjukan. Pertunjukan ini menampilkan kisah Mentari\, seorang penari Tuli yang kehilangan semangat untuk menari karena ayahnya yang seorang musisi meninggal dunia. Cerita ini mengikuti perjalanan Mentari untuk menemukan kecintaannya menari\, dibantu oleh Awan yang merupakan seorang produser musik.  \nTentang Penyelenggara \nFantasi Tuli adalah komunitas musikal Tuli pertama di Indonesia yang mempertemukan seniman Tuli dan dengar dalam satu panggung kolaboratif. Melalui karya-karya yang menggabungkan bahasa isyarat\, musik dan teater\, Fantasi Tuli membuka ruang baru bagi ekspresi dan apresiasi lintas budaya dengan Tuli. Fantasi Tuli telah mencatat sejarah sebagai komunitas Tuli pertama yang menampilkan pertunjukan tunggal musikalnya sendiri. 
URL:https://indonesiakaya.com/event/jemari-kecil-oleh-fantasi-tuli/
LOCATION:Galeri Indonesia Kaya\, Grand Indonesia – West Mall Lantai 8\, Jl. M.H. Thamrin No.1\, Jakarta\, DKI Jakarta\, 10230\, Indonesia
CATEGORIES:Galeri Indonesia Kaya
ATTACH;FMTTYPE=image/jpeg:https://indonesiakaya.com/wp-content/uploads/2026/01/1080x1080-GIK_01-Jan-Feb-2026_Per-Event-04.jpg
END:VEVENT
BEGIN:VEVENT
DTSTART;TZID=Asia/Jakarta:20260131T190000
DTEND;TZID=Asia/Jakarta:20260131T200000
DTSTAMP:20260421T004040
CREATED:20260124T175828Z
LAST-MODIFIED:20260124T175828Z
UID:97379-1769886000-1769889600@indonesiakaya.com
SUMMARY:Jemari Kecil oleh Fantasi Tuli - 19.00
DESCRIPTION:Jemari Kecil merupakan teater musikal Tuli pertama di Indonesia\, sebuah ruang kolaborasi Tuli dan dengar dalam seni pertunjukan. Pertunjukan ini menampilkan kisah Mentari\, seorang penari Tuli yang kehilangan semangat untuk menari karena ayahnya yang seorang musisi meninggal dunia. Cerita ini mengikuti perjalanan Mentari untuk menemukan kecintaannya menari\, dibantu oleh Awan yang merupakan seorang produser musik.  \nTentang Penyelenggara \nFantasi Tuli adalah komunitas musikal Tuli pertama di Indonesia yang mempertemukan seniman Tuli dan dengar dalam satu panggung kolaboratif. Melalui karya-karya yang menggabungkan bahasa isyarat\, musik dan teater\, Fantasi Tuli membuka ruang baru bagi ekspresi dan apresiasi lintas budaya dengan Tuli. Fantasi Tuli telah mencatat sejarah sebagai komunitas Tuli pertama yang menampilkan pertunjukan tunggal musikalnya sendiri. 
URL:https://indonesiakaya.com/event/jemari-kecil-oleh-fantasi-tuli-19-00/
LOCATION:Galeri Indonesia Kaya\, Grand Indonesia – West Mall Lantai 8\, Jl. M.H. Thamrin No.1\, Jakarta\, DKI Jakarta\, 10230\, Indonesia
CATEGORIES:Galeri Indonesia Kaya
ATTACH;FMTTYPE=image/jpeg:https://indonesiakaya.com/wp-content/uploads/2026/01/1080x1080-GIK_01-Jan-Feb-2026_Per-Event-07.jpg
END:VEVENT
END:VCALENDAR