BEGIN:VCALENDAR
VERSION:2.0
PRODID:-//Indonesia Kaya - ECPv6.15.15//NONSGML v1.0//EN
CALSCALE:GREGORIAN
METHOD:PUBLISH
X-WR-CALNAME:Indonesia Kaya
X-ORIGINAL-URL:https://indonesiakaya.com
X-WR-CALDESC:Events for Indonesia Kaya
REFRESH-INTERVAL;VALUE=DURATION:PT1H
X-Robots-Tag:noindex
X-PUBLISHED-TTL:PT1H
BEGIN:VTIMEZONE
TZID:Asia/Jakarta
BEGIN:STANDARD
TZOFFSETFROM:+0700
TZOFFSETTO:+0700
TZNAME:WIB
DTSTART:20240101T000000
END:STANDARD
END:VTIMEZONE
BEGIN:VEVENT
DTSTART;VALUE=DATE:20250605
DTEND;VALUE=DATE:20260106
DTSTAMP:20260421T121218
CREATED:20250606T185320Z
LAST-MODIFIED:20251231T072648Z
UID:93758-1749081600-1767657599@indonesiakaya.com
SUMMARY:Petualangan Baru di Panel Interaktif Galeri Indonesia Kaya: Lutung Kasarung & Empat Raja
DESCRIPTION:Galeri Indonesia Kaya kembali memperbarui konten pada instalasi panel layar besar di galeri publik—salah satu fitur andalan yang telah lama menarik perhatian pengunjung. Dua kisah rakyat legendaris kini hadir lebih hidup: Lutung Kasarung dari Jawa dan Empat Raja dari Papua. Kedua cerita ini bisa dijelajahi secara mandiri oleh pengunjung dalam pengalaman yang menggabungkan narasi visual dan aktivitas digital. \n \n \nPada Lutung Kasarung\, pengalaman tak berhenti pada membaca cerita. Pengunjung diajak terlibat dalam tiga tantangan seru: memasak\, merias pengantin\, dan memilih busana untuk sang pangeran. Setelah menyelesaikan misi\, pengunjung juga dapat menciptakan avatar digital yang akan tampil sebagai tamu istimewa di pesta kerajaan\, langsung di layar besar. Konsep ini menghadirkan sentuhan personal dalam menjelajahi cerita rakyat yang kaya nilai dan imajinasi. \n.  \n \n \nSementara itu\, wahana Empat Raja menyuguhkan pendekatan eksploratif yang mendorong pengunjung untuk aktif mengikuti alur cerita. Berawal dari kisah lima telur ajaib yang melahirkan empat pendiri kerajaan Papua\, pengalaman ini mengajak pengunjung mengumpulkan poin dan membuka babak-babak baru dari kisah lewat panel interaktif yang responsif dan dinamis. Setiap interaksi dirancang agar pengunjung merasa menjadi bagian dari legenda itu sendiri. \n \n \n \nKehadiran dua tema baru ini menegaskan komitmen Galeri Indonesia Kaya dalam merancang pengalaman budaya yang relevan dengan perkembangan zaman. Teknologi bukan sekadar alat\, tapi menjadi jembatan untuk merasakan kembali warisan cerita rakyat dengan cara yang lebih segar—khususnya bagi generasi muda yang tumbuh di era digital. Dan yang terbaik: semuanya bisa diakses gratis\, langsung di Grand Indonesia\, Jakarta.
URL:https://indonesiakaya.com/event/petualangan-baru-di-panel-interaktif-galeri-indonesia-kaya-lutung-kasarung-empat-raja/
LOCATION:Galeri Indonesia Kaya\, Grand Indonesia – West Mall Lantai 8\, Jl. M.H. Thamrin No.1\, Jakarta\, DKI Jakarta\, 10230\, Indonesia
CATEGORIES:Galeri Indonesia Kaya
ATTACH;FMTTYPE=image/jpeg:https://indonesiakaya.com/wp-content/uploads/2025/06/800x800px.jpg
END:VEVENT
BEGIN:VEVENT
DTSTART;TZID=Asia/Jakarta:20250614T150000
DTEND;TZID=Asia/Jakarta:20250614T160000
DTSTAMP:20260421T121218
CREATED:20250606T173929Z
LAST-MODIFIED:20250609T032432Z
UID:93760-1749913200-1749916800@indonesiakaya.com
SUMMARY:Musikal Menjaga Mirah : Cerita dari Otong dan Lutung oleh Teater Keliling
DESCRIPTION:Indonesia memiliki beragam budaya dan suku bangsa yang kental dengan legenda atau cerita rakyat dari masing-masing daerahnya di mana menjadi sebuah identitas yang melekat pada setiap generasi. Menggunakan konsep “The Next Level”\, Teater Keliling mengangkat kisah Mirah dari Marunda ini dengan penampilan yang berbeda\, yaitu sebuah pertunjukan musikal dengan menggunakan lagu dan gerak tari modern dan tradisional. \nDi balik ketangguhan pendekar Marunda bernama Mirah\, ada dua sosok yang tak pernah lelah menjadi pelipur laranya—Otong dan Lutung. Sejak kecil ditinggal sang ibu\, Mirah tumbuh dengan banyak tanya dan luka. Bang Bodong\, sang ayah yang juga jawara terpandang\, menitipkan kepercayaan besar pada dua murid kesayangannya: Otong yang berani dan penuh semangat\, serta Lutung yang cerdik dan setia meski sering jadi ‘korban’ kelakuan Otong. \nKeduanya bukan sekadar sahabat; mereka adalah keluarga yang Mirah temukan di tengah kekosongan. Bersama-sama mereka menjelajahi arti keberanian\, kehilangan\, dan cinta—hingga Mirah menemukan kekuatannya sendiri untuk menjadi sang Pendekar Marunda. \nDengan adanya kegiatan ini\, diharapkan semakin banyak orang khususnya generasi muda yang mengenal pahlawan Indonesia khususnya pahlawan Betawi dan cerita dibaliknya\, serta menjadikan mereka inspirasi dalam mencapai mimpi mimpi besarnya. \nTeater keliling berdiri sejak tanggal 13 Februari 1974 dan sudah melakukan lebih dari 1700 pementasan di seluruh Provinsi di Indonesia serta 12 negara di dunia\, didirikan oleh Ir. Derry Syrna\, Rudolf Puspa\, Buyung Zasdar dan Paul Pengemanan dan didukung oleh tokoh teater lainnya seperti seniman Jajang C. Noer\, Saraswaty Sunindyo\, Ahmad Hidayat\, Willem Patirajawane\, Syaeful Anwar serta RW Mulyadi. \nTeater Keliling memiliki pengalaman dalam pelatihan\, dan pelaksanaan pementasan teater dan seni peran serta beragam penghargaan seperti Rekor MURI (2010)\, Rudolf Puspa mendapatkan perhargaan Abdi Abadi FTI tahun 2016\, Bentara Budaya 2017 dan juga penghargaan lainnya.
URL:https://indonesiakaya.com/event/musikal-menjaga-mirah-cerita-dari-otong-dan-lutung-oleh-teater-keliling/
LOCATION:Galeri Indonesia Kaya\, Grand Indonesia – West Mall Lantai 8\, Jl. M.H. Thamrin No.1\, Jakarta\, DKI Jakarta\, 10230\, Indonesia
CATEGORIES:Galeri Indonesia Kaya
ATTACH;FMTTYPE=image/jpeg:https://indonesiakaya.com/wp-content/uploads/2025/06/gik-14juni-15-1x1-01.jpg
END:VEVENT
BEGIN:VEVENT
DTSTART;TZID=Asia/Jakarta:20250614T190000
DTEND;TZID=Asia/Jakarta:20250614T200000
DTSTAMP:20260421T121218
CREATED:20250606T175043Z
LAST-MODIFIED:20250609T032422Z
UID:93763-1749927600-1749931200@indonesiakaya.com
SUMMARY:Musikal Menjaga Mirah : Cerita dari Otong dan Lutung oleh Teater Keliling - 19.00
DESCRIPTION:Indonesia memiliki beragam budaya dan suku bangsa yang kental dengan legenda atau cerita rakyat dari masing-masing daerahnya di mana menjadi sebuah identitas yang melekat pada setiap generasi. Menggunakan konsep “The Next Level”\, Teater Keliling mengangkat kisah Mirah dari Marunda ini dengan penampilan yang berbeda\, yaitu sebuah pertunjukan musikal dengan menggunakan lagu dan gerak tari modern dan tradisional. \nDi balik ketangguhan pendekar Marunda bernama Mirah\, ada dua sosok yang tak pernah lelah menjadi pelipur laranya—Otong dan Lutung. Sejak kecil ditinggal sang ibu\, Mirah tumbuh dengan banyak tanya dan luka. Bang Bodong\, sang ayah yang juga jawara terpandang\, menitipkan kepercayaan besar pada dua murid kesayangannya: Otong yang berani dan penuh semangat\, serta Lutung yang cerdik dan setia meski sering jadi ‘korban’ kelakuan Otong. \nKeduanya bukan sekadar sahabat; mereka adalah keluarga yang Mirah temukan di tengah kekosongan. Bersama-sama mereka menjelajahi arti keberanian\, kehilangan\, dan cinta—hingga Mirah menemukan kekuatannya sendiri untuk menjadi sang Pendekar Marunda. \nDengan adanya kegiatan ini\, diharapkan semakin banyak orang khususnya generasi muda yang mengenal pahlawan Indonesia khususnya pahlawan Betawi dan cerita dibaliknya\, serta menjadikan mereka inspirasi dalam mencapai mimpi mimpi besarnya. \nTeater keliling berdiri sejak tanggal 13 Februari 1974 dan sudah melakukan lebih dari 1700 pementasan di seluruh Provinsi di Indonesia serta 12 negara di dunia\, didirikan oleh Ir. Derry Syrna\, Rudolf Puspa\, Buyung Zasdar dan Paul Pengemanan dan didukung oleh tokoh teater lainnya seperti seniman Jajang C. Noer\, Saraswaty Sunindyo\, Ahmad Hidayat\, Willem Patirajawane\, Syaeful Anwar serta RW Mulyadi. \nTeater Keliling memiliki pengalaman dalam pelatihan\, dan pelaksanaan pementasan teater dan seni peran serta beragam penghargaan seperti Rekor MURI (2010)\, Rudolf Puspa mendapatkan perhargaan Abdi Abadi FTI tahun 2016\, Bentara Budaya 2017 dan juga penghargaan lainnya.
URL:https://indonesiakaya.com/event/musikal-menjaga-mirah-cerita-dari-otong-dan-lutung-oleh-teater-keliling-19-00/
LOCATION:Galeri Indonesia Kaya\, Grand Indonesia – West Mall Lantai 8\, Jl. M.H. Thamrin No.1\, Jakarta\, DKI Jakarta\, 10230\, Indonesia
CATEGORIES:Galeri Indonesia Kaya
ATTACH;FMTTYPE=image/jpeg:https://indonesiakaya.com/wp-content/uploads/2025/06/gik-14juni-19-1x1-01.jpg
END:VEVENT
BEGIN:VEVENT
DTSTART;TZID=Asia/Jakarta:20250621T150000
DTEND;TZID=Asia/Jakarta:20250621T160000
DTSTAMP:20260421T121218
CREATED:20250615T135437Z
LAST-MODIFIED:20250615T141312Z
UID:93909-1750518000-1750521600@indonesiakaya.com
SUMMARY:Berjuta Pilihan Hidup di Kota Jakarta oleh Sanggar Sinar Norray bersama Maudy Koesnaedi
DESCRIPTION:Berjuta Pilihan Hidup di Kota Jakarta merupakan pertunjukkan komedi panggung khas Betawi yang mengangkat cerita-cerita lucu tentang kehidupan sehari-hari\, di mana setiap orang dihadapkan pada pilihan-pilihan unik dan kadang kocak. Dengan gaya bodoran Betawi yang penuh permainan kata dan situasi komedi\, pertunjukan ini menghadirkan tawa sambil menyisipkan pesan- pesan sederhana tentang pentingnya bijak dalam memilih jalan hidup.  \nSketsa-sketsa segar yang relevan dengan kehidupan zaman sekarang-dari urusan jodoh\, kerja\, sampai gaya hidup disajikan dengan gaya Betawi khas Sinar Norray\, menjadikannya bukan hanya tontonan yang menghibur\, tetapi juga menjadi ruang untuk mengenalkan kembali kekayaan budaya Betawi kepada semua kalangan. \nPerayaan ulang tahun kota jakarta oleh Sinar Norray ini mempersembahkan warisan budaya Betawi dengan cara yang menyenangkan dan inovatif kepada penonton. Kombinasi musik Betawi\, tarian Betawi dan bodoran betawi menghibur sambil memperkenalkan kekayaan budaya Betawi kepada generasi muda dan masyarakat umum\, juga sebagai jembatan antar generasi. \nSinar Norray (SiNorray) diambil dari kata Sinar dan Norray yang merupakan Nama panggilan panggung ibu Hj.Nori yang akrab dipanggil Mpok Nori. Awal berdirinya Sanggar Sinar Norray di tahun 1995 berangkat dari banyaknya permintaan masyarakat bagi Mpok Nori dan kelompoknya untuk menyajikan berbagai pertunjukkan Kesenian betawi. Sanggar Sinar Norray terus melahirkan bibit-bibit generasi penerus. Sejak 2015\, sepeninggalan Almh. Hj.Nori\, putri bungsu ibu Hj. Nori yaitu Mpok Engkar Karmilasari mengambil alih kepemimpinan sanggar. \nPada tahun 2012\, Sinar Norray merilis sebuah album yang mengaransemen ulang lagu-lagu gambang kromong Betawi dengan sentuhan tradisi modern. Penjualan album yang baik membuktikan bahwa musik tradisional yang dipadukan dengan elemen modern dapat diterima dengan baik oleh berbagai kalangan.  Sinar Norray juga telah mendapatkan beberapa penghargaan atas partisipasi penyelenggaraan seni budaya Betawi ke berbagai daerah.
URL:https://indonesiakaya.com/event/berjuta-pilihan-hidup-di-kota-jakarta-oleh-sanggar-sinar-norray-bersama-maudy-koesnaedi/
LOCATION:Galeri Indonesia Kaya\, Grand Indonesia – West Mall Lantai 8\, Jl. M.H. Thamrin No.1\, Jakarta\, DKI Jakarta\, 10230\, Indonesia
CATEGORIES:Galeri Indonesia Kaya
ATTACH;FMTTYPE=image/jpeg:https://indonesiakaya.com/wp-content/uploads/2025/06/gik-21juni-15-1x1-1.jpg
END:VEVENT
BEGIN:VEVENT
DTSTART;TZID=Asia/Jakarta:20250621T190000
DTEND;TZID=Asia/Jakarta:20250621T200000
DTSTAMP:20260421T121218
CREATED:20250615T135524Z
LAST-MODIFIED:20250615T141322Z
UID:93915-1750532400-1750536000@indonesiakaya.com
SUMMARY:Berjuta Pilihan Hidup di Kota Jakarta oleh Sanggar Sinar Norray bersama Maudy Koesnaedi - 19.00
DESCRIPTION:Berjuta Pilihan Hidup di Kota Jakarta merupakan pertunjukkan komedi panggung khas Betawi yang mengangkat cerita-cerita lucu tentang kehidupan sehari-hari\, di mana setiap orang dihadapkan pada pilihan-pilihan unik dan kadang kocak. Dengan gaya bodoran Betawi yang penuh permainan kata dan situasi komedi\, pertunjukan ini menghadirkan tawa sambil menyisipkan pesan- pesan sederhana tentang pentingnya bijak dalam memilih jalan hidup.  \nSketsa-sketsa segar yang relevan dengan kehidupan zaman sekarang-dari urusan jodoh\, kerja\, sampai gaya hidup disajikan dengan gaya Betawi khas Sinar Norray\, menjadikannya bukan hanya tontonan yang menghibur\, tetapi juga menjadi ruang untuk mengenalkan kembali kekayaan budaya Betawi kepada semua kalangan. \nPerayaan ulang tahun kota jakarta oleh Sinar Norray ini mempersembahkan warisan budaya Betawi dengan cara yang menyenangkan dan inovatif kepada penonton. Kombinasi musik Betawi\, tarian Betawi dan bodoran betawi menghibur sambil memperkenalkan kekayaan budaya Betawi kepada generasi muda dan masyarakat umum\, juga sebagai jembatan antar generasi. \nSinar Norray (SiNorray) diambil dari kata Sinar dan Norray yang merupakan Nama panggilan panggung ibu Hj.Nori yang akrab dipanggil Mpok Nori. Awal berdirinya Sanggar Sinar Norray di tahun 1995 berangkat dari banyaknya permintaan masyarakat bagi Mpok Nori dan kelompoknya untuk menyajikan berbagai pertunjukkan Kesenian betawi. Sanggar Sinar Norray terus melahirkan bibit-bibit generasi penerus. Sejak 2015\, sepeninggalan Almh. Hj.Nori\, putri bungsu ibu Hj. Nori yaitu Mpok Engkar Karmilasari mengambil alih kepemimpinan sanggar. \nPada tahun 2012\, Sinar Norray merilis sebuah album yang mengaransemen ulang lagu-lagu gambang kromong Betawi dengan sentuhan tradisi modern. Penjualan album yang baik membuktikan bahwa musik tradisional yang dipadukan dengan elemen modern dapat diterima dengan baik oleh berbagai kalangan.  Sinar Norray juga telah mendapatkan beberapa penghargaan atas partisipasi penyelenggaraan seni budaya Betawi ke berbagai daerah.
URL:https://indonesiakaya.com/event/berjuta-pilihan-hidup-di-kota-jakarta-oleh-sanggar-sinar-norray-bersama-maudy-koesnaedi-19-00/
LOCATION:Galeri Indonesia Kaya\, Grand Indonesia – West Mall Lantai 8\, Jl. M.H. Thamrin No.1\, Jakarta\, DKI Jakarta\, 10230\, Indonesia
CATEGORIES:Galeri Indonesia Kaya
ATTACH;FMTTYPE=image/jpeg:https://indonesiakaya.com/wp-content/uploads/2025/06/gik-21juni-19-1x1-1.jpg
END:VEVENT
BEGIN:VEVENT
DTSTART;TZID=Asia/Jakarta:20250622T150000
DTEND;TZID=Asia/Jakarta:20250622T160000
DTSTAMP:20260421T121218
CREATED:20250615T141718Z
LAST-MODIFIED:20250616T233848Z
UID:93927-1750604400-1750608000@indonesiakaya.com
SUMMARY:Betawi Aje! Oleh ASETI (Asosiasi Seniman Tari Indonesia)
DESCRIPTION:Perkembangan dunia dalam berkesenian di Indonesia pada saat ini telah banyak dipengaruhi oleh unsur budaya asing\, di satu sisi melambangkan perkembangan zaman\, tetapi di sisi lain juga mengikis lestarinya budaya tradisional Indonesia. \nPertunjukan kali ini mencoba mengangkat kegelisahan atas makin bergesernya tradisi Indonesia ke dalam bentuk seni pertunjukan sandiwara Betawi berjudul “BETAWI AJE!”\, dengan harapan pertunjukan ini dapat menjadi salah satu stimulan bagi generasi muda agar kembali mengenal kearifan lokalnya. Konsep ini juga diharapkan menjadi awal mula pengenalan sandiwara Betawi\, salah satu genre seni pertunjukan lainnya di Jakarta selain lenong dan topeng Betawi yang lebih dulu populer. \nASETI (Asosiasi Seniman Tari Indonesia) adalah organisasi profesi yang berdiri secara independen sejak 2017\, atas semangat untuk mewujudkan kesetaraan profesi seniman tari dengan profesi bidang lainnya melalui perserikatan sebagai profesi yang juga berhak diapresiasi dan dilindungi negara. Program yang dibidik adalah upaya-upaya strategis yang dinilai penting dalam penguatan ekosistem tari di Indonesia. ASETI telah memiliki Pengurus Daerah dan Cabang di berbagai Provinsi serta Kabupaten/Kota\, yang bergerak secara mandiri dan memiliki keterhubungan dengan para pemangkunya di wilayah masing-masing. \nVisi Misi ASETI adalah mengangkat kesetaraan\, kompetensi\, profesionalisme\, harkat dan martabat seniman Tari Indonesia\, baik di tingkat nasional maupun internasional\, dengan cara menjadi wadah komunikasi seniman Tari di Indonesia\, meningkatkan standar kompetensi dan profesionalisme seniman Tari di Indonesia\, membuat data base pelaku tari sesuai keahlian\, mendorong kebijakan yang berpihak kepada seniman tari yang dapat meningkatkan kesejahteraan seniman Tari di Indonesia\, mengupayakan pengembangan sarana dan prasarana seniman Tari di Indonesia\, menyebarluaskan informasi tentang profesi seniman Tari kepada pihak yang berhubungan langsung\, maupun kepada masyarakat luas dan membangun kerjasama dan sinergi dengan asosiasi profesi dan lembaga lain serta pemerintah.
URL:https://indonesiakaya.com/event/betawi-aje-oleh-aseti-asosiasi-seniman-tari-indonesia/
LOCATION:Galeri Indonesia Kaya\, Grand Indonesia – West Mall Lantai 8\, Jl. M.H. Thamrin No.1\, Jakarta\, DKI Jakarta\, 10230\, Indonesia
CATEGORIES:Galeri Indonesia Kaya
ATTACH;FMTTYPE=image/jpeg:https://indonesiakaya.com/wp-content/uploads/2025/06/gik-22juni25-15-1x1-1.jpg
END:VEVENT
BEGIN:VEVENT
DTSTART;TZID=Asia/Jakarta:20250622T190000
DTEND;TZID=Asia/Jakarta:20250622T200000
DTSTAMP:20260421T121218
CREATED:20250615T141845Z
LAST-MODIFIED:20250616T233902Z
UID:93934-1750618800-1750622400@indonesiakaya.com
SUMMARY:Betawi Aje! Oleh ASETI (Asosiasi Seniman Tari Indonesia) - 19.00
DESCRIPTION:Perkembangan dunia dalam berkesenian di Indonesia pada saat ini telah banyak dipengaruhi oleh unsur budaya asing\, di satu sisi melambangkan perkembangan zaman\, tetapi di sisi lain juga mengikis lestarinya budaya tradisional Indonesia. \nPertunjukan kali ini mencoba mengangkat kegelisahan atas makin bergesernya tradisi Indonesia ke dalam bentuk seni pertunjukan sandiwara Betawi berjudul “BETAWI AJE!”\, dengan harapan pertunjukan ini dapat menjadi salah satu stimulan bagi generasi muda agar kembali mengenal kearifan lokalnya. Konsep ini juga diharapkan menjadi awal mula pengenalan sandiwara Betawi\, salah satu genre seni pertunjukan lainnya di Jakarta selain lenong dan topeng Betawi yang lebih dulu populer. \nASETI (Asosiasi Seniman Tari Indonesia) adalah organisasi profesi yang berdiri secara independen sejak 2017\, atas semangat untuk mewujudkan kesetaraan profesi seniman tari dengan profesi bidang lainnya melalui perserikatan sebagai profesi yang juga berhak diapresiasi dan dilindungi negara. Program yang dibidik adalah upaya-upaya strategis yang dinilai penting dalam penguatan ekosistem tari di Indonesia. ASETI telah memiliki Pengurus Daerah dan Cabang di berbagai Provinsi serta Kabupaten/Kota\, yang bergerak secara mandiri dan memiliki keterhubungan dengan para pemangkunya di wilayah masing-masing. \nVisi Misi ASETI adalah mengangkat kesetaraan\, kompetensi\, profesionalisme\, harkat dan martabat seniman Tari Indonesia\, baik di tingkat nasional maupun internasional\, dengan cara menjadi wadah komunikasi seniman Tari di Indonesia\, meningkatkan standar kompetensi dan profesionalisme seniman Tari di Indonesia\, membuat data base pelaku tari sesuai keahlian\, mendorong kebijakan yang berpihak kepada seniman tari yang dapat meningkatkan kesejahteraan seniman Tari di Indonesia\, mengupayakan pengembangan sarana dan prasarana seniman Tari di Indonesia\, menyebarluaskan informasi tentang profesi seniman Tari kepada pihak yang berhubungan langsung\, maupun kepada masyarakat luas dan membangun kerjasama dan sinergi dengan asosiasi profesi dan lembaga lain serta pemerintah.
URL:https://indonesiakaya.com/event/betawi-aje-oleh-aseti-asosiasi-seniman-tari-indonesia-19-00/
LOCATION:Galeri Indonesia Kaya\, Grand Indonesia – West Mall Lantai 8\, Jl. M.H. Thamrin No.1\, Jakarta\, DKI Jakarta\, 10230\, Indonesia
CATEGORIES:Galeri Indonesia Kaya
ATTACH;FMTTYPE=image/jpeg:https://indonesiakaya.com/wp-content/uploads/2025/06/gik-22juni25-19-1x1-1.jpg
END:VEVENT
BEGIN:VEVENT
DTSTART;TZID=Asia/Jakarta:20250628T150000
DTEND;TZID=Asia/Jakarta:20250628T160000
DTSTAMP:20260421T121218
CREATED:20250620T103425Z
LAST-MODIFIED:20250621T225046Z
UID:93950-1751122800-1751126400@indonesiakaya.com
SUMMARY:Kampoeng Becek Oleh Sanggar Oplet Robet
DESCRIPTION:Cerita berfokus pada sosok Bang Ajier\, seorang tokoh masyarakat yang baru tiga bulan dilantik menjadi Ketua RW 09 di Kelurahan Kampung Becek. Setelah Pilkada selesai\, para pemimpin\, termasuk Bang Ajier\, resmi dilantik oleh Lurah\, tanggung jawab besar pun menanti. Bang Ajier harus menyatukan para Ketua RT untuk bergotong royong membangun Kampung Becek menjadi kampung yang aman\, nyaman\, dan berbudaya. \nTantangan tidak hanya datang dari lingkungan sosial. Dalam rumah tangganya\, Bang Ajier menghadapi istrinya yang konsumtif serta harus membiayai pendidikan anak perempuannya di perguruan tinggi negeri. Dalam segala keterbatasan\, termasuk kondisi ekonomi warga yang sebagian besar berpenghasilan tidak tetap (pedagang\, seniman\, pengangguran)\, Bang Ajier tetap menjalankan amanahnya dengan ikhlas dan penuh tanggung jawab.  \nDengan semangat pengabdian\, Bang Ajier berhasil menghadapi berbagai tantangan. Ia bertekad menjadikan Kampung Becek sebagai contoh kampung urban yang maju dan berbudaya\, dengan moto: Disiplin\, Tanggung Jawab\, dan Berbudaya.  \nYayasan Oplet Robet (Ocehan Plesetan Rombongan Betawi) lahir pada 2001 sebagai penerus Teater Cagar Budaya yang dulu dipimpin Narno Sunarno di Condet\, Jakarta Timur. Berbasis pada cinta budaya Betawi\, yayasan ini aktif dalam seni pertunjukan seperti Lenong\, Gambang Kromong\, lawak\, MC\, hingga palang pintu. Resmi menjadi yayasan pada 2010\, Oplet Robet telah tampil di berbagai panggung hiburan dan bekerja sama dengan Dinas Pariwisata DKI Jakarta. Mengusung visi 3S: Senyum\, Sehat\, Sejahtera\, mereka mengedukasi generasi muda untuk mencintai budaya melalui pementasan yang menghibur\, menyehatkan\, dan bermakna.
URL:https://indonesiakaya.com/event/kampoeng-becek-oleh-sanggar-oplet-robet/
LOCATION:Galeri Indonesia Kaya\, Grand Indonesia – West Mall Lantai 8\, Jl. M.H. Thamrin No.1\, Jakarta\, DKI Jakarta\, 10230\, Indonesia
CATEGORIES:Galeri Indonesia Kaya
ATTACH;FMTTYPE=image/jpeg:https://indonesiakaya.com/wp-content/uploads/2025/06/gik-28jun-15-1x1-1.jpg
END:VEVENT
BEGIN:VEVENT
DTSTART;TZID=Asia/Jakarta:20250628T190000
DTEND;TZID=Asia/Jakarta:20250628T200000
DTSTAMP:20260421T121218
CREATED:20250620T103709Z
LAST-MODIFIED:20250621T225429Z
UID:93956-1751137200-1751140800@indonesiakaya.com
SUMMARY:Kampoeng Becek Oleh Sanggar Oplet Robet - 19.00
DESCRIPTION:Cerita berfokus pada sosok Bang Ajier\, seorang tokoh masyarakat yang baru tiga bulan dilantik menjadi Ketua RW 09 di Kelurahan Kampung Becek. Setelah Pilkada selesai\, para pemimpin\, termasuk Bang Ajier\, resmi dilantik oleh Lurah\, tanggung jawab besar pun menanti. Bang Ajier harus menyatukan para Ketua RT untuk bergotong royong membangun Kampung Becek menjadi kampung yang aman\, nyaman\, dan berbudaya. \nTantangan tidak hanya datang dari lingkungan sosial. Dalam rumah tangganya\, Bang Ajier menghadapi istrinya yang konsumtif serta harus membiayai pendidikan anak perempuannya di perguruan tinggi negeri. Dalam segala keterbatasan\, termasuk kondisi ekonomi warga yang sebagian besar berpenghasilan tidak tetap (pedagang\, seniman\, pengangguran)\, Bang Ajier tetap menjalankan amanahnya dengan ikhlas dan penuh tanggung jawab.  \nDengan semangat pengabdian\, Bang Ajier berhasil menghadapi berbagai tantangan. Ia bertekad menjadikan Kampung Becek sebagai contoh kampung urban yang maju dan berbudaya\, dengan moto: Disiplin\, Tanggung Jawab\, dan Berbudaya.  \nYayasan Oplet Robet (Ocehan Plesetan Rombongan Betawi) lahir pada 2001 sebagai penerus Teater Cagar Budaya yang dulu dipimpin Narno Sunarno di Condet\, Jakarta Timur. Berbasis pada cinta budaya Betawi\, yayasan ini aktif dalam seni pertunjukan seperti Lenong\, Gambang Kromong\, lawak\, MC\, hingga palang pintu. Resmi menjadi yayasan pada 2010\, Oplet Robet telah tampil di berbagai panggung hiburan dan bekerja sama dengan Dinas Pariwisata DKI Jakarta. Mengusung visi 3S: Senyum\, Sehat\, Sejahtera\, mereka mengedukasi generasi muda untuk mencintai budaya melalui pementasan yang menghibur\, menyehatkan\, dan bermakna.
URL:https://indonesiakaya.com/event/kampoeng-becek-oleh-sanggar-oplet-robet-19-00/
LOCATION:Galeri Indonesia Kaya\, Grand Indonesia – West Mall Lantai 8\, Jl. M.H. Thamrin No.1\, Jakarta\, DKI Jakarta\, 10230\, Indonesia
CATEGORIES:Galeri Indonesia Kaya
ATTACH;FMTTYPE=image/jpeg:https://indonesiakaya.com/wp-content/uploads/2025/06/gik-28jun-19.-1x1jpg.jpeg
END:VEVENT
END:VCALENDAR