BEGIN:VCALENDAR
VERSION:2.0
PRODID:-//Indonesia Kaya - ECPv6.15.15//NONSGML v1.0//EN
CALSCALE:GREGORIAN
METHOD:PUBLISH
X-WR-CALNAME:Indonesia Kaya
X-ORIGINAL-URL:https://indonesiakaya.com
X-WR-CALDESC:Events for Indonesia Kaya
REFRESH-INTERVAL;VALUE=DURATION:PT1H
X-Robots-Tag:noindex
X-PUBLISHED-TTL:PT1H
BEGIN:VTIMEZONE
TZID:Asia/Jakarta
BEGIN:STANDARD
TZOFFSETFROM:+0700
TZOFFSETTO:+0700
TZNAME:WIB
DTSTART:20230101T000000
END:STANDARD
END:VTIMEZONE
BEGIN:VEVENT
DTSTART;VALUE=DATE:20241115
DTEND;VALUE=DATE:20250501
DTSTAMP:20260421T171247
CREATED:20241114T195344Z
LAST-MODIFIED:20241120T022552Z
UID:89288-1731628800-1746057599@indonesiakaya.com
SUMMARY:Indonesia Dalam Sketsa: Basoeki Abdullah Galeri Indonesia Kaya Hadirkan Pengalaman Immersive Karya Basoeki Abdullah Pertama Di Indonesia
DESCRIPTION:Jakarta\, 14 November 2024 – Basoeki Abdullah adalah salah satu pelukis besar Indonesia yang terkenal dengan karya-karyanya yang memukau dalam gaya realis dan naturalis. Namanya tidak hanya dikenal di Indonesia\, tetapi juga mendapat pengakuan internasional dan menjadikannya salah satu pelukis Indonesia yang paling berpengaruh pada abad ke-20. Sosoknya yang menorehkan banyak prestasi mendorong Galeri Indonesia Kaya bekerjasama dengan Gondola Team\, sekelompok seniman multidisiplin dari berbagai latar belakang\, mencakup seniman lukis\, programmer\, ahli tata cahaya\, seniman instalasi dan ahli kriya\, untuk menghadirkan karya-karya yang berakar dari lukisan-lukisan Basoeki Abdullah dengan format digital. Pameran bertajuk Indonesia Dalam Sketsa: Basoeki Abdullah ini akan berlangsung mulai hari ini hingga April 2025 mendatang di Galeri Indonesia Kaya\, Jakarta. \nSebagai salah satu pelukis maestro Tanah Air\, Basoeki Abdullah kerap melukis potret wajah dari para pahlawan\, kisah pewayangan\, hingga pemandangan yang dikagumi oleh berbagai kalangan. Karya-karyanya menghiasi istana-istana negara dan kepresidenan Indonesia\, di samping menjadi barang koleksi di penjuru dunia. \n“Basoeki Abdullah adalah sosok pelukis yang mampu menghadirkan keindahan dan kedalaman emosi dalam setiap goresan kuasnya. Karyanya tidak hanya sekadar lukisan\, tetapi juga jendela yang memperlihatkan jiwa bangsa dan kekayaan budaya Indonesia. Melalui gaya realisme dan naturalisme yang sangat halus\, ia berhasil mengabadikan pesona alam dan keanggunan sosok manusia secara luar biasa. Kepekaannya terhadap detail\, warna\, dan ekspresi membuat setiap lukisan Basoeki Abdullah terasa hidup dan berbicara kepada penontonnya. Untuk memperkenalkan sosok sang maestro serta karya-karya beliau kepada masyarakat terutama generasi muda\, kami menghadirkan pameran digital yang memberikan pengalaman virtual melalui sajian immersive karya Basoeki Abdullah yang pertama di Indonesia. Dengan teknologi digital yang juga interaktif\, pameran ini tidak hanya menampilkan potret wajah\, tetapi juga keindahan alam dan budaya lokal Jawa yang digambarkan Basoeki penuh dengan pesona gunung dan sawah\, serta kisah-kisah mitologis dan pewayangan. Semoga pameran digital ini dapat mengenalkan sosok dan menambah wawasan masyarakat tentang karya-karya Basoeki Abdullah\,” ungkap Renitasari Adrian\, Program Director Galeri Indonesia Kaya. \nPameran digital Indonesia Dalam Sketsa: Basoeki Abdullah ini akan menyajikan 14 karya sang maestro yang mempresentasikan keberadaan alam dan kisah-kisah lokal budaya Jawa. Melalui karya-karyanya yang disajikan melalui media virtual inilah\, pengunjung dapat mengetahui dan menikmati dengan mudah dan jelas tentang keberadaan kisah dalam pewayangan\, legenda atau mitologi maupun pemandangan alam yang dipenuhi gunung dan sawah di Indonesia. \nMiekke Susanto\, selaku Kurator yang telah meneliti sosok dan lukisan Basoeki Abdullah sejak tahun 2004 mengungkapkan\, ”Pemilihan 14 lukisan dalam pameran Indonesia Dalam Sketsa: Basoeki Abdullah dilakukan dengan pertimbangan khusus untuk menunjukkan perjalanan Basoeki Abdullah sebagai maestro lukis. Kami ingin para pengunjung dapat mendapatkan gambaran dalam menggambarkan alam dan budaya Jawa. Karya-karya ini menyajikan keindahan lanskap alam seperti gunung dan sawah\, hingga figur-figur mitologi dan kisah pewayangan yang lekat dengan identitas budaya lokal. Melalui lukisan-lukisan ini\, pengunjung tidak hanya melihat\, tetapi juga merasakan pesona Jawa yang dikemas dengan teknologi digital. Sebagai kurator\, saya percaya bahwa keempat belas karya dari Basoeki Abdullah yang dikemas dengan teknologi interaktif ini mampu menghadirkan Indonesia dalam perspektif yang menyentuh dan immersive\, melampaui sekadar representasi visual. Semoga pengolahan 14 karya dari Basoeki Abdullah ini dapat diterima dengan baik oleh para pengunjung Galeri Indonesia Kaya..” \nSeluruh karya yang ditampilkan telah melalui akurasi ketat ini juga memberikan pengalaman virtual melalui sajian immersive untuk membuka khazanah baru bagi para pengunjung. Tampilan digital ini seakan-akan menerbangkan jiwa pengunjung dari dunia imajinasi ke realitas\, dari dunia maya ke realitas nyata\, maupun dari pesona yang hanya ditangkap mata kini jauh lebih terasa. \n“Karya-karya Basoeki Abdullah merupakan mediator visual yang menarik benak setiap penonton. Apalagi ketika lukisan-lukisannya ditampilkan dalam format dengan teknologi digital terkini\, semakin memanjakan imajinasi bagi yang menontonnya. Kami berharap karya-karya Basoeki Abdullah bisa dinikmati dengan pendekatan baru yang lebih interaktif dan menarik. Menampilkan karya-karyanya dalam format digital bukan berarti mengurangi nilai aslinya\, tetapi justru membuatnya lebih mudah diakses oleh semua orang\, terutama anak muda yang lebih dekat dengan teknologi. Melalui pameran ini\, kami ingin mengajak mereka mengenal dan menghargai salah satu maestro seni Indonesia dalam bentuk yang menarik dan sesuai dengan era mereka\,” ujar Laila Azra\, pemrakarsa Gondola Team. \nPara pengunjung Galeri Indonesia Kaya dapat menikmati 14 karya dari Basoeki Abdullah yang diolah dan disajikan kembali melalui media virtual seperti lukisan Flora dan Fauna Kekayaan Langka (1980-an)\, Perubahan Kehidupan Dunia (1960-70an)\, Sungai Tak Pernah Kembali (1970-an)\, Pantai Flores (1942)\, Jika Tuhan Murka (1950\, Pemandangan di Kintamani (1950-an)\, Landscape of Gunung Merapi (1970-an). Tak hanya lukisan pemandangan\, pameran digital ini juga menampilkan kisah pewayangan seperti lukisan Bima Suci Berjuanglah Sampai Tercapai (1984)\, Pertempuran Gatotkaca Lawan Antasena Memperebutkan Sembadra (1954)\, Perkelahian Antara Rahwana dan Jatayu Memperebutkan Sita (1950-1954)\, selain itu ada juga lukisan digital dari Potret Diri Basoeki Abdullah (1940-an)\, Potret Diri RA Kartini (1976)\, Potret Diri Ir. Soekarno\, dan juga Potret Diri dr. Wahidin Sudirohusodo. Lukisan-lukisan ini merupakan koleksi dari berbagai tempat\, antara lain Museum Basoeki Abdullah\, Museum Kebangkitan Nasional\, Istana Kepresidenan Jakarta\, Istana Kepresidenan Bogor\, maupun koleksi pribadi kolektor yang menyukai karya Basoeki Abdullah. \nBasoeki Abdullah merupakan maestro lukis Indonesia asal Surakarta yang lahir pada 27 Januari 1915\, yang menorehkan banyak prestasi. Basoeki Abdullah merupakan pelukis beraliran realis dan naturalis\, yang pernah memenangi sayembara melukis Ratu Juliana pada 1948\, mengalahkan 87 pelukis Eropa. Ia pun sempat dipilih oleh Presiden Soekarno sebagai pelukis langganan istana. Berkat keahliannya dalam bidang seni lukis\, Basoeki Abdullah mendapatkan panggilan untuk melukis raja\, kepala negara\, dan mengadakan pameran lukisan di mancanegara\, seperti di Singapura\, Italia\, Portugal\, Inggris\, dan beberapa negara lainnya. Peran Basoeki Abdullah dalam kancah internasional itu membuatnya disebut sebagai duta seni lukis Indonesia. \nCecilia Sidhawati\, putri Basoeki Abdullah mengungkapkan\, ”Kami sangat bangga dan berterima kasih atas diselenggarakannya pameran digital Indonesia Dalam Sketsa: Basoeki Abdullah. Bagi kami\, pameran digital ini merupakan sebuah bentuk penghormatan terhadap karya Basoeki Abdullah. Ini adalah pameran digital pertama yang menghadirkan karya-karya beliau\, dan kami percaya bahwa melalui teknologi\, sosok Basoeki Abdullah dan kecintaannya pada alam dan budaya Indonesia dapat dikenalkan dengan cara yang lebih menarik dan mudah diakses oleh generasi yang lebih muda. Harapan kami\, pameran ini dapat membuat karya-karya Basoeki Abdullah semakin dikenal dan dikenang oleh masyarakat luas sebagai bagian dari warisan budaya bangsa yang berharga. Semoga pameran ini juga dapat menginspirasi para pelukis muda untuk mengeksplorasi berbagai ide untuk karya-karya yang akan mereka buat.” \n***
URL:https://indonesiakaya.com/event/indonesia-dalam-sketsa-basoeki-abdullah-galeri-indonesia-kaya-hadirkan-pengalaman-immersive-karya-basoeki-abdullah-pertama-di-indonesia/
LOCATION:Galeri Indonesia Kaya\, Grand Indonesia – West Mall Lantai 8\, Jl. M.H. Thamrin No.1\, Jakarta\, DKI Jakarta\, 10230\, Indonesia
CATEGORIES:Galeri Indonesia Kaya
ATTACH;FMTTYPE=image/jpeg:https://indonesiakaya.com/wp-content/uploads/2024/11/IG-Feed-1.jpg
END:VEVENT
BEGIN:VEVENT
DTSTART;TZID=Asia/Jakarta:20250301T150000
DTEND;TZID=Asia/Jakarta:20250301T160000
DTSTAMP:20260421T171247
CREATED:20250223T021622Z
LAST-MODIFIED:20250301T000647Z
UID:91723-1740841200-1740844800@indonesiakaya.com
SUMMARY:Balimau oleh Sanggar Seni Cahayo Bundo
DESCRIPTION:Dalam adat Minang\, ada beberapa tradisi yang dilakukan saat bulan Ramadan\, seperti manjalang\, ziarah dan balimau. Manjalang\, atau kunjung mengunjungi\, biasanya dilakukan oleh pihak menantu perempuan mengunjungi rumah keluarga besar mertua sambil membawa beberapa makanan tradisional seperti lamang\, apik ayam\, dan beberapa kue. Hari ziarah datang seminggu sebelum bulan Ramadhan\, dan area di sekitar pandan pakuburan tersebut menjadi ramai dan mereka bekerja secara gotong royong. \nTradisi lainnya bernama balimau\, yang merupakan salah satu ritual yang populer dilakukan sehari sebelum bulan Ramadan datang\, Tradisi ini menjadi kebiasaan turun-temurun sampai saat ini. Setelah melakukan ritual balimau\, terdapat kebiasaan mengulaskan air yang telah diramu dari beberapa ragam bunga yang menghasilkan ciri khas wanigan\, sebagai pertanda bahwa esok telah memasuki bulan Ramadan. \nBalimau memiliki nilai-nilai spiritual di dalam diri masyarakat Minangkabau itu sendiri\, yang kemudian menjadi inspirasi dalam pertunjukan kali ini. Peristiwa balimau yang istimewa dan hanya dilaksanakan satu tahun sekali\, bersama beberapa peristiwa pengantar seperti manjalang dan ziarah dituangkan ke dalam sebuah konsep karya tari. \nTentang Penyelenggara \nPertunjukan kali ini merupakan karya dari Sanggar Seni Cahayo Bundo\, menampilkan koreografi karya Filhamzah.
URL:https://indonesiakaya.com/event/balimau-oleh-sanggar-seni-cahayo-bundo/
LOCATION:Galeri Indonesia Kaya\, Grand Indonesia – West Mall Lantai 8\, Jl. M.H. Thamrin No.1\, Jakarta\, DKI Jakarta\, 10230\, Indonesia
CATEGORIES:Galeri Indonesia Kaya
ATTACH;FMTTYPE=image/jpeg:https://indonesiakaya.com/wp-content/uploads/2025/02/gik-1mar-15-1x1-.jpg
END:VEVENT
BEGIN:VEVENT
DTSTART;TZID=Asia/Jakarta:20250308T150000
DTEND;TZID=Asia/Jakarta:20250308T160000
DTSTAMP:20260421T171247
CREATED:20250301T000301Z
LAST-MODIFIED:20250301T162730Z
UID:91787-1741446000-1741449600@indonesiakaya.com
SUMMARY:Gitar Ramadan oleh Tohpati and Friends
DESCRIPTION:Tohpati and Friends hadir menampilkan musik karya original yang dikemas baik secara instrumental maupun dengan vokal indah\, dengan sentuhan tradisional dan religi. Pertunjukan kali ini diharapkan dapat menampilkan keindahan musik yang bernuansa unik dan menarik. \nTentang Penyelenggara \nTohpati Ario Hutomo (lahir 25 Juli 1971) adalah seorang gitaris jazz dan penulis lagu asal Indonesia. Banyak karya-karyanya memadukan elemen kebudayaan tradisional sejalan dengan usahanya untuk memadukan unsur modern dan unsur tradisional Indonesia dalam musik-musiknya. Aliran musik jazz-nya dipengaruhi oleh banyak gitaris jazz dunia\, tapi yang paling besar adalah pengaruh dari gaya permainan Pat Metheny. Seiring berjalannya waktu\,  Tohpati juga mengasah keterampilannya  sebagai Produser dan Music Director \nTohpati telah beberapa kali mendapat AMI Awards kategori album jazz terbaik\, karya produksi instrumental terbaik\, penata musik terbaik\, lagu terbaik\, dan juga dipercaya sebagai Music Director di konser tunggal beberapa penyanyi papan atas seperti Sheila Majid\, Ruth Sahanaya dan Rossa.
URL:https://indonesiakaya.com/event/gitar-ramadan-oleh-tohpati-and-friends/
LOCATION:Galeri Indonesia Kaya\, Grand Indonesia – West Mall Lantai 8\, Jl. M.H. Thamrin No.1\, Jakarta\, DKI Jakarta\, 10230\, Indonesia
CATEGORIES:Galeri Indonesia Kaya
ATTACH;FMTTYPE=image/jpeg:https://indonesiakaya.com/wp-content/uploads/2025/03/gik-8mar-1x1-.jpg
END:VEVENT
BEGIN:VEVENT
DTSTART;TZID=Asia/Jakarta:20250313T133000
DTEND;TZID=Asia/Jakarta:20250316T163000
DTSTAMP:20260421T171247
CREATED:20250304T102825Z
LAST-MODIFIED:20250306T011247Z
UID:91889-1741872600-1742142600@indonesiakaya.com
SUMMARY:Ruang Kreatif : Dari Perca Jadi Patchwork oleh Eka Yunita
DESCRIPTION:Galeri Indonesia Kaya menyimpan banyak batik berkualitas dari penjuru Pulau Jawa\, yang dipakai untuk kebutuhan dekoratif dan busana. Banyaknya kebutuhan batik membuat GIK memiliki beberapa kain batik yang berasal dari batik tulis\, cap\, maupun kombinasi yang masih sangat apik dan menunggu kehidupan kedua. \nBersama dengan patchwork artist Eka Yunita\, GIK menawarkan kesempatan pada Penikmat Seni untuk ngabuburit di auditorium GIK sambil membuat tote bag serbaguna dengan patchwork menggunakan kain batik dari GIK. \n13 dan 14 Maret 2025 \nPukul 13.30-16.30 WIB \nDi Galeri Indonesia Kaya \nKelas ini dapat diikuti oleh pemula (13 tahun++)  \nGRATIS (bahan baku dan peralatan disediakan)
URL:https://indonesiakaya.com/event/ruang-kreatif-dari-perca-jadi-patchwork-oleh-eka-yunita/
LOCATION:Galeri Indonesia Kaya\, Grand Indonesia – West Mall Lantai 8\, Jl. M.H. Thamrin No.1\, Jakarta\, DKI Jakarta\, 10230\, Indonesia
CATEGORIES:Galeri Indonesia Kaya
ATTACH;FMTTYPE=image/jpeg:https://indonesiakaya.com/wp-content/uploads/2025/03/web-square.jpg
END:VEVENT
BEGIN:VEVENT
DTSTART;TZID=Asia/Jakarta:20250315T150000
DTEND;TZID=Asia/Jakarta:20250315T160000
DTSTAMP:20260421T171247
CREATED:20250307T103703Z
LAST-MODIFIED:20250318T230247Z
UID:91899-1742050800-1742054400@indonesiakaya.com
SUMMARY:Harmoni Islam dalam Warisan Tradisi oleh Altajaru Indonesia Ensemble
DESCRIPTION:Pertunjukan kali ini menghadirkan seni tradisi yang bertemakan unsur religi\, dibawakan dengan ekspresi seni khas Altajaru berupa musik\, syair\, dan tari. Beberapa bagian dalam pertunjukan ini terinspirasi dari seni tradisi Indonesia yang dipengaruhi oleh budaya Islam\, digarap ulang dengan karakter dan identitas Altajaru. Pertunjukan ini merupakan bentuk ekspresi seni dan eksistensi Altajaru di tengah masyarakat Indonesia dan penikmat seni. \nTentang Penyelenggara \nAltajaru Indonesia Ensemble adalah sebuah komunitas seni yang dibentuk atas dasar keprihatinan terhadap minimnya minat generasi muda pada musik tradisional. Altajaru menghidupkan kembali minat terhadap musik tradisi dengan pendekatan modern\, agar lebih relevan bagi generasi muda. \nAltajaru telah terlibat dalam berbagai pertunjukan\, di antaranya Sound Expression tahun 2006\, kolaborasi bersama Dian HP di Berlin tahun 2016. Anusirwan sebagai founder Altajaru juga telah menerima penghargaan dalam kategori Pelopor dan Pembaharu pada Anugerah Kebudayaan Indonesia 2022 dari KEMENDIKBUD
URL:https://indonesiakaya.com/event/harmoni-islam-dalam-warisan-tradisi-oleh-altajaru-indonesia-ensemble/
LOCATION:Galeri Indonesia Kaya\, Grand Indonesia – West Mall Lantai 8\, Jl. M.H. Thamrin No.1\, Jakarta\, DKI Jakarta\, 10230\, Indonesia
CATEGORIES:Galeri Indonesia Kaya
ATTACH;FMTTYPE=image/jpeg:https://indonesiakaya.com/wp-content/uploads/2025/03/GIK-15mar25-1x1-1.jpg
END:VEVENT
END:VCALENDAR