BEGIN:VCALENDAR
VERSION:2.0
PRODID:-//Indonesia Kaya - ECPv6.15.15//NONSGML v1.0//EN
CALSCALE:GREGORIAN
METHOD:PUBLISH
X-WR-CALNAME:Indonesia Kaya
X-ORIGINAL-URL:https://indonesiakaya.com
X-WR-CALDESC:Events for Indonesia Kaya
REFRESH-INTERVAL;VALUE=DURATION:PT1H
X-Robots-Tag:noindex
X-PUBLISHED-TTL:PT1H
BEGIN:VTIMEZONE
TZID:Asia/Jakarta
BEGIN:STANDARD
TZOFFSETFROM:+0700
TZOFFSETTO:+0700
TZNAME:WIB
DTSTART:20230101T000000
END:STANDARD
END:VTIMEZONE
BEGIN:VEVENT
DTSTART;TZID=Asia/Jakarta:20240907T150000
DTEND;TZID=Asia/Jakarta:20240907T160000
DTSTAMP:20260422T020755
CREATED:20240831T230143Z
LAST-MODIFIED:20240902T001053Z
UID:86779-1725721200-1725724800@indonesiakaya.com
SUMMARY:Musikal: Gatot oleh Wayang Orang Bharata
DESCRIPTION:Musikal ini membawakan cerita perjuangan seorang pria Bernama Gatot yang ingin mendapatkan pemeran Gatot Kaca di sebuah sanggar yang sedang mencari dan mengaudisi penampil yang tepat untuk memerankan karakter legendaris tersebut. Ia mempunyai seorang sahabat baik Bernama Giwa yang selalu membantu menyemangati dan menyakinkan bahwa Gatot mampu untuk mendapatkan peran utama yang diimpikannya. \nHalangan dan rintangan terjadi dalam perjalanan Gatot untuk menggapai peran impiannya\, serta pengalamannya saat mengejar impian tersebut membuatnya semakin menjiwai dan merefleksikan karakter dari seorang Gatot Kaca. \nWayang Bharata adalah sebuah paguyuban kesenian tradisi (wayang orang) yang telah berdiri sejak tahun 1972 dan berdiri hingga sekarang dalam melestariakan dan mengembangkan seni wayang orang di Jakarta\, dan ber generasi hingga generasi 10 hingga sekarang.
URL:https://indonesiakaya.com/event/musikal-gatot-oleh-wayang-orang-bharata/
LOCATION:Galeri Indonesia Kaya\, Grand Indonesia – West Mall Lantai 8\, Jl. M.H. Thamrin No.1\, Jakarta\, DKI Jakarta\, 10230\, Indonesia
CATEGORIES:Galeri Indonesia Kaya
ATTACH;FMTTYPE=image/jpeg:https://indonesiakaya.com/wp-content/uploads/2024/09/gik-7sept-15-1x1-3.jpg
END:VEVENT
BEGIN:VEVENT
DTSTART;TZID=Asia/Jakarta:20240907T190000
DTEND;TZID=Asia/Jakarta:20240907T200000
DTSTAMP:20260422T020755
CREATED:20240831T230418Z
LAST-MODIFIED:20240902T001108Z
UID:86791-1725735600-1725739200@indonesiakaya.com
SUMMARY:Musikal: Gatot oleh Wayang Orang Bharata - 19.00
DESCRIPTION:Musikal ini membawakan cerita perjuangan seorang pria Bernama Gatot yang ingin mendapatkan pemeran Gatot Kaca di sebuah sanggar yang sedang mencari dan mengaudisi penampil yang tepat untuk memerankan karakter legendaris tersebut. Ia mempunyai seorang sahabat baik Bernama Giwa yang selalu membantu menyemangati dan menyakinkan bahwa Gatot mampu untuk mendapatkan peran utama yang diimpikannya. \nHalangan dan rintangan terjadi dalam perjalanan Gatot untuk menggapai peran impiannya\, serta pengalamannya saat mengejar impian tersebut membuatnya semakin menjiwai dan merefleksikan karakter dari seorang Gatot Kaca. \nWayang Bharata adalah sebuah paguyuban kesenian tradisi (wayang orang) yang telah berdiri sejak tahun 1972 dan berdiri hingga sekarang dalam melestariakan dan mengembangkan seni wayang orang di Jakarta\, dan ber generasi hingga generasi 10 hingga sekarang.
URL:https://indonesiakaya.com/event/musikal-gatot-oleh-wayang-orang-bharata-19-00/
LOCATION:Galeri Indonesia Kaya\, Grand Indonesia – West Mall Lantai 8\, Jl. M.H. Thamrin No.1\, Jakarta\, DKI Jakarta\, 10230\, Indonesia
CATEGORIES:Galeri Indonesia Kaya
ATTACH;FMTTYPE=image/jpeg:https://indonesiakaya.com/wp-content/uploads/2024/09/gik-7sept-19-1x1-3.jpg
END:VEVENT
BEGIN:VEVENT
DTSTART;TZID=Asia/Jakarta:20240914T150000
DTEND;TZID=Asia/Jakarta:20240914T160000
DTSTAMP:20260422T020755
CREATED:20240908T055239Z
LAST-MODIFIED:20240909T053131Z
UID:87031-1726326000-1726329600@indonesiakaya.com
SUMMARY:Musikal: Lutung Kasarung oleh EKI Dance Company
DESCRIPTION:Drama  musikal kali ini mengadaptasi salah satu cerita Indonesia yang populer di semua kalangan\, Lutung Kasarung\, dengan konsep percampuran antara tradisi dan modern. Lutung Kasarung adalah sebuah legenda dari Tanah Sunda yang bercerita tentang Sanghyang Guruminda yang turun ke bumi dengan sosok lutung yang buruk rupa\, yang kemudian turut membantu seorang putri bernama Purbasari. \nPurbasari dikutuk oleh saudaranya yang jahat\, Purbararang\, sehingga ia memiliki sakit kulit dimana kulitnya melepuh\, bernanah\, dan menyebarkan bau tidak enak. Ia akhirnya diasingkan ke tengah hutan dan bertemu dengan Lutung Kasarung. Lutung Kasarung membantu Purbasari untuk kembali ke istana dan mengambil haknya yang telah dirampas oleh Purbararang. \nEKI Dance Company adalah perusahaan seni profesional di Indonesia dengan penari dan tim produksi yang bekerja penuh waktu dan tinggal dalam asrama. Selama lebih dari 25 tahun\, EKI Dance Company telah menghasilkan ratusan karya tari\, musikal\, dan beragam jenis pertunjukan lainnya\, serta memiliki tim produksi pertunjukan\, show management\, event organizer yang kerap dipercaya untuk berbagai event nasional dan internasional.
URL:https://indonesiakaya.com/event/musikal-lutung-kasarung-oleh-eki-dance-company/
LOCATION:Galeri Indonesia Kaya\, Grand Indonesia – West Mall Lantai 8\, Jl. M.H. Thamrin No.1\, Jakarta\, DKI Jakarta\, 10230\, Indonesia
CATEGORIES:Galeri Indonesia Kaya
ATTACH;FMTTYPE=image/jpeg:https://indonesiakaya.com/wp-content/uploads/2024/09/gik-14september-15-1x1-1.jpg
END:VEVENT
BEGIN:VEVENT
DTSTART;TZID=Asia/Jakarta:20240914T190000
DTEND;TZID=Asia/Jakarta:20240914T200000
DTSTAMP:20260422T020755
CREATED:20240908T055617Z
LAST-MODIFIED:20240909T083604Z
UID:87037-1726340400-1726344000@indonesiakaya.com
SUMMARY:Musikal: Lutung Kasarung oleh EKI Dance Company - 19.00
DESCRIPTION:Drama  musikal kali ini mengadaptasi salah satu cerita Indonesia yang populer di semua kalangan\, Lutung Kasarung\, dengan konsep percampuran antara tradisi dan modern. Lutung Kasarung adalah sebuah legenda dari Tanah Sunda yang bercerita tentang Sanghyang Guruminda yang turun ke bumi dengan sosok lutung yang buruk rupa\, yang kemudian turut membantu seorang putri bernama Purbasari. \nPurbasari dikutuk oleh saudaranya yang jahat\, Purbararang\, sehingga ia memiliki sakit kulit dimana kulitnya melepuh\, bernanah\, dan menyebarkan bau tidak enak. Ia akhirnya diasingkan ke tengah hutan dan bertemu dengan Lutung Kasarung. Lutung Kasarung membantu Purbasari untuk kembali ke istana dan mengambil haknya yang telah dirampas oleh Purbararang. \nEKI Dance Company adalah perusahaan seni profesional di Indonesia dengan penari dan tim produksi yang bekerja penuh waktu dan tinggal dalam asrama. Selama lebih dari 25 tahun\, EKI Dance Company telah menghasilkan ratusan karya tari\, musikal\, dan beragam jenis pertunjukan lainnya\, serta memiliki tim produksi pertunjukan\, show management\, event organizer yang kerap dipercaya untuk berbagai event nasional dan internasional.
URL:https://indonesiakaya.com/event/musikal-lutung-kasarung-oleh-eki-dance-company-19-00/
LOCATION:Galeri Indonesia Kaya\, Grand Indonesia – West Mall Lantai 8\, Jl. M.H. Thamrin No.1\, Jakarta\, DKI Jakarta\, 10230\, Indonesia
CATEGORIES:Galeri Indonesia Kaya
ATTACH;FMTTYPE=image/jpeg:https://indonesiakaya.com/wp-content/uploads/2024/09/gik-14september-19-1x1-1.jpg
END:VEVENT
BEGIN:VEVENT
DTSTART;TZID=Asia/Jakarta:20240921T150000
DTEND;TZID=Asia/Jakarta:20240921T160000
DTSTAMP:20260422T020755
CREATED:20240913T182800Z
LAST-MODIFIED:20240919T071308Z
UID:87258-1726930800-1726934400@indonesiakaya.com
SUMMARY:Musikal: Malin Kundang oleh BOOW Live
DESCRIPTION:Setelah sukses dengan Malin Kundang di #MusikalDiRumahAja dengan lagu yang sempat viral saat pandemi\, BOOW Live kembali menghadirkan Malin Kundang dengan format panggung di Galeri Indonesia Kaya. \nMalin Kundang bercerita tentang anak yang durhaka kepada orang tua. Setelah meninggalkan ibunya di desa untuk merantau\, Malin Kundang kembali sebagai saudagar kaya dengan harta berlimpah\, dan juga telah berhasil memperistri seorang gadis dari keluarga terhormat. Saat sang ibu ingin bertemu dengan Malin\, ia menolak mengakui bahwa perempuan tua dan renta adalah ibunya dan bahkan mengusirnya dengan kejam. Seketika\, doa Ibu yang geram didengar dan membawa bencana kepada sang anak durhaka. \nBoow live merupakan sebuah rumah produksi yang telah memproduksi pertunjukan musikal dalam format hybrid dan film.
URL:https://indonesiakaya.com/event/musikal-malin-kundang-oleh-boow-live/
LOCATION:Galeri Indonesia Kaya\, Grand Indonesia – West Mall Lantai 8\, Jl. M.H. Thamrin No.1\, Jakarta\, DKI Jakarta\, 10230\, Indonesia
CATEGORIES:Galeri Indonesia Kaya
ATTACH;FMTTYPE=image/jpeg:https://indonesiakaya.com/wp-content/uploads/2024/09/gik-21sep-15-1x1-1.jpg
END:VEVENT
BEGIN:VEVENT
DTSTART;TZID=Asia/Jakarta:20240921T190000
DTEND;TZID=Asia/Jakarta:20240921T200000
DTSTAMP:20260422T020755
CREATED:20240913T183225Z
LAST-MODIFIED:20240919T065612Z
UID:87264-1726945200-1726948800@indonesiakaya.com
SUMMARY:Musikal: Malin Kundang oleh BOOW Live - 19.00
DESCRIPTION:Setelah sukses dengan Malin Kundang di #MusikalDiRumahAja dengan lagu yang sempat viral saat pandemi\, BOOW Live kembali menghadirkan Malin Kundang dengan format panggung di Galeri Indonesia Kaya. \nMalin Kundang bercerita tentang anak yang durhaka kepada orang tua. Setelah meninggalkan ibunya di desa untuk merantau\, Malin Kundang kembali sebagai saudagar kaya dengan harta berlimpah\, dan juga telah berhasil memperistri seorang gadis dari keluarga terhormat. Saat sang ibu ingin bertemu dengan Malin\, ia menolak mengakui bahwa perempuan tua dan renta adalah ibunya dan bahkan mengusirnya dengan kejam. Seketika\, doa Ibu yang geram didengar dan membawa bencana kepada sang anak durhaka. \nBoow live merupakan sebuah rumah produksi yang telah memproduksi pertunjukan musikal dalam format hybrid dan film.
URL:https://indonesiakaya.com/event/musikal-malin-kundang-oleh-boow-live-19-00/
LOCATION:Galeri Indonesia Kaya\, Grand Indonesia – West Mall Lantai 8\, Jl. M.H. Thamrin No.1\, Jakarta\, DKI Jakarta\, 10230\, Indonesia
CATEGORIES:Galeri Indonesia Kaya
ATTACH;FMTTYPE=image/jpeg:https://indonesiakaya.com/wp-content/uploads/2024/09/gik-21sep-19-1x1-1.jpg
END:VEVENT
BEGIN:VEVENT
DTSTART;TZID=Asia/Jakarta:20240922T190000
DTEND;TZID=Asia/Jakarta:20240922T200000
DTSTAMP:20260422T020755
CREATED:20240919T000756Z
LAST-MODIFIED:20240920T041243Z
UID:87554-1727031600-1727035200@indonesiakaya.com
SUMMARY:Wanita Berdendang oleh Rieka Roslan & NadaDara
DESCRIPTION:Wanita Berdendang adalah karya Rieka Roslan untuk perempuan dengan membentuk NadaDara yang berisi musisi perempuan. Wanita yang bersuara tentang pelestarian budaya Indonesia dan juga menjadi perempuan yang tetap kreatif dan menjadi bagian dari industri musik Indonesia dengan tetap menjaga kodratnya sebagai perempuan\, baik sebagai ibu maupun istri.
URL:https://indonesiakaya.com/event/wanita-berdendang-oleh-rieka-roslan-nadadara/
LOCATION:Galeri Indonesia Kaya\, Grand Indonesia – West Mall Lantai 8\, Jl. M.H. Thamrin No.1\, Jakarta\, DKI Jakarta\, 10230\, Indonesia
CATEGORIES:Galeri Indonesia Kaya
ATTACH;FMTTYPE=image/jpeg:https://indonesiakaya.com/wp-content/uploads/2024/09/IGF-Wanita-Berdendang-02.jpg
END:VEVENT
BEGIN:VEVENT
DTSTART;TZID=Asia/Jakarta:20240928T150000
DTEND;TZID=Asia/Jakarta:20240928T160000
DTSTAMP:20260422T020755
CREATED:20240920T133630Z
LAST-MODIFIED:20240923T005002Z
UID:87624-1727535600-1727539200@indonesiakaya.com
SUMMARY:Musikal: Batu Gantung oleh Voice of Indonesia
DESCRIPTION:Drama Musikal berlatar belakang budaya Batak ini merupakan persembahan dari Voice of Indonesia\, mengangkat perpaduan Seni Suara\, Tari dan Peran terbungkus dalam satu pementasan. Pertunjukan ini menceritakan kembali legenda Batu Gantung\, salah satu objek wisata yang ada di Sumatra Utara. \nBatu Gantung bercerita tentang seorang gadis cantik jelita yang menolak dinikahkan dengan paribannya\, sehingga ia\, ditemani dengan anjingnya yang setia\, memutuskan untuk mengambil langkah yang berujung dengan akhir yang tragis. \nVoice Of Indonesia merupakan sebuah kelompok Vokal\, Tari dan Akting pimpinan Rio Silaen. Voice of Indonesia telah memproduksi beberapa Teater Musikal: Opera Batak\, Sinamot\, Jangan Panggil Aku Butet\, dan banyak lagi. Kelompok ini juga telah menjalani banyak misi kebudayaan ke Espalanade\, Singapore; Sydney – Australia\, New York – USA\, dan juga pernah memproduksi film musikal berjudul Surga Dibawah Langit.
URL:https://indonesiakaya.com/event/musikal-batu-gantung-oleh-voice-of-indonesia/
LOCATION:Galeri Indonesia Kaya\, Grand Indonesia – West Mall Lantai 8\, Jl. M.H. Thamrin No.1\, Jakarta\, DKI Jakarta\, 10230\, Indonesia
CATEGORIES:Galeri Indonesia Kaya
ATTACH;FMTTYPE=image/jpeg:https://indonesiakaya.com/wp-content/uploads/2024/09/gik-28sep-15-1x1-1.jpg
END:VEVENT
BEGIN:VEVENT
DTSTART;TZID=Asia/Jakarta:20240928T190000
DTEND;TZID=Asia/Jakarta:20240928T200000
DTSTAMP:20260422T020755
CREATED:20240920T134304Z
LAST-MODIFIED:20240923T005003Z
UID:87633-1727550000-1727553600@indonesiakaya.com
SUMMARY:Musikal: Batu Gantung oleh Voice of Indonesia - 19.00
DESCRIPTION:Drama Musikal berlatar belakang budaya Batak ini merupakan persembahan dari Voice of Indonesia\, mengangkat perpaduan Seni Suara\, Tari dan Peran terbungkus dalam satu pementasan. Pertunjukan ini menceritakan kembali legenda Batu Gantung\, salah satu objek wisata yang ada di Sumatra Utara. \nBatu Gantung bercerita tentang seorang gadis cantik jelita yang menolak dinikahkan dengan paribannya\, sehingga ia\, ditemani dengan anjingnya yang setia\, memutuskan untuk mengambil langkah yang berujung dengan akhir yang tragis. \nVoice Of Indonesia merupakan sebuah kelompok Vokal\, Tari dan Akting pimpinan Rio Silaen. Voice of Indonesia telah memproduksi beberapa Teater Musikal: Opera Batak\, Sinamot\, Jangan Panggil Aku Butet\, dan banyak lagi. Kelompok ini juga telah menjalani banyak misi kebudayaan ke Espalanade\, Singapore; Sydney – Australia\, New York – USA\, dan juga pernah memproduksi film musikal berjudul Surga Dibawah Langit.
URL:https://indonesiakaya.com/event/musikal-batu-gantung-oleh-voice-of-indonesia-19-00/
LOCATION:Galeri Indonesia Kaya\, Grand Indonesia – West Mall Lantai 8\, Jl. M.H. Thamrin No.1\, Jakarta\, DKI Jakarta\, 10230\, Indonesia
CATEGORIES:Galeri Indonesia Kaya
ATTACH;FMTTYPE=image/jpeg:https://indonesiakaya.com/wp-content/uploads/2024/09/gik-28sep-19-1x1-1.jpg
END:VEVENT
END:VCALENDAR