BEGIN:VCALENDAR
VERSION:2.0
PRODID:-//Indonesia Kaya - ECPv6.15.15//NONSGML v1.0//EN
CALSCALE:GREGORIAN
METHOD:PUBLISH
X-WR-CALNAME:Indonesia Kaya
X-ORIGINAL-URL:https://indonesiakaya.com
X-WR-CALDESC:Events for Indonesia Kaya
REFRESH-INTERVAL;VALUE=DURATION:PT1H
X-Robots-Tag:noindex
X-PUBLISHED-TTL:PT1H
BEGIN:VTIMEZONE
TZID:Asia/Jakarta
BEGIN:STANDARD
TZOFFSETFROM:+0700
TZOFFSETTO:+0700
TZNAME:WIB
DTSTART:20230101T000000
END:STANDARD
END:VTIMEZONE
BEGIN:VEVENT
DTSTART;TZID=Asia/Jakarta:20240706T150000
DTEND;TZID=Asia/Jakarta:20240706T160000
DTSTAMP:20260422T051603
CREATED:20240630T170247Z
LAST-MODIFIED:20240701T002955Z
UID:85407-1720278000-1720281600@indonesiakaya.com
SUMMARY:Teater Musikal Anak "Simpai Lidi" oleh Peqho Kids
DESCRIPTION:Teater Musikal Anak “SIMPAI LIDI” adalah sebuah drama musikal mengusung konsep untuk meramaikan Hari Anak Nasional yang jatuh pada tanggal 23 Juli 2024. Seluruh pengisi acara adalah anak-anak Indonesia berbakat dengan rentang usia 4 – 16 tahun yang tergabung dalam Peqho Kids\, dibantu dengan penyutradaraan dan konsep panggung dari Peqho Teater. \nPeqho Kids adalah kelas akting untuk anak usia 5 – 15 tahun yang didirikan oleh Peqho Teater sejak 2016. Tujuan dari kelas ini adalah menumbuhkan rasa percaya diri\, keberanian\, kerjasama\, leadership dan kreatifitas anak. Lewat Peqho Kids\, karakter anak berkembang menjadi pribadi yang siap untuk masa depannya kelak. Sejak 2021\, Peqho Kids dibuka di Sagala Studio dan telah memiliki 24 siswa/siswi aktif. Sebagian anak Peqho Kids telah menjadi aktor film\, iklan dan panggung musikal di dunia entertainment. Peqho Kids tidak mencetak anak mejadi artis. Setiap anak diberikan pilihan untuk mengaplikasikan skillnya dalam berbagai bidang yang mereka minati. \nPeqho Kids juga memiliki beberapa prestasi dan pengalaman\, mulai dari penampilan mereka di Kidzania\, kerjasama dengan BPJS Ketenagakerjaan dalam acara memperingati Hari Anak Nasional 2017\, serta dua aktor cilik Peqho Kids tampil dalam acara The Futurist Summit 2023 di Ciputra Art Pereneur\, persembahan Pijar Foundation yang dihadiri Presiden Joko Widodo beserta jajaran Menteri dan tokoh Nasional.
URL:https://indonesiakaya.com/event/teater-musikal-anak-simpai-lidi-oleh-peqho-kids/
LOCATION:Galeri Indonesia Kaya\, Grand Indonesia – West Mall Lantai 8\, Jl. M.H. Thamrin No.1\, Jakarta\, DKI Jakarta\, 10230\, Indonesia
CATEGORIES:Agenda Budaya,Galeri Indonesia Kaya
ATTACH;FMTTYPE=image/jpeg:https://indonesiakaya.com/wp-content/uploads/2024/07/gik-6juli-1x1-1.jpg
END:VEVENT
BEGIN:VEVENT
DTSTART;TZID=Asia/Jakarta:20240706T190000
DTEND;TZID=Asia/Jakarta:20240706T200000
DTSTAMP:20260422T051603
CREATED:20240630T171606Z
LAST-MODIFIED:20240630T174755Z
UID:85412-1720292400-1720296000@indonesiakaya.com
SUMMARY:Teater Musikal Anak "Simpai Lidi" oleh Peqho Kids - 19.00
DESCRIPTION:Teater Musikal Anak “SIMPAI LIDI” adalah sebuah drama musikal mengusung konsep untuk meramaikan Hari Anak Nasional yang jatuh pada tanggal 23 Juli 2024. Seluruh pengisi acara adalah anak-anak Indonesia berbakat dengan rentang usia 4 – 16 tahun yang tergabung dalam Peqho Kids\, dibantu dengan penyutradaraan dan konsep panggung dari Peqho Teater. \nPeqho Kids adalah kelas akting untuk anak usia 5 – 15 tahun yang didirikan oleh Peqho Teater sejak 2016. Tujuan dari kelas ini adalah menumbuhkan rasa percaya diri\, keberanian\, kerjasama\, leadership dan kreatifitas anak. Lewat Peqho Kids\, karakter anak berkembang menjadi pribadi yang siap untuk masa depannya kelak. Sejak 2021\, Peqho Kids dibuka di Sagala Studio dan telah memiliki 24 siswa/siswi aktif. Sebagian anak Peqho Kids telah menjadi aktor film\, iklan dan panggung musikal di dunia entertainment. Peqho Kids tidak mencetak anak mejadi artis. Setiap anak diberikan pilihan untuk mengaplikasikan skillnya dalam berbagai bidang yang mereka minati. \nPeqho Kids juga memiliki beberapa prestasi dan pengalaman\, mulai dari penampilan mereka di Kidzania\, kerjasama dengan BPJS Ketenagakerjaan dalam acara memperingati Hari Anak Nasional 2017\, serta dua aktor cilik Peqho Kids tampil dalam acara The Futurist Summit 2023 di Ciputra Art Pereneur\, persembahan Pijar Foundation yang dihadiri Presiden Joko Widodo beserta jajaran Menteri dan tokoh Nasional.
URL:https://indonesiakaya.com/event/teater-musikal-anak-simpai-lidi-oleh-peqho-kids-19-00/
LOCATION:Galeri Indonesia Kaya\, Grand Indonesia – West Mall Lantai 8\, Jl. M.H. Thamrin No.1\, Jakarta\, DKI Jakarta\, 10230\, Indonesia
CATEGORIES:Agenda Budaya,Galeri Indonesia Kaya
ATTACH;FMTTYPE=image/jpeg:https://indonesiakaya.com/wp-content/uploads/2024/07/gik-6juli-1x1-1.jpg
END:VEVENT
BEGIN:VEVENT
DTSTART;TZID=Asia/Jakarta:20240713T150000
DTEND;TZID=Asia/Jakarta:20240713T160000
DTSTAMP:20260422T051603
CREATED:20240706T150359Z
LAST-MODIFIED:20240706T153506Z
UID:85486-1720882800-1720886400@indonesiakaya.com
SUMMARY:Ballet ABC oleh Ballet.id
DESCRIPTION:Kisah pendek tentang ballerina cilik yang ingin mengenal dan memahami ballet lebih dalam. Suatu hari saat sedang berlatih ballet\, ia bertanya kepada gurunya tentang bagaimana sejarah kemunculan ballet. Sang guru dengan senang hati menceritakan kepada murid-muridnya tentang bagaimana ballet pertama kali muncul. \nCerita ini dimulai pada abad ke-15 pada zaman Renaissance di Italia. Pada abad ke-16\, ballet mulai berkembang di Prancis dan satu abad kemudian mulai dibakukan. Ballet sendiri masuk ke Indonesia pada tahun 1929\, pada masa penjajahan Belanda. Ada beberapa penari Indonesia yang berkesempatan mempelajari tari ballet ini dari orang-orang Belanda\, hingga akhirnya pada tahun 1950-an\, sekolah-sekolah ballet mulai dipimpin oleh orang-orang Indonesia\, berinteraksi dan berintegrasi dalam kesenian Indonesia\, dan turut mewarnai dunia tari Indonesia. \nTak banyak masyarakat yang mengetahui sejarah kemunculan ballet\, perkembangannya\, dan bagaimana ballet masuk ke Indonesia\, berinteraksi dengan kebudayaan Indonesia\, serta turut mewarnai kesenian di Indonesia. Dalam pertunjukan ini\, penonton diajak berkenalan lebih jauh dengan dunia ballet sambil turut merasakan bergerak dan bernostalgia dengan lagu anak-anak Indonesia. \nYayasan Bina Ballet Indonesia (Ballet.id) adalah organisasi non-profit yang berdiri sejak tahun 2014. Atas dasar kecintaan pada dunia tari\, khususnya ballet dan kontemporer\, Ballet.id hadir untuk turut membangun ekosistem dunia ballet Indonesia\, membantu penari-penari Indonesia agar dapat berkembang seutuhnya\, membawa ballet kepada masyarakat agar seniman-seniman tari lebih dikenal dan dihargai. Tiga program utama Ballet.id untuk mewujudkan visi-misinya adalah Pendidikan (lokakarya dan masterclass)\, Pertunjukan (showcase & gala) dan Program Pengabdian kepada Masyarakat (kelas-kelas gratis bagi anak-anak kurang mampu dan difabel). \nProgram-program yang dilaksanakan di Ballet.id diharapkan dapat menjadi pintu 2 arah bagi Indonesia dan dunia\, mampu menempatkan Indonesia di peta tari dunia dan juga menjadi pintu bagi dunia internasional untuk mengenal talenta tari Indonesia dan kebudayaan Indonesia.
URL:https://indonesiakaya.com/event/ballet-abc-oleh-ballet-id/
LOCATION:Galeri Indonesia Kaya\, Grand Indonesia – West Mall Lantai 8\, Jl. M.H. Thamrin No.1\, Jakarta\, DKI Jakarta\, 10230\, Indonesia
CATEGORIES:Agenda Budaya,Galeri Indonesia Kaya
ATTACH;FMTTYPE=image/jpeg:https://indonesiakaya.com/wp-content/uploads/2024/07/GIK-13juli-1x1-1.jpg
END:VEVENT
BEGIN:VEVENT
DTSTART;TZID=Asia/Jakarta:20240713T190000
DTEND;TZID=Asia/Jakarta:20240713T200000
DTSTAMP:20260422T051603
CREATED:20240706T151602Z
LAST-MODIFIED:20240706T153528Z
UID:85492-1720897200-1720900800@indonesiakaya.com
SUMMARY:Ballet ABC oleh Ballet.id - 19.00
DESCRIPTION:Kisah pendek tentang ballerina cilik yang ingin mengenal dan memahami ballet lebih dalam. Suatu hari saat sedang berlatih ballet\, ia bertanya kepada gurunya tentang bagaimana sejarah kemunculan ballet. Sang guru dengan senang hati menceritakan kepada murid-muridnya tentang bagaimana ballet pertama kali muncul. \nCerita ini dimulai pada abad ke-15 pada zaman Renaissance di Italia. Pada abad ke-16\, ballet mulai berkembang di Prancis dan satu abad kemudian mulai dibakukan. Ballet sendiri masuk ke Indonesia pada tahun 1929\, pada masa penjajahan Belanda. Ada beberapa penari Indonesia yang berkesempatan mempelajari tari ballet ini dari orang-orang Belanda\, hingga akhirnya pada tahun 1950-an\, sekolah-sekolah ballet mulai dipimpin oleh orang-orang Indonesia\, berinteraksi dan berintegrasi dalam kesenian Indonesia\, dan turut mewarnai dunia tari Indonesia. \nTak banyak masyarakat yang mengetahui sejarah kemunculan ballet\, perkembangannya\, dan bagaimana ballet masuk ke Indonesia\, berinteraksi dengan kebudayaan Indonesia\, serta turut mewarnai kesenian di Indonesia. Dalam pertunjukan ini\, penonton diajak berkenalan lebih jauh dengan dunia ballet sambil turut merasakan bergerak dan bernostalgia dengan lagu anak-anak Indonesia. \nYayasan Bina Ballet Indonesia (Ballet.id) adalah organisasi non-profit yang berdiri sejak tahun 2014. Atas dasar kecintaan pada dunia tari\, khususnya ballet dan kontemporer\, Ballet.id hadir untuk turut membangun ekosistem dunia ballet Indonesia\, membantu penari-penari Indonesia agar dapat berkembang seutuhnya\, membawa ballet kepada masyarakat agar seniman-seniman tari lebih dikenal dan dihargai. Tiga program utama Ballet.id untuk mewujudkan visi-misinya adalah Pendidikan (lokakarya dan masterclass)\, Pertunjukan (showcase & gala) dan Program Pengabdian kepada Masyarakat (kelas-kelas gratis bagi anak-anak kurang mampu dan difabel). \nProgram-program yang dilaksanakan di Ballet.id diharapkan dapat menjadi pintu 2 arah bagi Indonesia dan dunia\, mampu menempatkan Indonesia di peta tari dunia dan juga menjadi pintu bagi dunia internasional untuk mengenal talenta tari Indonesia dan kebudayaan Indonesia.
URL:https://indonesiakaya.com/event/ballet-abc-oleh-ballet-id-19-00/
LOCATION:Galeri Indonesia Kaya\, Grand Indonesia – West Mall Lantai 8\, Jl. M.H. Thamrin No.1\, Jakarta\, DKI Jakarta\, 10230\, Indonesia
CATEGORIES:Agenda Budaya,Galeri Indonesia Kaya
ATTACH;FMTTYPE=image/jpeg:https://indonesiakaya.com/wp-content/uploads/2024/07/GIK-13juli-1x1-1.jpg
END:VEVENT
BEGIN:VEVENT
DTSTART;TZID=Asia/Jakarta:20240720T150000
DTEND;TZID=Asia/Jakarta:20240720T160000
DTSTAMP:20260422T051603
CREATED:20240713T043901Z
LAST-MODIFIED:20240713T193316Z
UID:85656-1721487600-1721491200@indonesiakaya.com
SUMMARY:Senandung Masa Kecil oleh TRUST Junior Orchestra
DESCRIPTION:TRUST Junior Orchestra membawakan 9 lagu anak Indonesia dari berbagai era dalam rangka memperingati Hari Anak Nasional. Dengan menampilkan lagu anak\, pertunjukan ini diharapkan dapat memberikan inspirasi dan dampak positif pada anak-anak dengan menciptakan wadah berkomunitas  melalui pelatihan dan pertunjukan musik. \nTRUST Junior Orchestra berharap dapat berpartisipasi untuk memperluas jangkauan dan apresiasi budaya dan seni\, terlebihnya lagu anak\, kepada khalayak yang lebih luas\, serta membagikan efek positif bermusik bagi generasi muda. \nTRUST Junior Orchestra terbentuk pada tahun 2018 yang berangkat dari keresahan akan langkanya sebuah lingkungan komunitas orkestra anak yang berbasis pada edukasi. Terdiri dari anggota yang berusia 7 hingga 20 tahun\, tercipta wadah berkomunitas melalui pelatihan dan pertunjukan musik dengan peserta yang datang dari berbagai latar belakang. TRUST Junior Orchestra berada dalam naungan langsung dari Trinity Youth Symphony Orchestra (TRUST Orchestra).
URL:https://indonesiakaya.com/event/senandung-masa-kecil-oleh-trust-junior-orchestra/
LOCATION:Galeri Indonesia Kaya\, Grand Indonesia – West Mall Lantai 8\, Jl. M.H. Thamrin No.1\, Jakarta\, DKI Jakarta\, 10230\, Indonesia
CATEGORIES:Galeri Indonesia Kaya
ATTACH;FMTTYPE=image/jpeg:https://indonesiakaya.com/wp-content/uploads/2024/07/GIK-20juli-1x1-1.jpg
END:VEVENT
BEGIN:VEVENT
DTSTART;TZID=Asia/Jakarta:20240720T190000
DTEND;TZID=Asia/Jakarta:20240720T200000
DTSTAMP:20260422T051603
CREATED:20240713T044706Z
LAST-MODIFIED:20240713T194257Z
UID:85667-1721502000-1721505600@indonesiakaya.com
SUMMARY:Senandung Masa Kecil oleh TRUST Junior Orchestra - 19.00
DESCRIPTION:TRUST Junior Orchestra membawakan 9 lagu anak Indonesia dari berbagai era dalam rangka memperingati Hari Anak Nasional. Dengan menampilkan lagu anak\, pertunjukan ini diharapkan dapat memberikan inspirasi dan dampak positif pada anak-anak dengan menciptakan wadah berkomunitas  melalui pelatihan dan pertunjukan musik. \nTRUST Junior Orchestra berharap dapat berpartisipasi untuk memperluas jangkauan dan apresiasi budaya dan seni\, terlebihnya lagu anak\, kepada khalayak yang lebih luas\, serta membagikan efek positif bermusik bagi generasi muda. \nTRUST Junior Orchestra terbentuk pada tahun 2018 yang berangkat dari keresahan akan langkanya sebuah lingkungan komunitas orkestra anak yang berbasis pada edukasi. Terdiri dari anggota yang berusia 7 hingga 20 tahun\, tercipta wadah berkomunitas melalui pelatihan dan pertunjukan musik dengan peserta yang datang dari berbagai latar belakang. TRUST Junior Orchestra berada dalam naungan langsung dari Trinity Youth Symphony Orchestra (TRUST Orchestra).
URL:https://indonesiakaya.com/event/senandung-masa-kecil-oleh-trust-junior-orchestra-19-00/
LOCATION:Galeri Indonesia Kaya\, Grand Indonesia – West Mall Lantai 8\, Jl. M.H. Thamrin No.1\, Jakarta\, DKI Jakarta\, 10230\, Indonesia
CATEGORIES:Galeri Indonesia Kaya
ATTACH;FMTTYPE=image/jpeg:https://indonesiakaya.com/wp-content/uploads/2024/07/GIK-20juli-1x1-1.jpg
END:VEVENT
BEGIN:VEVENT
DTSTART;VALUE=DATE:20240726
DTEND;VALUE=DATE:20240729
DTSTAMP:20260422T051603
CREATED:20240724T003350Z
LAST-MODIFIED:20240725T053217Z
UID:85770-1721952000-1722211199@indonesiakaya.com
SUMMARY:Kebaya Fest 2024
DESCRIPTION:Kebaya Fest 2024 turut merayakan Hari Kebaya Nasional yang jatuh pada tanggal 24 Juli 2024\, mengembalikan kebaya sebagai pakaian untuk berkegiatan sehari-hari\, baik dalam setting formal\, informal\, dan hiburan. \nKebaya Fest 2024 tanggal 27 Juli 2024\nPukul 20.30 WIB\nPos Bloc Jakarta\nBusana: Kebaya dan wastra Indonesia\nRegistrasi online dibuka 25 Juli 2024 pukul 09.00 WIB\nRegistrasi ulang di Pos Bloc dibuka 27 Juli 2024 pukul 18.30 WIB\nGRATIS! Tempat Terbatas \nAcara:\nKebaya Berdendang\nMenghadirkan Fanny Soegi yang akan menghibur para pengunjung dengan suara indah dan lagu-lagunya yang puitis. \nDansa Dansi\nDansa Dansi bersama Kembalikan Baliku mengundang para pengunjung untuk turut berdansa dan bersuka ria dengan lagu-lagu Nusantara yang dikemas apik oleh Sri Panggung\, B.O.H FM dan Nada Serodja.\nSaksikan juga Instalasi Kebaya Kala Kini oleh Didiet Maulana\, Pasar Kebaya\, Kebaya Menari dan banyak lagi. \nKebaya Fest mulai dibuka tanggal 27 Juli 2024 pukul 18.30 WIB di Pos Bloc Jakarta.\nUntuk reservasi tiket Online Kebaya Fest 2024 dibuka mulai tanggal 25 Juli 2024 pukul 09.00 WIB.\nTempat terbatas\, akan dibuka juga reservasi di tempat.
URL:https://indonesiakaya.com/event/kebaya-fest-2024/
LOCATION:Pos Bloc Jakarta
CATEGORIES:Galeri Indonesia Kaya
ATTACH;FMTTYPE=image/jpeg:https://indonesiakaya.com/wp-content/uploads/2024/07/kebaya-fest-1x1-1.jpg
END:VEVENT
BEGIN:VEVENT
DTSTART;TZID=Asia/Jakarta:20240727T150000
DTEND;TZID=Asia/Jakarta:20240727T160000
DTSTAMP:20260422T051603
CREATED:20240721T001053Z
LAST-MODIFIED:20240721T004014Z
UID:85741-1722092400-1722096000@indonesiakaya.com
SUMMARY:Drama Musikal Panggung Boneka Jalu Jaki oleh deHakims
DESCRIPTION:Drama Musikal Panggung Boneka Jalu Jaki oleh deHakims adalah drama musikal penuh warna yang dikemas apik untuk menghibur dan mengedukasi anak-anak. Pertunjukan ini memadukan musik lintas budaya dari berbagai daerah di Indonesia dengan tarian tradisional dan permainan rakyat yang seru. Permainan angklung dan lagu-lagu daerah dalam pertunjukan ini juga menjadi salah satu wujud pengenalan kekayaan budaya Indonesia. Pertunjukan dikemas melalui cerita panggung boneka Jalu dan Jaki dengan memasukan unsur musikal dan teatrikal secara live dan interaktif. \nDrama Musikal ini\, bukan hanya pertunjukan biasa\, tetapi juga sebuah pengalaman budaya yang memperkenalkan kekayaan tradisi Indonesia kepada anak-anak. Pertunjukan ini mengajarkan anak-anak tentang pentingnya persahabatan\, kerjasama\, gotong royong\, dan kecintaan terhadap budaya Indonesia. \nDEHAKIMS sebagai penyelenggara Drama Musikal Panggung Boneka Jalu Jaki oleh deHakims\, melalui sub channelnya DeHakims Junior\, memiliki komitmen kuat untuk menghadirkan tayangan hiburan yang edukatif bagi anak-anak. deHakims percaya bahwa melalui pertunjukan yang menarik dan berkualitas\, anak-anak dapat belajar dan tumbuh dengan cara yang menyenangkan.
URL:https://indonesiakaya.com/event/drama-musikal-panggung-boneka-jalu-jaki-oleh-dehakims/
LOCATION:Galeri Indonesia Kaya\, Grand Indonesia – West Mall Lantai 8\, Jl. M.H. Thamrin No.1\, Jakarta\, DKI Jakarta\, 10230\, Indonesia
CATEGORIES:Galeri Indonesia Kaya
ATTACH;FMTTYPE=image/jpeg:https://indonesiakaya.com/wp-content/uploads/2024/07/GIK-27juli-1x1-1.jpg
END:VEVENT
BEGIN:VEVENT
DTSTART;TZID=Asia/Jakarta:20240727T190000
DTEND;TZID=Asia/Jakarta:20240727T200000
DTSTAMP:20260422T051603
CREATED:20240721T001228Z
LAST-MODIFIED:20240721T004033Z
UID:85746-1722106800-1722110400@indonesiakaya.com
SUMMARY:Drama Musikal Panggung Boneka Jalu Jaki oleh deHakims - 19.00
DESCRIPTION:Drama Musikal Panggung Boneka Jalu Jaki oleh deHakims adalah drama musikal penuh warna yang dikemas apik untuk menghibur dan mengedukasi anak-anak. Pertunjukan ini memadukan musik lintas budaya dari berbagai daerah di Indonesia dengan tarian tradisional dan permainan rakyat yang seru. Permainan angklung dan lagu-lagu daerah dalam pertunjukan ini juga menjadi salah satu wujud pengenalan kekayaan budaya Indonesia. Pertunjukan dikemas melalui cerita panggung boneka Jalu dan Jaki dengan memasukan unsur musikal dan teatrikal secara live dan interaktif. \nDrama Musikal ini\, bukan hanya pertunjukan biasa\, tetapi juga sebuah pengalaman budaya yang memperkenalkan kekayaan tradisi Indonesia kepada anak-anak. Pertunjukan ini mengajarkan anak-anak tentang pentingnya persahabatan\, kerjasama\, gotong royong\, dan kecintaan terhadap budaya Indonesia. \nDEHAKIMS sebagai penyelenggara Drama Musikal Panggung Boneka Jalu Jaki oleh deHakims\, melalui sub channelnya DeHakims Junior\, memiliki komitmen kuat untuk menghadirkan tayangan hiburan yang edukatif bagi anak-anak. deHakims percaya bahwa melalui pertunjukan yang menarik dan berkualitas\, anak-anak dapat belajar dan tumbuh dengan cara yang menyenangkan.
URL:https://indonesiakaya.com/event/drama-musikal-panggung-boneka-jalu-jaki-oleh-dehakims-19-00/
LOCATION:Galeri Indonesia Kaya\, Grand Indonesia – West Mall Lantai 8\, Jl. M.H. Thamrin No.1\, Jakarta\, DKI Jakarta\, 10230\, Indonesia
CATEGORIES:Galeri Indonesia Kaya
ATTACH;FMTTYPE=image/jpeg:https://indonesiakaya.com/wp-content/uploads/2024/07/GIK-27juli-1x1-1.jpg
END:VEVENT
END:VCALENDAR