BEGIN:VCALENDAR
VERSION:2.0
PRODID:-//Indonesia Kaya - ECPv6.15.15//NONSGML v1.0//EN
CALSCALE:GREGORIAN
METHOD:PUBLISH
X-WR-CALNAME:Indonesia Kaya
X-ORIGINAL-URL:https://indonesiakaya.com
X-WR-CALDESC:Events for Indonesia Kaya
REFRESH-INTERVAL;VALUE=DURATION:PT1H
X-Robots-Tag:noindex
X-PUBLISHED-TTL:PT1H
BEGIN:VTIMEZONE
TZID:Asia/Jakarta
BEGIN:STANDARD
TZOFFSETFROM:+0700
TZOFFSETTO:+0700
TZNAME:WIB
DTSTART:20230101T000000
END:STANDARD
END:VTIMEZONE
BEGIN:VEVENT
DTSTART;TZID=Asia/Jakarta:20240601T150000
DTEND;TZID=Asia/Jakarta:20240601T160000
DTSTAMP:20260422T064325
CREATED:20240526T001519Z
LAST-MODIFIED:20240526T230445Z
UID:84311-1717254000-1717257600@indonesiakaya.com
SUMMARY:Akar Rasa oleh Ardhanari Performing Arts Studio
DESCRIPTION:Dua tarian yang dibawakan dalam pertunjukan ini sangat berbeda satu sama lain. Tari Sari Wiraga adalah dasar tari Jawa gaya Jogja\, sedangkan Tari Pakarena adalah sebuah tarian persembahan dari Sulawesi. Kontrasnya musik dan tarian mengandung filosofi hidup bahwa apapun yang kita hadapi\, kita tetap harus tenang. Setelah kedua pertunjukan tersebut\, ada diskusi dan perbincangan mengenai filosofi tari. Acara ditutup dengan kegiatan interaktif dimana semua penonton diminta untuk bersama-sama menggerakan tubuh Bersama penampil. Maksud dari kegiatan interaktif ini agar penonton merasakan bahwa menari adalah sebuah kegiatan untuk menyalurkan energi\, proses self acceptance dan self healing. \nStudio Tari dan Karawitan Jawa Ardhanari pertama didirikan padai tahun 1979 di Bandung oleh Maria Darmaningsih\, Hoetomo Djoko Wiyoto\, dan FX Widaryanto dan beroperasional hingga tahun 1991. Pada tahun 2012\, Ardhanari berubah menjadi Ardhanari Performing Arts Studio & Management dan didirikan kembali di Jakarta. Ardhanari terdiri dari individu-individu yang memperjuangkan seni dan Budaya sebagai aspek penting kehidupan dalam masyarakat yang progresif dan bahagia. Studio tari ini berjalan dengan keyakinan pada kekuatan transformatif seni untuk menciptakan hubungan\, empati\, dan pemahaman yang tulus antara satu sama lain. \nMaria Darmaningsih S.Sn.\, M.Ed.\, lulus dari jurusan Tari di Akademi Seni Tari Indonesia Yogyakarta\, Sarjana Antropologi Tari dari institut Kesenian Jakarta (IKJ) dan Master of Education dari University of Lethbridge\, Alberta\, Kanada. Sejak kecil menari Jawa Klasik\, ia mendalami tari kontemproer dan menari Dalam karya Ben Suharto\, Sardono W. Kusumo\, Retno Maruti\, dan Sulistyo Tirtokusumo. Maria adalah Dosen Tari di Fakultas Seni Pertunjukan IKJ sejak tahun 1987 hingga 2021. Di awal masa jabatannya sebagai Dosen\, pada tahun 1992\, Maria dan rekan-rekannya mendirikan Indonesian Dance Festival. Pada tahun 2018\, Maria menerima penghargaan Kebudayaan “Chevalier dans l’Ordre des Arts et Lettres” dari Kementrian Kebudayaan Republik Prancis.
URL:https://indonesiakaya.com/event/akar-rasa-oleh-ardhanari-performing-arts-studio/
LOCATION:Galeri Indonesia Kaya\, Grand Indonesia – West Mall Lantai 8\, Jl. M.H. Thamrin No.1\, Jakarta\, DKI Jakarta\, 10230\, Indonesia
CATEGORIES:Agenda Budaya,Galeri Indonesia Kaya
ATTACH;FMTTYPE=image/jpeg:https://indonesiakaya.com/wp-content/uploads/2024/05/gik-1juni-1x1-1.jpg
END:VEVENT
BEGIN:VEVENT
DTSTART;TZID=Asia/Jakarta:20240601T190000
DTEND;TZID=Asia/Jakarta:20240601T200000
DTSTAMP:20260422T064325
CREATED:20240526T001813Z
LAST-MODIFIED:20240526T230550Z
UID:84316-1717268400-1717272000@indonesiakaya.com
SUMMARY:Akar Rasa oleh Ardhanari Performing Arts Studio - 19.00
DESCRIPTION:Dua tarian yang dibawakan dalam pertunjukan ini sangat berbeda satu sama lain. Tari Sari Wiraga adalah dasar tari Jawa gaya Jogja\, sedangkan Tari Pakarena adalah sebuah tarian persembahan dari Sulawesi. Kontrasnya musik dan tarian mengandung filosofi hidup bahwa apapun yang kita hadapi\, kita tetap harus tenang. Setelah kedua pertunjukan tersebut\, ada diskusi dan perbincangan mengenai filosofi tari. Acara ditutup dengan kegiatan interaktif dimana semua penonton diminta untuk bersama-sama menggerakan tubuh Bersama penampil. Maksud dari kegiatan interaktif ini agar penonton merasakan bahwa menari adalah sebuah kegiatan untuk menyalurkan energi\, proses self acceptance dan self healing. \nStudio Tari dan Karawitan Jawa Ardhanari pertama didirikan padai tahun 1979 di Bandung oleh Maria Darmaningsih\, Hoetomo Djoko Wiyoto\, dan FX Widaryanto dan beroperasional hingga tahun 1991. Pada tahun 2012\, Ardhanari berubah menjadi Ardhanari Performing Arts Studio & Management dan didirikan kembali di Jakarta. Ardhanari terdiri dari individu-individu yang memperjuangkan seni dan Budaya sebagai aspek penting kehidupan dalam masyarakat yang progresif dan bahagia. Studio tari ini berjalan dengan keyakinan pada kekuatan transformatif seni untuk menciptakan hubungan\, empati\, dan pemahaman yang tulus antara satu sama lain. \nMaria Darmaningsih S.Sn.\, M.Ed.\, lulus dari jurusan Tari di Akademi Seni Tari Indonesia Yogyakarta\, Sarjana Antropologi Tari dari institut Kesenian Jakarta (IKJ) dan Master of Education dari University of Lethbridge\, Alberta\, Kanada. Sejak kecil menari Jawa Klasik\, ia mendalami tari kontemproer dan menari Dalam karya Ben Suharto\, Sardono W. Kusumo\, Retno Maruti\, dan Sulistyo Tirtokusumo. Maria adalah Dosen Tari di Fakultas Seni Pertunjukan IKJ sejak tahun 1987 hingga 2021. Di awal masa jabatannya sebagai Dosen\, pada tahun 1992\, Maria dan rekan-rekannya mendirikan Indonesian Dance Festival. Pada tahun 2018\, Maria menerima penghargaan Kebudayaan “Chevalier dans l’Ordre des Arts et Lettres” dari Kementrian Kebudayaan Republik Prancis.
URL:https://indonesiakaya.com/event/akar-rasa-oleh-ardhanari-performing-arts-studio-19-00/
LOCATION:Galeri Indonesia Kaya\, Grand Indonesia – West Mall Lantai 8\, Jl. M.H. Thamrin No.1\, Jakarta\, DKI Jakarta\, 10230\, Indonesia
CATEGORIES:Agenda Budaya,Galeri Indonesia Kaya
ATTACH;FMTTYPE=image/jpeg:https://indonesiakaya.com/wp-content/uploads/2024/05/gik-1juni-1x1-1.jpg
END:VEVENT
BEGIN:VEVENT
DTSTART;TZID=Asia/Jakarta:20240608T150000
DTEND;TZID=Asia/Jakarta:20240608T160000
DTSTAMP:20260422T064325
CREATED:20240601T053945Z
LAST-MODIFIED:20240602T063317Z
UID:84639-1717858800-1717862400@indonesiakaya.com
SUMMARY:Puspa Warni Sumatra oleh Komunitas Budaya Antarshukha
DESCRIPTION:Puspawarni Sumatra adalah suatu penampilan tari dan musik dari penjuru Sumatra\, seperti Tari Tor-Tor si Hutur Sanggul (Sumatra Utara)\, Tari Melinting dari Lampung\, Zapin Melayu dan Tari Mainang Pak Malau Melayu. Di Puspawarni ini juga akan menampilkan narasumber Tari Melinting dari Lampung\, juga penampilan tari-tarian dan musik dari penjuru Pulau Sumatra. Pertunjukan ini terlaksana agar generasi muda atau tua tidak melupakan nilai seni budaya. \nAntarsukha merupakan komunitas peduli akan budaya nusantara\, beranggotakan ibu-ibu yang sangat peduli akan tradisi dan budaya. Antarsukha memiliki beberapa prestasi\, di antaranya adalah sebagai Penari Terbaik Sejabotabek 1995\, Festival Muara Singapura dan juga kerap mengikuti misi budaya di berbagai negara.
URL:https://indonesiakaya.com/event/puspa-warni-sumatra-oleh-komunitas-budaya-antarshukha/
LOCATION:Galeri Indonesia Kaya\, Grand Indonesia – West Mall Lantai 8\, Jl. M.H. Thamrin No.1\, Jakarta\, DKI Jakarta\, 10230\, Indonesia
CATEGORIES:Agenda Budaya,Galeri Indonesia Kaya
ATTACH;FMTTYPE=image/jpeg:https://indonesiakaya.com/wp-content/uploads/2024/06/gik-8juni-1x1-1.jpg
END:VEVENT
BEGIN:VEVENT
DTSTART;TZID=Asia/Jakarta:20240608T190000
DTEND;TZID=Asia/Jakarta:20240608T200000
DTSTAMP:20260422T064325
CREATED:20240601T054532Z
LAST-MODIFIED:20240602T063807Z
UID:84645-1717873200-1717876800@indonesiakaya.com
SUMMARY:Puspa Warni Sumatra oleh Komunitas Budaya Antarshukha - 19.00
DESCRIPTION:Puspawarni Sumatra adalah suatu penampilan tari dan musik dari penjuru Sumatra\, seperti Tari Tor-Tor si Hutur Sanggul (Sumatra Utara)\, Tari Melinting dari Lampung\, Zapin Melayu dan Tari Mainang Pak Malau Melayu. Di Puspawarni ini juga akan menampilkan narasumber Tari Melinting dari Lampung\, juga penampilan tari-tarian dan musik dari penjuru Pulau Sumatra. Pertunjukan ini terlaksana agar generasi muda atau tua tidak melupakan nilai seni budaya. \nAntarsukha merupakan komunitas peduli akan budaya nusantara\, beranggotakan ibu-ibu yang sangat peduli akan tradisi dan budaya. Antarsukha memiliki beberapa prestasi\, di antaranya adalah sebagai Penari Terbaik Sejabotabek 1995\, Festival Muara Singapura dan juga kerap mengikuti misi budaya di berbagai negara.
URL:https://indonesiakaya.com/event/puspa-warni-sumatra-oleh-komunitas-budaya-antarshukha-19-00/
LOCATION:Galeri Indonesia Kaya\, Grand Indonesia – West Mall Lantai 8\, Jl. M.H. Thamrin No.1\, Jakarta\, DKI Jakarta\, 10230\, Indonesia
CATEGORIES:Agenda Budaya,Galeri Indonesia Kaya
ATTACH;FMTTYPE=image/jpeg:https://indonesiakaya.com/wp-content/uploads/2024/06/gik-8juni-1x1-1.jpg
END:VEVENT
BEGIN:VEVENT
DTSTART;TZID=Asia/Jakarta:20240615T150000
DTEND;TZID=Asia/Jakarta:20240615T160000
DTSTAMP:20260422T064325
CREATED:20240608T093902Z
LAST-MODIFIED:20240609T043558Z
UID:84768-1718463600-1718467200@indonesiakaya.com
SUMMARY:Langkah Bersenandung oleh Parewa Limo Suku
DESCRIPTION:Karya musik ini berlatar belakang musik tradisi Minangkabau yang digarap baru dalam bentuk penyajiannya. Pola dasar musik ini berpijak dari tatanan kehidupan masyarakat sehari-hari dalam bertani dalam memanen padi di sawah. \nTong berfungsi sebagai tempat memisahkan batang dengan buah padi dihadirkan sebagai simbol dalam mendatangkan bunyi\, niru dihadirkan merupakan media untuk memisahkan padi yang bernas dan hampa\, sedangkan sumber utama bunyi berasal dari tangkelek yang berfungsi membuat pola ritme sehingga menjadi sebuah perpaduan bunyi yang utuh. Sedih\, senang\,kecewa\, dan marah semua tergambar dalam penyajian komposisi musik ini. \nKelompok Kesenian Tradisonal Minangkabau Parewa Limo Suku didirikan pada tangga 4 April 2003. Pendirian kelompok ini didalatar belakangi keinginan dari beberapa orang pelaku seni yang mengiginkan sebuah wadah  berkesenian untuk menggali dan mengembangkan serta melestarikan kesenian tradisional Minangkabau terutama dalam bidang musik. Atas prakasa tokoh masyarakat\, dibentuklah sebuah komunitas budaya dengan nama kelompok  kesenian tradisional Minang Grup Parewa Limo Suku . \nKelompok ini berupaya untuk melestarikan seni tradisi kepada generasi muda sebagai penerus seni tradisi masa depan\, dengan melakukan pelatihan seni tradisi adat dan budaya Minangkabau kepada generasi muda\, memperkenalkan kesenian tradisional Minangkabau kepada masyarakakat luas melalui berbagai media\, dan mengembangkan kesenian musik tradisional melalui inovasi dalam bentuk karya-karya baru yang mengikuti perkembangan zaman.
URL:https://indonesiakaya.com/event/langkah-bersenandung-oleh-parewa-limo-suku/
LOCATION:Galeri Indonesia Kaya\, Grand Indonesia – West Mall Lantai 8\, Jl. M.H. Thamrin No.1\, Jakarta\, DKI Jakarta\, 10230\, Indonesia
CATEGORIES:Agenda Budaya,Galeri Indonesia Kaya
ATTACH;FMTTYPE=image/jpeg:https://indonesiakaya.com/wp-content/uploads/2024/06/GIK-15juni-1x1-1.jpg
END:VEVENT
BEGIN:VEVENT
DTSTART;TZID=Asia/Jakarta:20240615T190000
DTEND;TZID=Asia/Jakarta:20240615T200000
DTSTAMP:20260422T064325
CREATED:20240608T094035Z
LAST-MODIFIED:20240609T043723Z
UID:84770-1718478000-1718481600@indonesiakaya.com
SUMMARY:Langkah Bersenandung oleh Parewa Limo Suku - 19.00
DESCRIPTION:Karya musik ini berlatar belakang musik tradisi Minangkabau yang digarap baru dalam bentuk penyajiannya. Pola dasar musik ini berpijak dari tatanan kehidupan masyarakat sehari-hari dalam bertani dalam memanen padi di sawah. \nTong berfungsi sebagai tempat memisahkan batang dengan buah padi dihadirkan sebagai simbol dalam mendatangkan bunyi\, niru dihadirkan merupakan media untuk memisahkan padi yang bernas dan hampa\, sedangkan sumber utama bunyi berasal dari tangkelek yang berfungsi membuat pola ritme sehingga menjadi sebuah perpaduan bunyi yang utuh. Sedih\, senang\,kecewa\, dan marah semua tergambar dalam penyajian komposisi musik ini. \nKelompok Kesenian Tradisonal Minangkabau Parewa Limo Suku didirikan pada tangga 4 April 2003. Pendirian kelompok ini didalatar belakangi keinginan dari beberapa orang pelaku seni yang mengiginkan sebuah wadah  berkesenian untuk menggali dan mengembangkan serta melestarikan kesenian tradisional Minangkabau terutama dalam bidang musik. Atas prakasa tokoh masyarakat\, dibentuklah sebuah komunitas budaya dengan nama kelompok  kesenian tradisional Minang Grup Parewa Limo Suku . \nKelompok ini berupaya untuk melestarikan seni tradisi kepada generasi muda sebagai penerus seni tradisi masa depan\, dengan melakukan pelatihan seni tradisi adat dan budaya Minangkabau kepada generasi muda\, memperkenalkan kesenian tradisional Minangkabau kepada masyarakakat luas melalui berbagai media\, dan mengembangkan kesenian musik tradisional melalui inovasi dalam bentuk karya-karya baru yang mengikuti perkembangan zaman.
URL:https://indonesiakaya.com/event/langkah-bersenandung-oleh-parewa-limo-suku-19-00/
LOCATION:Galeri Indonesia Kaya\, Grand Indonesia – West Mall Lantai 8\, Jl. M.H. Thamrin No.1\, Jakarta\, DKI Jakarta\, 10230\, Indonesia
CATEGORIES:Agenda Budaya,Galeri Indonesia Kaya
ATTACH;FMTTYPE=image/jpeg:https://indonesiakaya.com/wp-content/uploads/2024/06/GIK-15juni-1x1-1.jpg
END:VEVENT
BEGIN:VEVENT
DTSTART;TZID=Asia/Jakarta:20240622T150000
DTEND;TZID=Asia/Jakarta:20240622T160000
DTSTAMP:20260422T064325
CREATED:20240616T042537Z
LAST-MODIFIED:20240616T053114Z
UID:84926-1719068400-1719072000@indonesiakaya.com
SUMMARY:Seribu Akal si Gede Boong oleh Sinar Norray bersama Mandra
DESCRIPTION:Merayakan ulang tahun Jakarta dan mempersembahkan warisan budaya Betawi dengan cara yang menyenangkan dan inovatif kepada penonton\, Sinar Norray kembali dengan cerita komedi yang menarik dan menghibur\, berkolaborasi dengan artis Betawi Mandra. \nSeribu Akal Si Gede Boong adalah sebuah komedi (bodoran) yang mengisahkan petualangan kocak dari anak Betawi dengan cerita-cerita bohongnya yang mengundang tawa dan pelajaran berharga. Dengan penampilan khusus dari komedian dan artis Betawi terkenal\, acara ini menawarkan humor segar dan situasi komedik yang khas\, diiringi oleh musik dan tarian tradisional Betawi. \nCerita ini tidak hanya menghibur\, tetapi juga memperkenalkan penonton pada kekayaan budaya Betawi melalui cerita dan pertunjukan yang penuh warna. Sebuah hiburan sempurna untuk seluruh keluarga dan pecinta seni. \nSinar Norray (SiNorray) merupakan gabungan dari kata sinar dan Norrya\, nama panggilan panggung Ibu Hj. Nori\, yang terkenal dengan nama Mpok Nori. Berdirinya Sanggar Sinar Norray di tahun 1995 berawal dari ketidaksengajaan yang kemudian berlanjut menjadi wadah seni Betawi tradisional. Dipimpin oleh Hj. Nori\, Sinar Norray mulai melakukan pementasan Lenong betawi. Seiring berjalannya waktu\,Sanggar Sinar Norray mulai menyajikan berbagai pertunjukan kesenian Betawi seperti tari dan musik. \nSetelah ditinggal selama-lamanya oleh Almh. Ibu Hj.Nori\, Sinar Norray dipimpin oleh Mpok Engkar Karmilasari. Pada tahun 2012\, SiNorray merilis sebuah album yang mengaransemen ulang lagu-lagu gambang kromong Betawi dengan sentuhan tradisi modern.
URL:https://indonesiakaya.com/event/seribu-akal-si-gede-boong-oleh-sinar-norray-bersama-mandra/
LOCATION:Galeri Indonesia Kaya\, Grand Indonesia – West Mall Lantai 8\, Jl. M.H. Thamrin No.1\, Jakarta\, DKI Jakarta\, 10230\, Indonesia
CATEGORIES:Agenda Budaya,Galeri Indonesia Kaya
ATTACH;FMTTYPE=image/jpeg:https://indonesiakaya.com/wp-content/uploads/2024/06/gik-22juni-1x1-1.jpg
END:VEVENT
BEGIN:VEVENT
DTSTART;TZID=Asia/Jakarta:20240622T190000
DTEND;TZID=Asia/Jakarta:20240622T200000
DTSTAMP:20260422T064325
CREATED:20240616T042953Z
LAST-MODIFIED:20240616T053125Z
UID:84931-1719082800-1719086400@indonesiakaya.com
SUMMARY:Seribu Akal si Gede Boong oleh Sinar Norray bersama Mandra - 19.00
DESCRIPTION:Merayakan ulang tahun Jakarta dan mempersembahkan warisan budaya Betawi dengan cara yang menyenangkan dan inovatif kepada penonton\, Sinar Norray kembali dengan cerita komedi yang menarik dan menghibur\, berkolaborasi dengan artis Betawi Mandra. \nSeribu Akal Si Gede Boong adalah sebuah komedi (bodoran) yang mengisahkan petualangan kocak dari anak Betawi dengan cerita-cerita bohongnya yang mengundang tawa dan pelajaran berharga. Dengan penampilan khusus dari komedian dan artis Betawi terkenal\, acara ini menawarkan humor segar dan situasi komedik yang khas\, diiringi oleh musik dan tarian tradisional Betawi. \nCerita ini tidak hanya menghibur\, tetapi juga memperkenalkan penonton pada kekayaan budaya Betawi melalui cerita dan pertunjukan yang penuh warna. Sebuah hiburan sempurna untuk seluruh keluarga dan pecinta seni. \nSinar Norray (SiNorray) merupakan gabungan dari kata sinar dan Norrya\, nama panggilan panggung Ibu Hj. Nori\, yang terkenal dengan nama Mpok Nori. Berdirinya Sanggar Sinar Norray di tahun 1995 berawal dari ketidaksengajaan yang kemudian berlanjut menjadi wadah seni Betawi tradisional. Dipimpin oleh Hj. Nori\, Sinar Norray mulai melakukan pementasan Lenong betawi. Seiring berjalannya waktu\,Sanggar Sinar Norray mulai menyajikan berbagai pertunjukan kesenian Betawi seperti tari dan musik. \nSetelah ditinggal selama-lamanya oleh Almh. Ibu Hj.Nori\, Sinar Norray dipimpin oleh Mpok Engkar Karmilasari. Pada tahun 2012\, SiNorray merilis sebuah album yang mengaransemen ulang lagu-lagu gambang kromong Betawi dengan sentuhan tradisi modern.
URL:https://indonesiakaya.com/event/seribu-akal-si-gede-boong-oleh-sinar-norray-bersama-mandra-19-00/
LOCATION:Galeri Indonesia Kaya\, Grand Indonesia – West Mall Lantai 8\, Jl. M.H. Thamrin No.1\, Jakarta\, DKI Jakarta\, 10230\, Indonesia
CATEGORIES:Agenda Budaya,Galeri Indonesia Kaya
ATTACH;FMTTYPE=image/jpeg:https://indonesiakaya.com/wp-content/uploads/2024/06/gik-22juni-1x1-1.jpg
END:VEVENT
BEGIN:VEVENT
DTSTART;TZID=Asia/Jakarta:20240629T150000
DTEND;TZID=Asia/Jakarta:20240629T160000
DTSTAMP:20260422T064325
CREATED:20240623T174627Z
LAST-MODIFIED:20240624T055120Z
UID:85323-1719673200-1719676800@indonesiakaya.com
SUMMARY:Sinergi oleh KunoKini & SvaraLiane
DESCRIPTION:Pertunjukan KunoKini & SvaraLiane yang bertajuk Sinergi kali ini menggabungkan alat tradisional seperti kangkanung\, bonang\, sokoguru\, kulintang dan modern seperti saxophone\, gitar dan electric bass. KunoKini akan menampilkan kekayaan Indonesia dalam bentuk modern. \nKunoKini pertama kali didirikan pada tahun 2003 ketika sekelompok pemuda Indonesia berkolaborasi dalam festival cerita rakyat di Wismar\, Jerman. Mereka mengeksplorasi penggunaan alat musik tradisional Indonesia seperti Seruling Bambu\, Kerang Irian\, Gendang Jawa\, Kolintang\, Rebana Biang\, Saluang\, Krcekan\, dan masih banyak lagi. KunoKini selalu berupaya membangkitkan antusiasme masyarakat dengan mengedepankan kekayaan alat musik tradisional Indonesia. \nPenerapan eksplorasi harmonis yang mereka lakukan mampu memghasilkan karya luar biasa yang kaya akan budaya. KunoKini mengadakan konser solo pertama mereka pada tahun 2008 dan terus mengadakan beberapa konser solo sepanjang tahun bertajuk “Kembali ke Akar” dan “Reinkarnasi” di beberapa kota di Indonesia\, bersamaan dengan perilisan album debut mereka pada tahun 2010. \nPada tahun 2013\, KunoKini melengkapkan Namanya menjadi KunoKini & SvaraLiane\, yang berarti “suara lainnya” dari Bahasa Sansekerta dan Jawa dimana KunoKini sejak saat itu menampilkan alat-alat tradisional digabung dengan brass section\, bass\, gitar dan DJ. Pada tahun 2013 KunoKini Kembali menggelar konser solo bertajuk “Masa Lalu untuk Masa Depan”\, sebuah retrospektif yang menceritakan 10 tahun perjuangan KunoKini dalam mempromosikan alat music tradisional Indonesia. KunoKini telah berbagi panggung dan berkolaborasi dengan artis lokal dan internasional terkemuka seperti Conkarah (Jamaika)\, Ras Muhamad\, Kalulla\, JFlow\, Haviz Dsectella MC\, Indra Lesmana\, Wukir (Senyawa)\, Nova (Filastine)\, Glenn Fredly\, DJ Lethal (Limp Bizkit)\, Samifati (Prancis)\, Liquid Silva (Kanada) dan MAS1A (Singapura/Kanada). Selain itu KunoKini memproduksi dubplate untuk DJ Walshy Fire (Major Lazer). \nSelain berkarya sebagai artis\, KunoKini juga mengikuti program Artist Residency yang bekerja sama dengan British Council di Jakarta\, dimana KunoKini berkolaborasi dan bertukar Budaya dengan seniman asal Inggris Raya selama enam minggu dan kemudian KunoKini tampil di Belfast\, Irlandia Utara bersama seniman tersebut.
URL:https://indonesiakaya.com/event/sinergi-oleh-kunokini-svaraliane/
LOCATION:Galeri Indonesia Kaya\, Grand Indonesia – West Mall Lantai 8\, Jl. M.H. Thamrin No.1\, Jakarta\, DKI Jakarta\, 10230\, Indonesia
CATEGORIES:Agenda Budaya,Galeri Indonesia Kaya
ATTACH;FMTTYPE=image/jpeg:https://indonesiakaya.com/wp-content/uploads/2024/06/GIK-29juni-1x1-1.jpg
END:VEVENT
BEGIN:VEVENT
DTSTART;TZID=Asia/Jakarta:20240629T190000
DTEND;TZID=Asia/Jakarta:20240629T200000
DTSTAMP:20260422T064325
CREATED:20240623T174922Z
LAST-MODIFIED:20240624T055204Z
UID:85328-1719687600-1719691200@indonesiakaya.com
SUMMARY:Sinergi oleh KunoKini & SvaraLiane - 19.00
DESCRIPTION:Pertunjukan KunoKini & SvaraLiane yang bertajuk Sinergi kali ini menggabungkan alat tradisional seperti kangkanung\, bonang\, sokoguru\, kulintang dan modern seperti saxophone\, gitar dan electric bass. KunoKini akan menampilkan kekayaan Indonesia dalam bentuk modern. \nKunoKini pertama kali didirikan pada tahun 2003 ketika sekelompok pemuda Indonesia berkolaborasi dalam festival cerita rakyat di Wismar\, Jerman. Mereka mengeksplorasi penggunaan alat musik tradisional Indonesia seperti Seruling Bambu\, Kerang Irian\, Gendang Jawa\, Kolintang\, Rebana Biang\, Saluang\, Krcekan\, dan masih banyak lagi. KunoKini selalu berupaya membangkitkan antusiasme masyarakat dengan mengedepankan kekayaan alat musik tradisional Indonesia. \nPenerapan eksplorasi harmonis yang mereka lakukan mampu memghasilkan karya luar biasa yang kaya akan budaya. KunoKini mengadakan konser solo pertama mereka pada tahun 2008 dan terus mengadakan beberapa konser solo sepanjang tahun bertajuk “Kembali ke Akar” dan “Reinkarnasi” di beberapa kota di Indonesia\, bersamaan dengan perilisan album debut mereka pada tahun 2010. \nPada tahun 2013\, KunoKini melengkapkan Namanya menjadi KunoKini & SvaraLiane\, yang berarti “suara lainnya” dari Bahasa Sansekerta dan Jawa dimana KunoKini sejak saat itu menampilkan alat-alat tradisional digabung dengan brass section\, bass\, gitar dan DJ. Pada tahun 2013 KunoKini Kembali menggelar konser solo bertajuk “Masa Lalu untuk Masa Depan”\, sebuah retrospektif yang menceritakan 10 tahun perjuangan KunoKini dalam mempromosikan alat music tradisional Indonesia. KunoKini telah berbagi panggung dan berkolaborasi dengan artis lokal dan internasional terkemuka seperti Conkarah (Jamaika)\, Ras Muhamad\, Kalulla\, JFlow\, Haviz Dsectella MC\, Indra Lesmana\, Wukir (Senyawa)\, Nova (Filastine)\, Glenn Fredly\, DJ Lethal (Limp Bizkit)\, Samifati (Prancis)\, Liquid Silva (Kanada) dan MAS1A (Singapura/Kanada). Selain itu KunoKini memproduksi dubplate untuk DJ Walshy Fire (Major Lazer). \nSelain berkarya sebagai artis\, KunoKini juga mengikuti program Artist Residency yang bekerja sama dengan British Council di Jakarta\, dimana KunoKini berkolaborasi dan bertukar Budaya dengan seniman asal Inggris Raya selama enam minggu dan kemudian KunoKini tampil di Belfast\, Irlandia Utara bersama seniman tersebut.
URL:https://indonesiakaya.com/event/sinergi-oleh-kunokini-svaraliane-19-00/
LOCATION:Galeri Indonesia Kaya\, Grand Indonesia – West Mall Lantai 8\, Jl. M.H. Thamrin No.1\, Jakarta\, DKI Jakarta\, 10230\, Indonesia
CATEGORIES:Agenda Budaya,Galeri Indonesia Kaya
ATTACH;FMTTYPE=image/jpeg:https://indonesiakaya.com/wp-content/uploads/2024/06/GIK-29juni-1x1-1.jpg
END:VEVENT
END:VCALENDAR