BEGIN:VCALENDAR
VERSION:2.0
PRODID:-//Indonesia Kaya - ECPv6.15.15//NONSGML v1.0//EN
CALSCALE:GREGORIAN
METHOD:PUBLISH
X-WR-CALNAME:Indonesia Kaya
X-ORIGINAL-URL:https://indonesiakaya.com
X-WR-CALDESC:Events for Indonesia Kaya
REFRESH-INTERVAL;VALUE=DURATION:PT1H
X-Robots-Tag:noindex
X-PUBLISHED-TTL:PT1H
BEGIN:VTIMEZONE
TZID:Asia/Jakarta
BEGIN:STANDARD
TZOFFSETFROM:+0700
TZOFFSETTO:+0700
TZNAME:WIB
DTSTART:20220101T000000
END:STANDARD
END:VTIMEZONE
BEGIN:VEVENT
DTSTART;TZID=Asia/Jakarta:20231202T150000
DTEND;TZID=Asia/Jakarta:20231202T160000
DTSTAMP:20260422T163051
CREATED:20231124T181754Z
LAST-MODIFIED:20231126T190604Z
UID:75242-1701529200-1701532800@indonesiakaya.com
SUMMARY:Palita Untuk Ambon oleh Liberty Music
DESCRIPTION:Pertunjukan konser seni kebudayaan Maluku ini akan menampilkan seniman-seniman berdarah Ambon untuk mereprensentasikan api atau pelita insipirasi bagi anak-anak Maluku\, dan merayakan musik dalam kesederhanaan. Pada acara kali ini\, penonton akan dihibur dengan lagu-lagu Ambon yang dibagi menjadi beberapa lagu yang mencerminkan kehidupan bermasyarakat di Ambon\, diantaranya lagu-lagu yang menceritakan tentang hidup rantau\, permainan rakyat\, penghormatan kepada orang tua\, dan tempat-tempat di Ambon. \nAcara ini bertujuan untuk memajukan seni kebudayaan Indonesia juga untuk mengembangkan talenta-talenta muda Indonesia\, agar memiliki kesadaran dan kerinduan untuk lebih mencintai seni dan budaya tanah air\, dan lebih mengenal warisan budaya bangsa agar terus dikembangkan dan dilestarikan bagi kemajuan bangsa dan negara terkhusus di bidang seni dan budaya. \nLiberty Music bergerak di bidang musik dan entertainment\, record label\, dan sebagai penglola aset musik\, yang bertujuan untuk memajukan industri musik Indonesia.
URL:https://indonesiakaya.com/event/palita-untuk-ambon-oleh-liberty-music/
LOCATION:Galeri Indonesia Kaya\, Grand Indonesia – West Mall Lantai 8\, Jl. M.H. Thamrin No.1\, Jakarta\, DKI Jakarta\, 10230\, Indonesia
CATEGORIES:Agenda Budaya,Galeri Indonesia Kaya
ATTACH;FMTTYPE=image/jpeg:https://indonesiakaya.com/wp-content/uploads/2023/11/gik-24november-1x1-1.jpg
END:VEVENT
BEGIN:VEVENT
DTSTART;TZID=Asia/Jakarta:20231203T150000
DTEND;TZID=Asia/Jakarta:20231203T160000
DTSTAMP:20260422T163051
CREATED:20231124T102839Z
LAST-MODIFIED:20231127T063023Z
UID:75251-1701615600-1701619200@indonesiakaya.com
SUMMARY:Musikal ‘Kapan Resign?’
DESCRIPTION:Melalui keberhasilan karya produksi teater original Musikal ‘Kapan Resign?’ pada tanggal 6-8 Oktober 2023\, Jaksical telah mengangkat isu sosial di dunia pekerjaan dan mengajak lebih dari 1\,200+ penonton untuk memandang isu-isu sosial dari perspektif yang lebih mendalam. \nDalam ritme kehidupan yang semakin kompleks\, problematika di dunia pekerjaan tidak hanya mencakup tekanan dan kesehatan mental\, namun juga menyentuh aspek keluarga dan ketenangan jiwa. Generasi sandwich\, yang merangkap peran sebagai orang tua dan anak sekaligus\, sering kali harus menghadapi tantangan luar biasa dalam menjaga keseimbangan antara karir dan tanggung jawab keluarga. \nLewat seni\, musikal ini mengangkat kisah-kisah mengenai permasalahan yang banyak dialami oleh generasi sandwich dimana mereka terjebak di antara beban pekerjaan yang menuntut dan kebutuhan keluarga yang mengharukan. \nMusikal ‘Kapan Resign?’ akan kembali hadir di Galeri Indonesia Kaya dan menampilkan pementasan lagu & seni teater yang akan dilakoni oleh para pemain dengan sentuhan yang sedikit berbeda. Sampai bertemu pada pementasan Musikal ‘Kapan Resign?’ di Galeri Indonesia Kaya pada hari Minggu\, 3 Desember 2023 dan please #StayWaras
URL:https://indonesiakaya.com/event/musikal-kapan-resign/
LOCATION:Galeri Indonesia Kaya\, Grand Indonesia – West Mall Lantai 8\, Jl. M.H. Thamrin No.1\, Jakarta\, DKI Jakarta\, 10230\, Indonesia
CATEGORIES:Agenda Budaya,Galeri Indonesia Kaya
ATTACH;FMTTYPE=image/jpeg:https://indonesiakaya.com/wp-content/uploads/2023/11/musikal-kapan-resign-1x1-1.jpg
END:VEVENT
BEGIN:VEVENT
DTSTART;TZID=Asia/Jakarta:20231209T150000
DTEND;TZID=Asia/Jakarta:20231209T160000
DTSTAMP:20260422T163051
CREATED:20231203T020016Z
LAST-MODIFIED:20240405T065537Z
UID:75465-1702134000-1702137600@indonesiakaya.com
SUMMARY:A Double bill: Pinamou & The Future of Nesia oleh Gigi Art of Dance
DESCRIPTION:Pinamou terinspirasi dari sebuah ritual di Pulau Seram yang dilakukan oleh suku Noaulu. Dalam karya ini\, Gigi Art of Dance berkolaborasi dengan salah satu seniman tari dari Pulau Seram Bernama Theodora Melsasail\, dimana Theo akan bercerita melalui video tentang ritual Pinamou dan para penari dari Gigi Art of Dance akan menginterpretasikannya lewat tarian. \nRitual yang diangkat kali ini adalah sebuah ritual yang dilakukan para remaja saat sedang mengalami masa haid/menstruasi. Mereka akan diasingkan ke sebuah rumah pamali bernama posune yang terbuat dari daun rumbia. Lalu remaja perempuan tersebut akan tinggal di dalam rumah tersebut tanpa diperbolehkan untuk keluar sampai masa haidnya selesai. Setelah masa dating bulan berlalu\, remaja ini akan dimandikan dan didandani oleh sang ibu\, yang lalu diarak ke seluruh kampung yang menandakan bahwa ia siap untuk dipinang dan dikawinkan. \nKarya yang ke-2 yang berjudul The Future of Nesia merupakan sebuah preview dari musikal yang terinspirasi dari beberapa cerita rakyat Indonesia seperti cerita Dayang Sumbi\, terjadinya Danau Batur\, Malin Kundang dan Si Jampang\, yang dijadikan 1 menjadi sebuah cerita tentang inklusi\, menemukan kekuatan masing2 dan juga kekuatan tali kasih kekeluargaan. \nGigi Art of Dance berdiri sejak tahun 2009 dan menjadi rumah seni bagi pecinta seni pertunjukan yang ingin belajar\, bereksplorasi\, bertukar pikiran\, berkolaborasi dan menciptakan karya. Gigi Art of Dance menjadi satu-satunya sekolah seni pertunjukan inklusif di Jakarta dan telah menjalankan program untuk penari down syndrome selama 11 tahun terakhir. 44 kelas terlaksana setiap minggunya\, dan dapat diikuti sesuai umur dan level. Gigi Art of Dance juga memiliki program thunan seperti Family Dance Day\, E-Motions\, Summer Dance Camp dan Choreographer.
URL:https://indonesiakaya.com/event/a-double-bill-pinamou-the-future-of-nesia-oleh-gigi-art-of-dance/
LOCATION:Galeri Indonesia Kaya\, Grand Indonesia – West Mall Lantai 8\, Jl. M.H. Thamrin No.1\, Jakarta\, DKI Jakarta\, 10230\, Indonesia
CATEGORIES:Agenda Budaya,Galeri Indonesia Kaya
ATTACH;FMTTYPE=image/jpeg:https://indonesiakaya.com/wp-content/uploads/2023/12/gik-9desember-1x1-1.jpg
END:VEVENT
BEGIN:VEVENT
DTSTART;TZID=Asia/Jakarta:20231216T150000
DTEND;TZID=Asia/Jakarta:20231216T160000
DTSTAMP:20260422T163051
CREATED:20231210T051407Z
LAST-MODIFIED:20231213T101230Z
UID:75923-1702738800-1702742400@indonesiakaya.com
SUMMARY:Wayang Sasak: Pertale Gumi Paer oleh Lampaqk Art Community
DESCRIPTION:Wayang Sasak menceritakan Kembali karya sastra Serat Menak\, yang berasal dari Timur Tengah dengan gubahan seniman Jawa\, bercerita tentang perjalanan Jayengrane dalam menumpas kebatilan. Kendati sumber cerita memiliki hubungan erat dengan Islam\, pada praktiknya Wayang Sasak juga sering dimainkan dalam upacara agama dan oleh dalang Hindu Lombok. Fenomena ini merupakan cerminan bahwa perbedaan agama bukan hal yang dapat dijadikan alasan terjadinya sesuatu perpecahan\, melainkan hidup damai dalam keberagaman dan nilai kemanusian yang diajarkan di dalamnya. Karya Wayang Sasak: Pertale Gumi Paer ini mencoba merespon situasi memprihatinkan yang terjadi di masa sekarang melalui pertunjukan wayang yang diberi sentuhan koreografi. Fragmentasi peperangan yang terjadi dalam kisah Wayang Sasak memberikan peringatan bahwasanya peperangan ada untuk menumpas sifat batil yang ada dalam setiap individu. Sifat rakus\, loba\, tamak\, egois\, yang hanya mementingkan kepentingan pribadi atau kelompok tertentu saja dan acuh terhadap nilai kemanusiaan yang ada. \nLampaqk Art Community merupakan sebuah grup beranggotakan 11 orang yang berdiri tahun 2021 lalu. Karya yang pernah dipentaskan yakni Musikal Cupak Gerantang\, Kinrohoshi dan Hikayat Tolak Bala\, dan lain-lain.
URL:https://indonesiakaya.com/event/wayang-sasak-pertale-gumi-paer-oleh-lampaqk-art-community/
LOCATION:Galeri Indonesia Kaya\, Grand Indonesia – West Mall Lantai 8\, Jl. M.H. Thamrin No.1\, Jakarta\, DKI Jakarta\, 10230\, Indonesia
CATEGORIES:Agenda Budaya,Galeri Indonesia Kaya
ATTACH;FMTTYPE=image/jpeg:https://indonesiakaya.com/wp-content/uploads/2023/12/gik16des-1x1-1.jpg
END:VEVENT
BEGIN:VEVENT
DTSTART;TZID=Asia/Jakarta:20231223T150000
DTEND;TZID=Asia/Jakarta:20231223T160000
DTSTAMP:20260422T163051
CREATED:20231220T045233Z
LAST-MODIFIED:20240808T064126Z
UID:76402-1703343600-1703347200@indonesiakaya.com
SUMMARY:Tampilan Tari Klasik gaya Yogyakarta yang indah hadir di Galeri Indonesia Kaya.
DESCRIPTION:Acara ini menampilkan 3 Repertoar Tari Klasik gaya Yogyakarta yang dikemas dengan diawali Panembrama (Koor Tembang Jawa) dan juga diselingi dengan dialog aktif mengenai konsep Joged Mataram dengan menghadirkan seorang tokoh tari putri yaitu ibu Maria Dharmaningsih\, MEd sebagai narasumber. Dalam acara ini akan diadakan workshop untuk penonton tentang pose-pose jari tangan dalam Tari Klasik gaya Yogyakarta. \nPertunjukan ini dapat dinikmati oleh segala usia dan para pecinta seni di pentas budaya Galeri Indonesia Kaya. “Terima Ibu Pertiwi” merupakan persembahan sanggar Surya Kirana dalam memperingati hari Ibu. \nSanggar Surya Kirana merupakan suatu sanggar yang sudah 18 tahun secara aktif dan konsisten melestarikan dan mengembangkan Tari Klasik Gaya Yogyakarta di Jakarta. Beberapa prestasi telah diraih oleh sanggar Surya Kirana diantaranya : \n\nSebagai Juara Harapan II dan III Kategori Putri Tingkat SLTA Lomba Tari Klasik Gaya Pakualaman tahun 2022.\nSebagai Juara II dan Harapan II Kategori Putra Umum\, Juara Harapan II Tingkat Umum Putri\, Juara Harapan II Tingkat SLTP Putri Lomba Tari Klasik Gaya Pakualaman tahun 2023.\nJuara II Lomba Folklour tahun 2023 di Paris.
URL:https://indonesiakaya.com/event/tampilan-tari-klasik-gaya-yogyakarta-yang-indah-hadir-di-galeri-indonesia-kaya/
LOCATION:Galeri Indonesia Kaya\, Grand Indonesia – West Mall Lantai 8\, Jl. M.H. Thamrin No.1\, Jakarta\, DKI Jakarta\, 10230\, Indonesia
CATEGORIES:Agenda Budaya,Galeri Indonesia Kaya
ATTACH;FMTTYPE=image/jpeg:https://indonesiakaya.com/wp-content/uploads/2023/12/GIK-23-november-1x1-1.jpg
END:VEVENT
END:VCALENDAR