BEGIN:VCALENDAR
VERSION:2.0
PRODID:-//Indonesia Kaya - ECPv6.15.15//NONSGML v1.0//EN
CALSCALE:GREGORIAN
METHOD:PUBLISH
X-WR-CALNAME:Indonesia Kaya
X-ORIGINAL-URL:https://indonesiakaya.com
X-WR-CALDESC:Events for Indonesia Kaya
REFRESH-INTERVAL;VALUE=DURATION:PT1H
X-Robots-Tag:noindex
X-PUBLISHED-TTL:PT1H
BEGIN:VTIMEZONE
TZID:Asia/Jakarta
BEGIN:STANDARD
TZOFFSETFROM:+0700
TZOFFSETTO:+0700
TZNAME:WIB
DTSTART:20220101T000000
END:STANDARD
END:VTIMEZONE
BEGIN:VEVENT
DTSTART;TZID=Asia/Jakarta:20231104T090000
DTEND;TZID=Asia/Jakarta:20231105T120000
DTSTAMP:20260422T175846
CREATED:20231030T032021Z
LAST-MODIFIED:20240808T064821Z
UID:74645-1699088400-1699185600@indonesiakaya.com
SUMMARY:Kelas Tari Minang - Sesi 1: Tari Indang Untuk Umum
DESCRIPTION:Sahabat IK di Semarang dan sekitarnya\, yuk ikutan belajar tari bersama dengan mengikuti Ruang Kreatif: Kelas Tari Minang oleh Liga Tari Mahasiswa Krida Budaya Universitas Indonesia di Taman Indonesia Kaya! \n4- 5 November 2023\nSesi 1 (untuk umum): 9.00-12.00 WIB \nSesi 2 (penari berpengalaman): 14.00-17.00 WIB\nTaman Indonesia Kaya\nGratis! \nPastikan kamu tinggal di wilayah Semarang dan sekitarnya\, ataupun bersedia mengikuti Kelas Tari di panggung teater Semarang\, Taman Indonesia Kaya. Kelas tari ini terdiri dari DUA hari Latihan\, pastikan kamu dapat mengikuti keduanya. \n1. Pastikan kamu tinggal di wilayah Semarang dan sekitarnya\, ataupun bersedia mengikuti Kelas Tari di Taman Indonesia Kaya. \n2.Kelas tari ini terdiri dari 2 hari Latihan\, pastikan kamu dapat mengikuti keduanya.\nDaftarkan diri di www.indonesiakaya.com (Peserta terdaftar wajib menghadiri program ini). \n3. Tim Indonesia Kaya akan mengkonfirmasi kehadiran peserta terdaftar\, pastikan nomor yang kamu daftarkan aktif. \n4. Gunakan baju atasan berwarna hitam dan bawahan bernuansa etnik\, serta membawa kaos cadangan yang nyaman dipakai. \n5. Pastikan cek email kamu setelah mendaftar untuk mendapatkan email konfirmasi.
URL:https://indonesiakaya.com/event/kelas-tari-minang-sesi-1-tari-indang-untuk-umum/
LOCATION:Galeri Indonesia Kaya\, Grand Indonesia – West Mall Lantai 8\, Jl. M.H. Thamrin No.1\, Jakarta\, DKI Jakarta\, 10230\, Indonesia
CATEGORIES:Agenda Budaya,Galeri Indonesia Kaya
ATTACH;FMTTYPE=image/jpeg:https://indonesiakaya.com/wp-content/uploads/2023/10/WhatsApp-Image-2023-10-27-at-16.39.21.jpeg
END:VEVENT
BEGIN:VEVENT
DTSTART;TZID=Asia/Jakarta:20231104T140000
DTEND;TZID=Asia/Jakarta:20231105T170000
DTSTAMP:20260422T175846
CREATED:20231030T032231Z
LAST-MODIFIED:20240808T065014Z
UID:74649-1699106400-1699203600@indonesiakaya.com
SUMMARY:Kelas Tari Minang - Sesi 2: Tari Piring Cupak Untuk Penari Berpengalaman
DESCRIPTION:Sahabat IK di Semarang dan sekitarnya\, yuk ikutan belajar tari bersama dengan mengikuti Ruang Kreatif: Kelas Tari Minang oleh Liga Tari Mahasiswa Krida Budaya Universitas Indonesia di Taman Indonesia Kaya! \n4- 5 November 2023\nSesi 1 (untuk umum): 9.00-12.00 WIB \nSesi 2 (penari berpengalaman): 14.00-17.00 WIB\nTaman Indonesia Kaya\nGratis! \nPastikan kamu tinggal di wilayah Semarang dan sekitarnya\, ataupun bersedia mengikuti Kelas Tari di taman publik Semarang\, Taman Indonesia Kaya. Kelas tari ini terdiri dari DUA hari Latihan\, pastikan kamu dapat mengikuti keduanya. \n1. Pastikan kamu tinggal di wilayah Semarang dan sekitarnya\, ataupun bersedia mengikuti Kelas Tari di Taman Indonesia Kaya. \n2.Kelas tari ini terdiri dari 2 hari Latihan\, pastikan kamu dapat mengikuti keduanya.\nDaftarkan diri di www.indonesiakaya.com (Peserta terdaftar wajib menghadiri program ini). \n3. Tim Indonesia Kaya akan mengkonfirmasi kehadiran peserta terdaftar\, pastikan nomor yang kamu daftarkan aktif. \n4. Gunakan baju atasan berwarna hitam dan bawahan bernuansa etnik\, serta membawa kaos cadangan yang nyaman dipakai. \n5. Pastikan cek email kamu setelah mendaftar untuk mendapatkan email konfirmasi.
URL:https://indonesiakaya.com/event/kelas-tari-minang-sesi-2-tari-piring-cupak-untuk-penari-berpengalaman/
LOCATION:Galeri Indonesia Kaya\, Grand Indonesia – West Mall Lantai 8\, Jl. M.H. Thamrin No.1\, Jakarta\, DKI Jakarta\, 10230\, Indonesia
CATEGORIES:Agenda Budaya,Galeri Indonesia Kaya
ATTACH;FMTTYPE=image/jpeg:https://indonesiakaya.com/wp-content/uploads/2023/10/WhatsApp-Image-2023-10-27-at-16.39.21.jpeg
END:VEVENT
BEGIN:VEVENT
DTSTART;TZID=Asia/Jakarta:20231104T150000
DTEND;TZID=Asia/Jakarta:20231104T190000
DTSTAMP:20260422T175846
CREATED:20231030T022148Z
LAST-MODIFIED:20231031T164103Z
UID:74629-1699110000-1699124400@indonesiakaya.com
SUMMARY:Fragmen Teater Musikal "Keumalahayati - Laskar Inong Balee"
DESCRIPTION:Laksamana Keumalahayati merupakan Laksamana perempuan pertama di dunia yang tangguh\, gagah berani membela tanah air yang dapat menginspirasi generasi penerus bangsa khususnya dalam pembentukan karakter. Ia mendapat anugerah Pahlawan Nasional Republik Indonesia pada tahun 2017\, sehingga Gema Citra Nusantara ingin turut ingin mengajak generasi muda untuk lebih menghargai sejarah dan makna dari pahlawan bangsa melalui sebuah pertunjukan seni tradisi yang dikemas secara modern. \nGema Citra Nusantara merupakan organisasi nirlaba berbentuk yayasan dengan kegiatan utama sebagai sanggar seni tradisi Indonesia. Sanggar Gema Citra Nusantara mengadakan pelatihan tari rutin bagi masyarakat umum secara cuma-cuma dan secara berkala mengikuti kegiatan-kegiatan apresiasi seni tradisi Indonesia berupa pertunjukan\, festival dan kompetisi di dalam dan di luar negeri. \nGema Citra Nusantara telah terdaftar di Dinas Kebudayaan DKI Jakarta dan memiliki program Galang Budaya Nusantara yaitu sebuah program pelatihan\, pembelajaran dan pengembangan dalam upaya memperkenalkan\, mempromosikan dan melestarikan seni budaya Indonesia ke masyarakat dunia melalui kerja sama dengan beberapa sekolah\, institusi dan perwakilan republik Indonesia di luar negeri.
URL:https://indonesiakaya.com/event/fragmen-teater-musikal-keumalahayati-laskar-inong-balee/
LOCATION:Galeri Indonesia Kaya\, Grand Indonesia – West Mall Lantai 8\, Jl. M.H. Thamrin No.1\, Jakarta\, DKI Jakarta\, 10230\, Indonesia
CATEGORIES:Agenda Budaya,Galeri Indonesia Kaya
ATTACH;FMTTYPE=image/jpeg:https://indonesiakaya.com/wp-content/uploads/2023/10/gik-4november-1x1-1.jpg
END:VEVENT
BEGIN:VEVENT
DTSTART;TZID=Asia/Jakarta:20231105T150000
DTEND;TZID=Asia/Jakarta:20231105T190000
DTSTAMP:20260422T175846
CREATED:20231031T165338Z
LAST-MODIFIED:20231101T073205Z
UID:74685-1699196400-1699210800@indonesiakaya.com
SUMMARY:Sunda-te bersama GaSS (Gabungan Artis Seniman Sunda)
DESCRIPTION:Sekumpulan artis dan seniman sunda yang tergabung dalam GaSS ( Gabungan Artis Seniman Sunda) setiap tahunnya selalu membuat acara untuk berbagi. Kali ini bersama Galeri Indonesia Kaya\, GaSS membuat suatu acara seni dan budaya (Nyanyian\, komedi\, musik) yang tentunya tidak jauh dari seni budaya Sunda. Tak hanya itu\, acara juga ditampilkan sebagai tanda kepedulian terhadap sesama artis dan seniman yang ada di Indonesia.
URL:https://indonesiakaya.com/event/sunda-te-bersama-gass-gabungan-artis-seniman-sunda/
LOCATION:Galeri Indonesia Kaya\, Grand Indonesia – West Mall Lantai 8\, Jl. M.H. Thamrin No.1\, Jakarta\, DKI Jakarta\, 10230\, Indonesia
CATEGORIES:Agenda Budaya,Galeri Indonesia Kaya
ATTACH;FMTTYPE=image/jpeg:https://indonesiakaya.com/wp-content/uploads/2023/10/gik-5november-1x1-1.jpg
END:VEVENT
BEGIN:VEVENT
DTSTART;TZID=Asia/Jakarta:20231111T150000
DTEND;TZID=Asia/Jakarta:20231111T190000
DTSTAMP:20260422T175846
CREATED:20231104T080224Z
LAST-MODIFIED:20240808T063027Z
UID:74745-1699714800-1699729200@indonesiakaya.com
SUMMARY:Pertunjukan karya tari dan musik "Lasuang Balangsuang"
DESCRIPTION:Pertunjukan ini menampilkan tari kontemporer berbasis tradisional budaya Minangkabau\, ditarikan oleh 5 orang penari. Permainan musik\, vokal\, tarian\, dialek Minangkabau\, bahkan unsur komedi yang sangat ringan dan menarik\, serta unsur monolog dan  teatrikal dengan membawa petatah-petitih Minangkabau\, diangkat menjadi bagian dalam karya tari ini. Karya ini diciptakan sesuai dengan karakter koreografer\, yaitu tetap membawa unsur transformasi tubuh feminitas\, sebagai bentuk ciri khas dan keunikan\, sehingga terbentuk karya baru yang unik\, menarik\, dan eksentrik dalam pelahiran intepretasi lasuang kedalam bentuk karya tari. \nTak hanya menampilkan tarian saja\, pertunjukan budaya ini juga menghadirkan komposisi musik tradisional Minangkabau dan juga lagu-lagu tradisional yang dikembangkan menjadi sebuah pertunjukan musik (Gamad) dengan durasi 15  menit. Pertunjukan karya ini menampilkan dua unsur pertunjukan yang ditampilkan sejalan tanpa terputus dalam pertunjukannya. \nMaiyosta Dance Company berdiri pada tanggal 26 Mei tahun 2018 di kota Padangpanjang\, yang dipelopori oleh Denny Maiyosta S.Sn.\, M.Sn. Maiyosta Dance Company merupakan wadah yang bergerak di bidang penciptaan seni tari\, dengan terus melakukan proses penciptaan karya tari dan aktif dalam memproduksi karya-karya terbaru dan inovatif tentunya dengan melibatkan berbagai kalangan mulai dari anak-anak\, remaja\, dewasa\, hingga kalangan umum sebagai media dalam mewujudkan karya-karya yang di produksinya. \nDenny Maiyosta sebagai pendiri Maiyosta Dance Company merupakan koreografer dari Sumatera Barat yang lahir di Muaralabuh pada tanggal 26 Mei tahun 1987. Denny menamatkan pendidikan Strata Satu (S1) dan Strata Dua (S2)-nya di Institut Seni Indonesia Padanpanjang\, selama menempuh pendidikan hingga saat sekarang ini\, Denny Maiyosta aktif dalam berbagai kegiatan berkesenian terutama di bidang seni tari diantaranya ia aktif menciptakan karya-karya unggul berskala nasional maupun internasional\, menjuarai berbagai lomba cipta karya tari di tingkat nasional\, aktif di berbagai event dan festival seni di Sumatera Barat maupun Indonesia\, sering menjadi asisten koreografer ternama indonesia dalam turun menciptakan karya\, menjadi delegasi Indonesia pada event internasional\, serta aktif dalam kegiatan seni oleh dinas dan pemerintahan.
URL:https://indonesiakaya.com/event/pertunjukan-karya-tari-dan-musik-lasuang-balangsuang/
LOCATION:Galeri Indonesia Kaya\, Grand Indonesia – West Mall Lantai 8\, Jl. M.H. Thamrin No.1\, Jakarta\, DKI Jakarta\, 10230\, Indonesia
CATEGORIES:Agenda Budaya,Galeri Indonesia Kaya
ATTACH;FMTTYPE=image/jpeg:https://indonesiakaya.com/wp-content/uploads/2023/11/gik-11november-1x1-1.jpg
END:VEVENT
BEGIN:VEVENT
DTSTART;TZID=Asia/Jakarta:20231118T150000
DTEND;TZID=Asia/Jakarta:20231118T160000
DTSTAMP:20260422T175846
CREATED:20231112T034836Z
LAST-MODIFIED:20240808T064453Z
UID:74997-1700319600-1700323200@indonesiakaya.com
SUMMARY:Fragmen Musikal Nurbaya oleh Peserta Ruang Kreatif Seni Pertunjukan
DESCRIPTION:Pelatihan Ruang Kreatif Seni Pertunjukan bermula di tahun 2019 sebagai pelatihan bagi seniman-seniman panggung\, terutama dalam ranah musikal\, dengan berbagai macam bentuk pelatihan yang terfokuskan kepada pelatihan vokal\, tari dan akting. Dari 98 peserta yang mengikuti Ruang Kreatif Seni Pertunjukan\, terpilih 11 peserta terpilih untuk mengikuti pelatihan teater musikal secara intensif dengan West End Stage di London\, Inggris\, selama satu minggu. \nSebelas peserta terpilih Ruang Kreatif Seni Pertunjukan telah kembali ke Indonesia untuk menampilkan hasil pelatihan mereka melalui Fragmen Musikal Nurbaya\, yang merupakan pertunjukan musikal orisinal oleh Indonesia kaya\, untuk pertama kalinya di atas panggung publik. Musikal Nurbaya diangkat dari karya Marah Rusli berjudul Sitti Nurbaya: Kasih Tak Sampai sebagai webseries musikal sepanjang 6 episode di Youtube Indonesia Kaya. Kali ini\, di atas panggung\, karya musikal ini ditampilkan secara singkat dengan elemen cerita romansa\, dilema pernikahan dan intrik-intrik yang dikemas secara modern dengan musik yang menarik.
URL:https://indonesiakaya.com/event/fragmen-musikal-nurbaya-oleh-peserta-ruang-kreatif-seni-pertunjukan/
LOCATION:Galeri Indonesia Kaya\, Grand Indonesia – West Mall Lantai 8\, Jl. M.H. Thamrin No.1\, Jakarta\, DKI Jakarta\, 10230\, Indonesia
CATEGORIES:Agenda Budaya,Galeri Indonesia Kaya
ATTACH;FMTTYPE=image/jpeg:https://indonesiakaya.com/wp-content/uploads/2023/11/18nov-15-1x1-03-1.jpg
END:VEVENT
BEGIN:VEVENT
DTSTART;TZID=Asia/Jakarta:20231118T190000
DTEND;TZID=Asia/Jakarta:20231118T200000
DTSTAMP:20260422T175846
CREATED:20231112T043614Z
LAST-MODIFIED:20240909T044318Z
UID:75007-1700334000-1700337600@indonesiakaya.com
SUMMARY:Fragmen Musikal Nurbaya oleh Peserta Ruang Kreatif Seni Pertunjukan - 19:00
DESCRIPTION:Pelatihan Ruang Kreatif Seni Pertunjukan bermula di tahun 2019 sebagai pelatihan bagi seniman-seniman panggung\, terutama dalam ranah musikal\, dengan berbagai macam bentuk pelatihan yang terfokuskan kepada pelatihan vokal\, tari dan akting. Dari 98 peserta yang mengikuti Ruang Kreatif Seni Pertunjukan\, terpilih 11 peserta terpilih untuk mengikuti pelatihan teater musikal secara intensif dengan West End Stage di London\, Inggris\, selama satu minggu. \nSebelas peserta terpilih Ruang Kreatif Seni Pertunjukan telah kembali ke Indonesia untuk menampilkan hasil pelatihan mereka melalui Fragmen Musikal Nurbaya\, yang merupakan musikal orisinal oleh Indonesia kaya\, untuk pertama kalinya di atas panggung publik. Musikal Nurbaya diangkat dari karya Marah Rusli berjudul Sitti Nurbaya: Kasih Tak Sampai sebagai webseries musikal sepanjang 6 episode di Youtube Indonesia Kaya. Kali ini\, di atas panggung\, karya pertunjukan musikal ini ditampilkan secara singkat dengan elemen cerita romansa\, dilema pernikahan dan intrik-intrik yang dikemas secara modern dengan musik yang menarik.
URL:https://indonesiakaya.com/event/fragmen-musikal-nurbaya-oleh-peserta-ruang-kreatif-seni-pertunjukan-19-00/
LOCATION:Galeri Indonesia Kaya\, Grand Indonesia – West Mall Lantai 8\, Jl. M.H. Thamrin No.1\, Jakarta\, DKI Jakarta\, 10230\, Indonesia
CATEGORIES:Agenda Budaya,Galeri Indonesia Kaya
ATTACH;FMTTYPE=image/jpeg:https://indonesiakaya.com/wp-content/uploads/2023/11/18nov-19-1x1-03-1.jpg
END:VEVENT
BEGIN:VEVENT
DTSTART;TZID=Asia/Jakarta:20231125T150000
DTEND;TZID=Asia/Jakarta:20231125T160000
DTSTAMP:20260422T175846
CREATED:20231119T164555Z
LAST-MODIFIED:20231119T173351Z
UID:75194-1700924400-1700928000@indonesiakaya.com
SUMMARY:Sekilas Rumpun Melayu oleh Sanggar Putih Melati
DESCRIPTION:Pertunjukan yang merupakan paduan tarian dan musik ini dibawakan oleh penari dari lintas generasi\, baik muda\, remaja\, hingga dewasa akhir\, bertujuan untuk menjembatani generasi ke generasi dengan akar budaya mereka yang kaya\, sambil memberikan penghargaan kepada tradisi tari dan musik Melayu agar tetap dekat dengan masyarakat luas. \nSlogan “Takkan Hilang Melayu di Bumi” merupakan ungkapan kuat tentang keberlanjutan dan keberadaan budaya Melayu yang berharga. Slogan ini juga menjadi representasi dari Sang Guru Maestro Tari Melayu yaitu “Wardi Suhadi Diman” atau yang biasa disapa dengan panggilan “Kak Wardi”. Selama hampir 53 tahun hidupnya\, ia menjadi tauladan dalam tekad untuk melestarikan warisan budaya Melayu kepada generasi-generasi penerus di tengah tantangan zaman modern. Hal ini mencerminkan keyakinan bahwa meskipun budaya Melayu terus berkembang dan berubah\, inti budaya ini akan tetap ada dan hidup di hati dan jiwa generasi yang datang. \nSanggar Putih Melati merupakan tempat pelestari dan pengembangan seni budaya Melayu di Jakarta\, dengan seorang Maestro Pelestari Seni Tradisi Wardi Suhadi Diman. Sanggar ini akan turut menjadi bagian dari Festival Muara untuk dapat mempergelarkan seni budaya Melayu yang berkembang di Indonesia khususnya Jakarta. \nWardi Suhadi Diman atau Kak Wardi adalah seniman dengan dedikasi yang tinggi\, terus menjaga dan melestarikan budaya Indonesia dan khususnya Melayu. Hal ini menjadi salah satu keunggulan sanggar yang didirikannya. Berkat asuhan Kak Wardi dan para pelatih\, Sanggar Putih Melati telah menajdi sanggar pioneer Tari Melayu dan menjuarai berbagai lomba Tari Melayu yang juga mendapatkan undangan pentas baik dari dalam maupun luar negeri.
URL:https://indonesiakaya.com/event/sekilas-rumpun-melayu-oleh-sanggar-putih-melati/
LOCATION:Galeri Indonesia Kaya\, Grand Indonesia – West Mall Lantai 8\, Jl. M.H. Thamrin No.1\, Jakarta\, DKI Jakarta\, 10230\, Indonesia
CATEGORIES:Agenda Budaya,Galeri Indonesia Kaya
ATTACH;FMTTYPE=image/jpeg:https://indonesiakaya.com/wp-content/uploads/2023/11/gik-25nov-1x1-1.jpg
END:VEVENT
END:VCALENDAR