BEGIN:VCALENDAR
VERSION:2.0
PRODID:-//Indonesia Kaya - ECPv6.15.15//NONSGML v1.0//EN
CALSCALE:GREGORIAN
METHOD:PUBLISH
X-WR-CALNAME:Indonesia Kaya
X-ORIGINAL-URL:https://indonesiakaya.com
X-WR-CALDESC:Events for Indonesia Kaya
REFRESH-INTERVAL;VALUE=DURATION:PT1H
X-Robots-Tag:noindex
X-PUBLISHED-TTL:PT1H
BEGIN:VTIMEZONE
TZID:Asia/Jakarta
BEGIN:STANDARD
TZOFFSETFROM:+0700
TZOFFSETTO:+0700
TZNAME:WIB
DTSTART:20220101T000000
END:STANDARD
END:VTIMEZONE
BEGIN:VEVENT
DTSTART;TZID=Asia/Jakarta:20230902T150000
DTEND;TZID=Asia/Jakarta:20230902T160000
DTSTAMP:20260422T211436
CREATED:20230828T014509Z
LAST-MODIFIED:20240420T000956Z
UID:72954-1693666800-1693670400@indonesiakaya.com
SUMMARY:Gau’ Karannuang (hajat bersuka cita) oleh Artimbi Studio
DESCRIPTION:Gabungan kata Gau’ Karannuang dijadikan sebagai judul dengan tujuan ingin mempertunjukkan peristiwa gelaran karya yang dimaknai sebagai hajatan yang sifatnya lebih sederhana dari makna Gau’ Karannuang dalam konteks kebudayaan asalnya. Dalam pemaknaan lain\, hajatan kecil ini dilakukan sebagai bentuk ungkapan kegembiraan dan suka cita dalam perantauan. Pertunjukan ini menyajikan narasi dengan iringan musik tradisional\, dan juga tari khas Sulawesi Selatan\, seperti Pakarena Riolo dan Pakarena Anida. \nArtimbi Studio merupakan sanggar seni tradisi Indonesia yang sudah ada sejak 2013. Hingga hari ini\, Artimbi Studio masih melakukan aktivitas kesenian\, khususnya sebagai bentuk komitmen dalam upaya melestarikan seni tradisi Indonesia. Saat ini\, Artimbi Studio fokus dan terinspirasi dari kebudayaan Sulawesi Selatan sebagai ide dalam melahirkan karya-karyanya.
URL:https://indonesiakaya.com/event/gau-karannuang-hajat-bersuka-cita-oleh-artimbi-studio/
LOCATION:Galeri Indonesia Kaya\, Grand Indonesia – West Mall Lantai 8\, Jl. M.H. Thamrin No.1\, Jakarta\, DKI Jakarta\, 10230\, Indonesia
CATEGORIES:Agenda Budaya,Galeri Indonesia Kaya
ATTACH;FMTTYPE=image/jpeg:https://indonesiakaya.com/wp-content/uploads/2023/08/2september-1x1-1.jpg
END:VEVENT
BEGIN:VEVENT
DTSTART;TZID=Asia/Jakarta:20230909T150000
DTEND;TZID=Asia/Jakarta:20230909T160000
DTSTAMP:20260422T211436
CREATED:20230901T103612Z
LAST-MODIFIED:20230904T030849Z
UID:73030-1694271600-1694275200@indonesiakaya.com
SUMMARY:Daun Berbisik oleh Dedy Luthan Dance Company
DESCRIPTION:Pertunjukan dengan tema Kalimantan ini diciptakan melalui perjalanan koreografer Boby Ari Setiawan bersama Dedy Luthan Dance Company dalam mengenal tarian Kalimantan dan kemudian melahirkan karya baru. Karya ini menunjukkan bagaimana kearifan lokal dapat menyentuh kalbu hingga melahirkan tunas-tunas baru yang tumbuh untuk melanjutkan seni tradisi. \nPertunjukan ini mengangkat tema Latar belakang tarian Kalimantan sebagai bentuk refleksi tubuh dan ingatan dari koreografer Boby Ari Setiawan yang ingin dibagikan kepada penonton sebagai sebuah bagian dari pertunjukan ini. \nSebagaimana tari adalah bahasa tubuh yang terekspresikan melalui gerak\, tarian Kalimantan adalah tarian komunal yang tidak berjarak dengan penonton. Mari kita menari Bersama dan menumbuhkan tunas-tunas pelestari seni tradisi bangsa.
URL:https://indonesiakaya.com/event/daun-berbisik-oleh-dedy-luthan-dance-company/
LOCATION:Galeri Indonesia Kaya\, Grand Indonesia – West Mall Lantai 8\, Jl. M.H. Thamrin No.1\, Jakarta\, DKI Jakarta\, 10230\, Indonesia
CATEGORIES:Agenda Budaya,Galeri Indonesia Kaya
ATTACH;FMTTYPE=image/jpeg:https://indonesiakaya.com/wp-content/uploads/2023/09/daun_berbisik_thumbnail_2.jpeg
END:VEVENT
BEGIN:VEVENT
DTSTART;TZID=Asia/Jakarta:20230916T150000
DTEND;TZID=Asia/Jakarta:20230916T160000
DTSTAMP:20260422T211436
CREATED:20230911T045809Z
LAST-MODIFIED:20230921T023736Z
UID:73184-1694876400-1694880000@indonesiakaya.com
SUMMARY:Melodi Puan-Puan oleh Mitra Seni Indonesia
DESCRIPTION:Mitra Seni Indonesia (MSI) menunjukan hasil pelatihan seni suara dan seni musik tangklung\, yang merupakan kolaborasi antara kulintang\, alat musik yang berasal dari Minahasa\, Sulawesi Utara\, dengan angklung yang berasal dari Jawa Barat. \nKali ini MSI menampilkan lagu-lagu daerah nusantara khususnya yang berasal dari Pulau Kalimantan dan Sulawesi. Pertunjukan ini dimainkan oleh ibu-ibu pemain musik yang walaupun sudah mencapai umur emas dan tidak muda lagi\, tetapi tetap memiliki semangat dalam berkesenian. Penampilan ini diharapkan dapat menginspirasi generasi muda untuk tetap melestarikan seni dan budaya Indonesia di tengah derasnya arus seni dan budaya dari penjuru dunia yang masuk ke Indonesia dengan majunya teknologi saat ini. \nMitra Seni Indonesia (MSI) adalah perkumpulan pecinta\, peduli\, pemerhati dan pelaku seni yang diantaranya bertujuhan melestarikan dan mengembangkan seni asli Indonesia. MSI beranggotakan kurang lebih 1000 orang berusia 50 tahun keatas. Sebagian terdiri dari pelaku seni lukis\, seni tari\, seni suara\, seni musik tradisional seperti kolintang\, angklung arumba\, dan masih banyak lainnya.
URL:https://indonesiakaya.com/event/melodi-puan-puan-oleh-mitra-seni-indonesia/
LOCATION:Galeri Indonesia Kaya\, Grand Indonesia – West Mall Lantai 8\, Jl. M.H. Thamrin No.1\, Jakarta\, DKI Jakarta\, 10230\, Indonesia
CATEGORIES:Agenda Budaya,Galeri Indonesia Kaya
ATTACH;FMTTYPE=image/jpeg:https://indonesiakaya.com/wp-content/uploads/2023/09/16september1x1.jpg
END:VEVENT
BEGIN:VEVENT
DTSTART;TZID=Asia/Jakarta:20230917T150000
DTEND;TZID=Asia/Jakarta:20230917T160000
DTSTAMP:20260422T211436
CREATED:20230915T015501Z
LAST-MODIFIED:20230915T020824Z
UID:73203-1694962800-1694966400@indonesiakaya.com
SUMMARY:Exploring Dance Film oleh Yayasan Seni Tari Indonesia
DESCRIPTION:Exploring Dance Film merupakan salah satu rangkaian acara dari program Distance Parade 3 yang diselenggarakan oleh Yayasan Seni Tari Indonesia. Konsep acara ini adalah memberikan wawasan kepada masyarakat awam tentang film tari dengan menyuguhkan sebuah pertunjukan tari dan penayangan film tari serta diskusinya\, agar masyarakat awam dapat mendapatkan edukasi yang lebih terkait keseninan tersebut. Dalam acara ini\, penonton dapat menikmati karya-karya dari seniman muda dan juga secara langsung melihat perbandingan antara pertunjukan tari dan film tari. Dengan mendengarkan paparan para narasumber dalam diskusi\, penonton dapat mendapatkan pengetahuan umum hingga eksekusi karya film tari. \nYayasan Seni Tari Indonesia adalah organisasi yang bergerak di bidang seni tari semenjak tahun 2020\, dibangun atas pengamatan dan riset terhadap persoalan-persoalan dunia tari di Indonesia diantaranya tentang distribusi pengetahuan\, perluasan kesempatan\, dukungan untuk pengembangan\, penambahan ruang apresiasi dan ruang ekspresi\, serta merangsang munculnya kreativitas baru dan mendorong munculnya regenerasi seniman tari yang berkualitas di seluruh Indonesia. \nSelama empat tahun terakhir\, Yayasan Seni Tari Indonesia berupaya untuk meningkatkan kapasitas seniman lokal Indonesia melalui program-program pengembangan karya berikut: \n\nDistance Parade (2020 – sekarang)\nFestival Mentari (2021 – sekarang)\nJambi Festari (2023)\nGurindam 12 (program riset 2022-2023)\n\nProgram-program di atas adalah wadah pengkaryaan\, yang didalamnya melibatkan para fasilitator dan mentor yang ahlii dalam bidangnya untuk memberikan edukasi dan wawasan kepada para seniman tari muda Indonesia. \nKarya para alumni program telah dipentaskan ulang dalam beberapa festival seni mancanegara\, seperti Indonesia Bertutur\, Program Koreografer Muda Potensial (Indonesian Dance Festival)\, Palakbatu Creative\, dan lainnya.
URL:https://indonesiakaya.com/event/exploring-dance-film-oleh-yayasan-seni-tari-indonesia/
LOCATION:Galeri Indonesia Kaya\, Grand Indonesia – West Mall Lantai 8\, Jl. M.H. Thamrin No.1\, Jakarta\, DKI Jakarta\, 10230\, Indonesia
CATEGORIES:Agenda Budaya,Galeri Indonesia Kaya
ATTACH;FMTTYPE=image/jpeg:https://indonesiakaya.com/wp-content/uploads/2023/09/materi-website-untuk-acara-minggu.jpg
END:VEVENT
BEGIN:VEVENT
DTSTART;TZID=Asia/Jakarta:20230923T150000
DTEND;TZID=Asia/Jakarta:20230923T160000
DTSTAMP:20260422T211436
CREATED:20230918T022135Z
LAST-MODIFIED:20230918T023230Z
UID:73225-1695481200-1695484800@indonesiakaya.com
SUMMARY:Suara Harmoni Kalimantan
DESCRIPTION:Seni adalah sesuatu yang indah\, pertunjukan ini menyajikan penampilan seni musik dan seni tari dengan melahirkan alunan-alunan nada yang terkumpul dalam balutan permainan sapek\, suling\, gamelan\, gong\, ketubung gubeh serta vokal\, membawakan lagu-lagu daerah Kalimantan dan nusantara. Pertunjukan kali ini juga menampilkan seni tari dari Suku Dayak Kalimantan Barat dengan Tema Soul of Borneo\, diantaranya tari sumpit\, tari gong\, tari mandau dan tarian lainnya dari Kalimantan. \nYulius Daniang berasal dari kalimantan barat kecamatan Sengah Temila Kabupaten Landak dengan sertifikasi sebagai musisi indonesia\, berkiprah dalam bidang seni musik dan tari sejak tahun 2006. Saat ini ia mempunyai sanggar dan menjabat sebagai ketua bidang kesenian dan kebudayaan mewakili Kalimantan di DKI jakarta\, dan sudah pernah berkolaborasi dengan banyak musisi di Indonesia.
URL:https://indonesiakaya.com/event/suara-harmoni-kalimantan/
LOCATION:Galeri Indonesia Kaya\, Grand Indonesia – West Mall Lantai 8\, Jl. M.H. Thamrin No.1\, Jakarta\, DKI Jakarta\, 10230\, Indonesia
CATEGORIES:Agenda Budaya,Galeri Indonesia Kaya
ATTACH;FMTTYPE=image/jpeg:https://indonesiakaya.com/wp-content/uploads/2023/09/23september-1x1-04.jpg
END:VEVENT
BEGIN:VEVENT
DTSTART;TZID=Asia/Jakarta:20230930T150000
DTEND;TZID=Asia/Jakarta:20230930T160000
DTSTAMP:20260422T211436
CREATED:20230925T013815Z
LAST-MODIFIED:20230927T060523Z
UID:73456-1696086000-1696089600@indonesiakaya.com
SUMMARY:Teater Musikal “Karaeng Pattingalloang” oleh Illenk Gentille Andilolo\, Komunitas Seni ROJITA dan Taufan Purbo
DESCRIPTION:Pertunjukan ini menampilkan pertunjukan tari dan musik yang menceritakan tentang Karaeng Pattingalloang (1600-1654)\, seorang tokoh yang paling dikenal oleh orang-orang Eropa dari kota-kota pelabuhan di Jalur Rempah Nusantara. Dia adalah putra Raja Tallo VII Karaeng Matowaya (1573-1636) dengan Iwara (putri sulung Raja Gowa XII Tunijallo: 1565-1590). \nPertunjukan ini memberikan sebuah presentasi visual dari video film yang menampilkan kecintaanya akan ilmu pengetahuan. \nIllenk Gentille Andilolo adalah seorang penari dan koreografer yang lahir di Makassar dan menjadi salah satu tokoh seniman dari Makassar yang berkomitmen untuk menjaga dan melestarikan budaya Bugis. Taufan Purbo telah konsisten dalam berkarya di industri musikal Indonesia dan telah berkolaborasi di banyak pertunjukan musikal Indonesia.
URL:https://indonesiakaya.com/event/teater-musikal-karaeng-pattingalloang-oleh-illenk-gentille-andilolo-komunitas-seni-rojita-dan-taufan-purbo/
LOCATION:Galeri Indonesia Kaya\, Grand Indonesia – West Mall Lantai 8\, Jl. M.H. Thamrin No.1\, Jakarta\, DKI Jakarta\, 10230\, Indonesia
CATEGORIES:Agenda Budaya,Galeri Indonesia Kaya
ATTACH;FMTTYPE=image/jpeg:https://indonesiakaya.com/wp-content/uploads/2023/09/30september-1x1-05.jpg
END:VEVENT
END:VCALENDAR