BEGIN:VCALENDAR
VERSION:2.0
PRODID:-//Indonesia Kaya - ECPv6.15.15//NONSGML v1.0//EN
CALSCALE:GREGORIAN
METHOD:PUBLISH
X-WR-CALNAME:Indonesia Kaya
X-ORIGINAL-URL:https://indonesiakaya.com
X-WR-CALDESC:Events for Indonesia Kaya
REFRESH-INTERVAL;VALUE=DURATION:PT1H
X-Robots-Tag:noindex
X-PUBLISHED-TTL:PT1H
BEGIN:VTIMEZONE
TZID:Asia/Jakarta
BEGIN:STANDARD
TZOFFSETFROM:+0700
TZOFFSETTO:+0700
TZNAME:WIB
DTSTART:20220101T000000
END:STANDARD
END:VTIMEZONE
BEGIN:VEVENT
DTSTART;TZID=Asia/Jakarta:20230805T150000
DTEND;TZID=Asia/Jakarta:20230805T160000
DTSTAMP:20260422T230156
CREATED:20230731T013541Z
LAST-MODIFIED:20230731T020042Z
UID:72686-1691247600-1691251200@indonesiakaya.com
SUMMARY:Cerita Indonesia Wishnu Dewanta & SIVIA
DESCRIPTION:Indonesia memiliki lagu-lagu daerah yang kuat dalam makna\, melodi\, dan ritmenya. Lagu yang dekat dengan kebudayaan tradisi masyarakat di setiap daerah di Indonesia. Wishnu Dewanta & SIVIA akan membawakan lagu-lagu daerah dalam format musik dan aransemen yang baru dalam penyajian tanpa meninggalkan unsur-unsur kekhasan dalam lagunya. Konser musik ini merupakan tempat Wishnu Dewanta dan SIVIA sebagai musisi untuk bersuara menysukuri perjuangan para pahlawan kemerdekaan\, bercerita tentang keragaman Indonesia melalui lagu-lagunya. \nWishnu Dewanta \nKetertarikannya terhadap musik membuatnya yakin untuk mendalami bidang seni ini. Pada tahun 2012\, Ia diterima di Konservatori Musik Universitas Pelita Harapan dengan peminatan komposisi musik dibawah asuhan Boby Limijaya dan Antonius Priyanto. Ia pun aktif dalam berbagai kegiatan di dalam maupun di luar kampus\, seperti membentuk sebuah grup ansambel gesek yang bernama Stringtronic (2012-2013)\, Bellevoix Orchestra (2013-2018)\, Wishnu Dewanta Orkestra (2019)\, dan Intuition Jazz Chamber (2020). Ia juga dipercayakan untuk menjadi direktur musik dan penata musik dalam berbagai kegiatan musikal seperti “The Chronicles of Pinocchio and Mulan” yang diselenggarakan oleh Departemen Musik Universitas Pelita Harapan (2014); “Caspar” yang berkolaborasi bersama seorang produser dan sutradara musikal asal Jerman\, Hermann Sattler (2017); “Flower of Destiny” yang diselenggarakan oleh PT Puncak Keemasan Dunamis Indonesia (2018); “Asa dan Renjana” yang di selenggarakan oleh PT. Bank Central Asia; “Belakang Panggung” yang di selenggarakan oleh Yayasan Lentera Indonesia; “The Last Five Years” yang diselenggarakan oleh Jakarta Performing Arts Community; “Musikal Petualangan Sherina” dan “Musikal Cek Toko Sebelah” yang diselenggarakan oleh Jakarta Movement of Inspiration (2022). Selain itu\, ia juga pernah terlibat dalam penggarapan musik film Galih dan Ratna (2017). Pada tahun 2018\, Ia terpilih menjadi asisten dirigen Bandung Philharmonic Orchestra dibawah pimpinan Direktur Musik Maestro Robert Nordling yang berasal dari Chicago\, USA (2018). Ia juga dipilih menjadi ketua yayasan Sila Nada yang bergerak dibidang seni pertunjukan Indonesia. Selain menjadi seorang komposer\, orkestrator\, dan pengaba\, Ia pun bekerja sebagai penggubah musik di sebuah perusahaan IP development\, JToons Studio Indonesia sejak tahun 2017-2022. \nSIVIA \nLahir pada tanggal 14 Februari 1997\, SIVIA dikenal sebagai penyanyi-penulis lagu Indonesia\, yang telah menghabiskan waktunya di paduan suara sejak usia lima tahun. Selama berada di paduan suara\, pengalaman itu mempengaruhi minatnya dalam bermusik. Seiring dengan pertumbuhannya\, musik tetap menjadi teman baginya. Musik mengalir dalam dirinya\, dan cintanya yang mendalam terhadap musik membawanya menjalani perjalanan yang dimilikinya hingga saat ini. \nSIVIA menemukan kembali panggilannya dalam musik setelah mengambil dua tahun istirahat. Dia kembali ke industri dengan merilis singel pertamanya yang berjudul “New York” pada tahun 2019. Setahun setelah itu\, dia mengeluarkan album pertamanya yang berjudul “Love Spells” secara independen pada September 2020. Selain menyanyikan lagu-lagu debutnya\, dia juga menceritakan kisah-kisahnya dalam setiap mantra lagu-lagunya. Album ini menjadi medium bagi dirinya untuk merangkul ekspresi diri yang sejati selama proses pertumbuhannya. Di akhir tahun\, dia merayakan perkembangannya melalui acara pameran mini “Love Spells”. SIVIA juga dipilih sebagai salah satu perwakilan wanita Indonesia untuk menyanyikan Lagu Tema Asli dari film Mulan dari Disney untuk lagu berjudul “Reflection” bersama tiga penyanyi wanita lainnya. \nDi ulang tahunnya yang ke-24\, SIVIA memanfaatkan kesempatan tersebut untuk memperingati hari istimewanya dengan merilis singel terbarunya yang dikenal dengan judul “Are You My Valentine?” Sebagai bagian dari EP berikutnya\, “Camellia”\, yang dirilis pada 17 September 2021. Camellia\, bunga yang melambangkan cinta\, kasih sayang\, dan kagum. EP ini terdiri dari 5 lagu yang diciptakan SIVIA sendiri untuk mengungkapkan cinta dan harapan di dalam hatinya\, dan dia ingin membagikannya dengan orang lain.
URL:https://indonesiakaya.com/event/cerita-indonesia-wishnu-dewanta-sivia/
LOCATION:Galeri Indonesia Kaya\, Grand Indonesia – West Mall Lantai 8\, Jl. M.H. Thamrin No.1\, Jakarta\, DKI Jakarta\, 10230\, Indonesia
CATEGORIES:Agenda Budaya,Galeri Indonesia Kaya
ATTACH;FMTTYPE=image/jpeg:https://indonesiakaya.com/wp-content/uploads/2023/07/5agustus1x11.jpg
END:VEVENT
BEGIN:VEVENT
DTSTART;TZID=Asia/Jakarta:20230812T150000
DTEND;TZID=Asia/Jakarta:20230812T160000
DTSTAMP:20260422T230156
CREATED:20230731T055639Z
LAST-MODIFIED:20230807T023055Z
UID:72699-1691852400-1691856000@indonesiakaya.com
SUMMARY:Dendang Riang Kemerdekaan oleh Opera Stamboel bersama Garin Nugroho - 15.00
DESCRIPTION:Lagu merupakan kisah sejarah berbangsa dari dulu hingga kini dari berbagai aspek hidup. Perkembangan lagu dari dulu sampai sekarang membuat kita mengenal Indonesia lebih jauh. Melalui dendang lagu\, pertunjukan ini menggambarkan perkembangan era dulu hingga sekarang\, dari sisi romantisme\, patriotisme\, maupun saut-sautan dalam bentuk pantun hingga rayuan dari jenis musik yang familiar di periode masa tertentu. Lagu yang akan dibawakan juga dapat dinyanyikan bersama dengan penikmat seni yang hadir. \nOpera Stamboel berasal dari Yogyakarta dan mempunyai karakter dalam bermusik\, sastra maupun teater yang digabungkan dengan keunggulan vokal dalam bentuk nyanyian dan obrolan komedi. Sebuah format unik namun tertata antara lagu dan obrolan yang dinarasikan ceritanya juga oleh Garin Nugroho.
URL:https://indonesiakaya.com/event/dendang-riang-kemerdekaan-oleh-opera-stamboel-bersama-garin-nugroho-15-00/
LOCATION:Galeri Indonesia Kaya\, Grand Indonesia – West Mall Lantai 8\, Jl. M.H. Thamrin No.1\, Jakarta\, DKI Jakarta\, 10230\, Indonesia
CATEGORIES:Agenda Budaya,Galeri Indonesia Kaya
ATTACH;FMTTYPE=image/jpeg:https://indonesiakaya.com/wp-content/uploads/2023/07/12agustus1x1.jpg
END:VEVENT
BEGIN:VEVENT
DTSTART;TZID=Asia/Jakarta:20230812T190000
DTEND;TZID=Asia/Jakarta:20230812T200000
DTSTAMP:20260422T230156
CREATED:20230731T055646Z
LAST-MODIFIED:20230807T023121Z
UID:72702-1691866800-1691870400@indonesiakaya.com
SUMMARY:Dendang Riang Kemerdekaan oleh Opera Stamboel bersama Garin Nugroho - 19.00
DESCRIPTION:Lagu merupakan kisah sejarah berbangsa dari dulu hingga kini dari berbagai aspek hidup. Perkembangan lagu dari dulu sampai sekarang membuat kita mengenal Indonesia lebih jauh. Melalui dendang lagu\, pertunjukan ini menggambarkan perkembangan era dulu hingga sekarang\, dari sisi romantisme\, patriotisme\, maupun saut-sautan dalam bentuk pantun hingga rayuan dari jenis musik yang familiar di periode masa tertentu. Lagu yang akan dibawakan juga dapat dinyanyikan bersama dengan penikmat seni yang hadir. \nOpera Stamboel berasal dari Yogyakarta dan mempunyai karakter dalam bermusik\, sastra maupun teater yang digabungkan dengan keunggulan vokal dalam bentuk nyanyian dan obrolan komedi. Sebuah format unik namun tertata antara lagu dan obrolan yang dinarasikan ceritanya juga oleh Garin Nugroho.
URL:https://indonesiakaya.com/event/dendang-riang-kemerdekaan-oleh-opera-stamboel-bersama-garin-nugroho-19-00/
LOCATION:Galeri Indonesia Kaya\, Grand Indonesia – West Mall Lantai 8\, Jl. M.H. Thamrin No.1\, Jakarta\, DKI Jakarta\, 10230\, Indonesia
CATEGORIES:Agenda Budaya,Galeri Indonesia Kaya
ATTACH;FMTTYPE=image/jpeg:https://indonesiakaya.com/wp-content/uploads/2023/07/12agustus1x1.jpg
END:VEVENT
BEGIN:VEVENT
DTSTART;TZID=Asia/Jakarta:20230819T150000
DTEND;TZID=Asia/Jakarta:20230819T160000
DTSTAMP:20260422T230156
CREATED:20230731T055652Z
LAST-MODIFIED:20231002T084446Z
UID:72704-1692457200-1692460800@indonesiakaya.com
SUMMARY:Pementasan Teater "Kerlip" oleh Teater Pandora
DESCRIPTION:Kerlip merupakan produksi ke-24 dari Teater Pandora dan merupakan pentas ke-4 Teater Pandora di panggung Galeri Indonesia Kaya. Mengusung semangat kemerdekaan dan pendidikan\, Kerlip berusaha memaknai tema patriotisme dengan membawakan cerita tentang seorang guru. \nBerkisah tentang kehidupan seorang pensiunan guru yang mulai ‘pikun’ di masa tuanya\, di mana pada suatu pagi sebuah surat datang padanya; surat yang ditulis oleh sahabat lamanya yang meminta untuk dikunjungi olehnya. Hingga suatu “keanehan” terjadi. Keanehan yang sebenarnya telah dipersiapkan untuknya agar ia bisa terus memaknai dan mensyukuri tugas dan arti penting dirinya sebagai seorang guru. \nMelalui pendekatan drama-komedi\, Kerlip berusaha untuk mengangkat kisah kehidupan seorang guru sebagai “Pahlawan Tanpa Tanda Jasa”\, yang turut membebaskan bangsa Indonesia dari belenggu kebodohan dan kemalasan\, dan yang turut menjalankan tugas Konstitusi untuk “mencerdaskan kehidupan bangsa.” Dalam hal ini\, peran para guru sama seperti seorang patriot di medan perang yang memberikan jiwa-raganya untuk mempertahankan kehidupan bangsanya. \nSelain itu\, Kerlip juga menghadirkan pesan tentang pentingnya kesadaran kita terhadap penyakit orang-orang di usia senja seperti demensia. Dan sebagai sebuah hiburan\, Kerlip diharapkan dapat menjadi hiburan yang bermakna\, yang mampu menyajikan drama keluarga yang sarat akan cinta\, tawa\, tangis\, dan bahkan kadang perselisihan. \nLahir pada 24 September 2014\, Teater Pandora adalah sebuah kelompok teater independen yang didirikan oleh mahasiswa dan alumni Universitas Indonesia dari berbagai fakultas. Berawal dari teater kampus di Fakultas Ilmu Budaya dan Fakultas Ilmu Sosial dan Ilmu Politik UI\, Pandora kini telah menjalani kiprahnya sebagai teater independen hampir selama satu dekade dan telah menghasilkan lebih dari 23 produksi pementasan\, telah disaksikan oleh lebih dari 15.000 penonton\, baik di atas panggung teater konvensional maupun panggung non-konvensional.
URL:https://indonesiakaya.com/event/pementasan-teater-kerlip-oleh-teater-pandora/
LOCATION:Galeri Indonesia Kaya\, Grand Indonesia – West Mall Lantai 8\, Jl. M.H. Thamrin No.1\, Jakarta\, DKI Jakarta\, 10230\, Indonesia
CATEGORIES:Agenda Budaya,Galeri Indonesia Kaya
ATTACH;FMTTYPE=image/jpeg:https://indonesiakaya.com/wp-content/uploads/2023/07/19agustus1x1.jpg
END:VEVENT
BEGIN:VEVENT
DTSTART;TZID=Asia/Jakarta:20230826T150000
DTEND;TZID=Asia/Jakarta:20230826T160000
DTSTAMP:20260422T230156
CREATED:20230731T055659Z
LAST-MODIFIED:20230821T040205Z
UID:72706-1693062000-1693065600@indonesiakaya.com
SUMMARY:Seikat Kidung buat Negeri oleh RedaWibi - 15.00
DESCRIPTION:Menyanyikan puisi atau musikalisasi puisi adalah sebuah upaya untuk lebih mendekatkan puisi kepada siapa saja. Reda Gaudiamo\, yang bertahun-tahun menyajikan musikalisasi pusi bersama Ari Malibu (almarhum)\, kini mengajak Ganesha Wibisana untuk tampil di Galeri Indonesia Kaya. \nDalam rangka merayakan hari jadi negeri\, Reda dan Wibi akan menyanyikan serangkaian puisi dari penyair Indonesia. RedaWibi ingin mendekatkan puisi –salah satu bentuk karya sastra—kepada siapa saja\, terutama anak muda. Upaya ini dilakukan agar rasa bangga pada karya sastrawan negeri akan tumbuh dan menguat di benak orang muda. \nReda Gaudiamo dikenal melalui sejumlah karya pertunjukannya bersama Ari Malibu (almarhum) dalam bentuk musik puisi yang melahirkan beberapa album. Aku Ingin dan Hujan Bulan Juni adalah dua puisi karya Sapardi Djoko Damono yang dinyanyikannya. Selain bermusik\, Reda Gaudiamo juga seorang penulis. \nGanesha Wibisana adalah seorang musisi dan pencipta lagu yang memulai kariernya di Bandung\, dan menyanyikan lagu-lagu balada. Ia pernah membentuk grup Curly & Me\, yang tampil berkeliling di Bandung dan Jakarta. Pertemuannya dengan Reda terjadi pada tahun 2017\, dan mereka baru sempat tampil dua tahun kemudian. Selain bergerak di dunia musik\, Wibi adalah seorang seorang desainer interior yang juga mengajar penuh waktu di Fakultas Industri Kreatif\, Universitas Telkom.
URL:https://indonesiakaya.com/event/seikat-kidung-buat-negeri-oleh-redawibi-15-00/
LOCATION:Galeri Indonesia Kaya\, Grand Indonesia – West Mall Lantai 8\, Jl. M.H. Thamrin No.1\, Jakarta\, DKI Jakarta\, 10230\, Indonesia
CATEGORIES:Agenda Budaya,Galeri Indonesia Kaya
ATTACH;FMTTYPE=image/jpeg:https://indonesiakaya.com/wp-content/uploads/2023/07/26agustus1x1.jpg
END:VEVENT
BEGIN:VEVENT
DTSTART;TZID=Asia/Jakarta:20230826T190000
DTEND;TZID=Asia/Jakarta:20230826T200000
DTSTAMP:20260422T230156
CREATED:20230731T055705Z
LAST-MODIFIED:20230821T040219Z
UID:72708-1693076400-1693080000@indonesiakaya.com
SUMMARY:Seikat Kidung buat Negeri oleh RedaWibi - 19.00
DESCRIPTION:Menyanyikan puisi atau musikalisasi puisi adalah sebuah upaya untuk lebih mendekatkan puisi kepada siapa saja. Reda Gaudiamo\, yang bertahun-tahun menyajikan musikalisasi pusi bersama Ari Malibu (almarhum)\, kini mengajak Ganesha Wibisana untuk tampil di Galeri Indonesia Kaya. \nDalam rangka merayakan hari jadi negeri\, Reda dan Wibi akan menyanyikan serangkaian puisi dari penyair Indonesia. RedaWibi ingin mendekatkan puisi –salah satu bentuk karya sastra—kepada siapa saja\, terutama anak muda. Upaya ini dilakukan agar rasa bangga pada karya sastrawan negeri akan tumbuh dan menguat di benak orang muda. \nReda Gaudiamo dikenal melalui sejumlah karya pertunjukannya bersama Ari Malibu (almarhum) dalam bentuk musik puisi yang melahirkan beberapa album. Aku Ingin dan Hujan Bulan Juni adalah dua puisi karya Sapardi Djoko Damono yang dinyanyikannya. Selain bermusik\, Reda Gaudiamo juga seorang penulis. \nGanesha Wibisana adalah seorang musisi dan pencipta lagu yang memulai kariernya di Bandung\, dan menyanyikan lagu-lagu balada. Ia pernah membentuk grup Curly & Me\, yang tampil berkeliling di Bandung dan Jakarta. Pertemuannya dengan Reda terjadi pada tahun 2017\, dan mereka baru sempat tampil dua tahun kemudian. Selain bergerak di dunia musik\, Wibi adalah seorang seorang desainer interior yang juga mengajar penuh waktu di Fakultas Industri Kreatif\, Universitas Telkom.
URL:https://indonesiakaya.com/event/seikat-kidung-buat-negeri-oleh-redawibi-19-00/
LOCATION:Galeri Indonesia Kaya\, Grand Indonesia – West Mall Lantai 8\, Jl. M.H. Thamrin No.1\, Jakarta\, DKI Jakarta\, 10230\, Indonesia
CATEGORIES:Agenda Budaya,Galeri Indonesia Kaya
ATTACH;FMTTYPE=image/jpeg:https://indonesiakaya.com/wp-content/uploads/2023/07/26agustus1x1.jpg
END:VEVENT
END:VCALENDAR