BEGIN:VCALENDAR
VERSION:2.0
PRODID:-//Indonesia Kaya - ECPv6.15.15//NONSGML v1.0//EN
CALSCALE:GREGORIAN
METHOD:PUBLISH
X-WR-CALNAME:Indonesia Kaya
X-ORIGINAL-URL:https://indonesiakaya.com
X-WR-CALDESC:Events for Indonesia Kaya
REFRESH-INTERVAL;VALUE=DURATION:PT1H
X-Robots-Tag:noindex
X-PUBLISHED-TTL:PT1H
BEGIN:VTIMEZONE
TZID:Asia/Jakarta
BEGIN:STANDARD
TZOFFSETFROM:+0700
TZOFFSETTO:+0700
TZNAME:WIB
DTSTART:20220101T000000
END:STANDARD
END:VTIMEZONE
BEGIN:VEVENT
DTSTART;TZID=Asia/Jakarta:20230701T150000
DTEND;TZID=Asia/Jakarta:20230701T160000
DTSTAMP:20260423T002412
CREATED:20230529T030008Z
LAST-MODIFIED:20230626T021830Z
UID:71718-1688223600-1688227200@indonesiakaya.com
SUMMARY:Pertunjukan Musik "Ada Swara"
DESCRIPTION:Ada Swara Jodhokemil adalah sebuah konsep yang mengangkat suara sebagai simbol keberadaan\, kehadiran\, dan keterlibatan manusia di dunia ini. Suara memberikan identitas dan makna pada pengalaman manusia. Dalam suara\, terdapat kekuatan untuk menyampaikan pesan\, menginspirasi\, dan menyatukan orang dari berbagai latar belakang. Namun\, suara juga dapat menjadi sumber kekacauan dan perbedaan pendapat. Oleh karena itu\, dibutuhkan kebijaksanaan dan kepekaan untuk merespons suara dengan tepat. Suara hadir dalam berbagai bentuk\, baik yang terdengar maupun yang tak terucapkan. Dari yang ekspresif hingga yang subtil. Dari yang menyenangkan hingga yang menyakitkan. \nAda Swara Jodhokemil melibatkan pengalaman manusia dan keterlibatannya dengan lingkungan sekitar. Setiap peristiwa\, pengalaman\, dan kisah\, memiliki suara yang melingkupinya. Suara bukan hanya tentang bunyi fisik\, tetapi juga mencakup pengalaman\, memori\, dan keterlibatan emosional. \nAda Swara Jodhokemil bukan hendak mengeksplorasi dan merekam keseluruhan ragam suara atau bunyi yang ditemui. Karya-karya ini hanyalah potret-potret suara “maca kahanan” yang dihasilkan melalui perenungan dengan lingkungan sekitar\, terutama wilayah Magelang-Borobudur. Suara-suara tersebut diangkat oleh Jodhokemil ke dalam bentuk musikal yang didominasi balutan lirik bernuansa lokal Jawa. \nMelalui “Ada Swara\,” Jodhokemil mengajak khalayak untuk mendengarkan\, menghargai\, dan meresapi suara-suara di sekitar\, serta memberikan perhatian pada suara di dalam hati\, merenungkan kembali pengalaman\, dan melihat bahwa setiap momen di dalam hidup memiliki suara yang memengaruhi dan membentuk kita sebagai individu. Hati-hati bersuara\, lebih-lebih suara hati. \nNama Jodhokemil diadaptasi dari kearifan lokal yang terkait perhitungan hari dalam masyarakat Jawa. Berangkat dari spirit yang sama\, Jodhokemil terbentuk di Magelang pada 2014. “Sekedar tak sekedar bermusik” dijadikan landasan lompatan eksplorasi dalam proses kreatifnya. Karya-karya Jodhokemil banyak terinspirasi dari pengalaman keseharian dalam lingkungan sosial mereka. Kombinasi instrumen dua warna\, etnis-modern\, menjadi pilihan bentuk musikalnya.
URL:https://indonesiakaya.com/event/pertunjukan-musik-ada-swara/
LOCATION:Galeri Indonesia Kaya\, Grand Indonesia – West Mall Lantai 8\, Jl. M.H. Thamrin No.1\, Jakarta\, DKI Jakarta\, 10230\, Indonesia
CATEGORIES:Agenda Budaya,Galeri Indonesia Kaya
ATTACH;FMTTYPE=image/jpeg:https://indonesiakaya.com/wp-content/uploads/2023/05/ada-swara.jpeg
END:VEVENT
BEGIN:VEVENT
DTSTART;TZID=Asia/Jakarta:20230708T150000
DTEND;TZID=Asia/Jakarta:20230708T170000
DTSTAMP:20260423T002412
CREATED:20230628T062000Z
LAST-MODIFIED:20230919T063100Z
UID:72346-1688828400-1688835600@indonesiakaya.com
SUMMARY:TRI SUNARI - Tiga Genre Tari Bali oleh Bengkel Tari AyuBulan
DESCRIPTION:Tri Sunari\, yang berarti 3 sinar\, mengetengahkan tema tiga genre tari tradisi Bali yaitu tari Wali (sakral)\, Bebali (sekuler atau tari untuk pertunjukan)\, dan Balih-Balihan (tari rakyat atau tari sosial – berpasang-pasangan). Dalam acara Tri Sunari\, ketiga genre ini diwakili oleh Baris Kekupu untuk tari sakral\, Legong Semarandana untuk tari sekuler pertunjukan – dimana Legong adalah jenis tari Bebali tertua\, dan Janger Batuan untuk mewakili tari rakyat. Ketiga tarian ini akan ditampilkan susul menyusul sambung menyambung\, dengan diiringi musik rekaman maupun gamelan geguntangan (minimalis) live beranggotakan 5 orang pemusik. \nBengkel Tari AyuBulan adalah grup penari Bali profesional yang berdiri tahun 1994 di Bandung didirikan oleh mendiang maestro Legong Indonesia Dr Ayu Bulantrisna Djelantik. Bengkel Tari AyuBulan beranggotakan para penari Legong senior yang juga mengajar tari-tari tradisi Bali khususnya Legong di bawah nama LesTari AyuBulan yang memiliki 7 cabang studio di Jakarta dan Bandung. \nPERHATIAN: Dengan adanya tarian sakral yang dibawakan\, seluruh penonton diwajibkan berumur di atas 12 tahun.
URL:https://indonesiakaya.com/event/tri-sunari-tiga-genre-tari-bali-oleh-bengkel-tari-ayubulan/
LOCATION:Galeri Indonesia Kaya\, Grand Indonesia – West Mall Lantai 8\, Jl. M.H. Thamrin No.1\, Jakarta\, DKI Jakarta\, 10230\, Indonesia
CATEGORIES:Agenda Budaya,Galeri Indonesia Kaya
ATTACH;FMTTYPE=image/jpeg:https://indonesiakaya.com/wp-content/uploads/2023/06/8juli1-1.jpg
END:VEVENT
BEGIN:VEVENT
DTSTART;TZID=Asia/Jakarta:20230715T150000
DTEND;TZID=Asia/Jakarta:20230715T170000
DTSTAMP:20260423T002412
CREATED:20230705T041644Z
LAST-MODIFIED:20240320T023440Z
UID:72348-1689433200-1689440400@indonesiakaya.com
SUMMARY:Sasando Rhapsody : Alat Musik Legendaris oleh Nusa Tuak bersama Andovi da Lopez
DESCRIPTION:Sasando Rhapsody : Alat Musik Legendaris adalah konsep acara yang memuja keindahan musik sasando. Menampilkan sasando sebagai pusat pertunjukan dan perhatian\, mempersembahkan lagu-lagu yang mencerminkan nilai tradisi dan emosi Nusa Tenggara Timur. Dari melodi yang traditional mendalam hingga irama musik modern yang riang\, musisi sasando akan menghipnotis penonton dengan kepiawaian mereka. Dalam pengaturan panggung yang intim\, pencahayaan lembut dan proyeksi visual yang mendukung akan memperkuat pesona musik sasando. Acara ini mengajak penonton untuk terhubung dengan kekayaan budaya NTT dan merasakan kekuatan penyembuhan serta keanggunan musik yang terdapat dalam alunan sasando yang memikat. \nNusa Tuak merupakan grup musik yang terdiri dari Ganzerlana\, Izhu\, Ulrich bermain sasando\, Rico Matahelumual bermain Hawaiian ambon\, Utha sebagai bassist\, Pepi sebagai drummer\, Martin Koehuan sebagai gitaris\, Firdha Rachmadani dan Eno Tunya sebagai vokalis\, dan Dicky Dayu bermain suling. Nusa Tuak berupaya untuk mengenalkan alat musik sasando ke masyarakat luas\, karena masih banyak sekali masyarakat Indonesia yang tidak tahu sasando. Nusa tuak berharap alunan sasando dapat dinikmati generasi muda bersama dengan musik modern. \nAndovi da Lopez merupakan seorang content creator dan aktor asal Indonesia. Ia pertama dikenal bersama kakaknya melalui kanal SkinnyIndonesian24 di YouTube. Bersama kakaknya\, ia juga sempat membuat Musikal DPR yang tayang secara virtual dan saat ini sedang mempersiapkan Teater Musikal Polarisasi.
URL:https://indonesiakaya.com/event/sasando-rhapsody-alat-musik-legendaris-oleh-nusa-tuak-bersama-andovi-da-lopez/
LOCATION:Galeri Indonesia Kaya\, Grand Indonesia – West Mall Lantai 8\, Jl. M.H. Thamrin No.1\, Jakarta\, DKI Jakarta\, 10230\, Indonesia
CATEGORIES:Agenda Budaya,Galeri Indonesia Kaya
ATTACH;FMTTYPE=image/jpeg:https://indonesiakaya.com/wp-content/uploads/2023/07/15juli-1.jpg
END:VEVENT
BEGIN:VEVENT
DTSTART;TZID=Asia/Jakarta:20230722T150000
DTEND;TZID=Asia/Jakarta:20230722T170000
DTSTAMP:20260423T002412
CREATED:20230705T041653Z
LAST-MODIFIED:20230717T035011Z
UID:72350-1690038000-1690045200@indonesiakaya.com
SUMMARY:Jelajah Nusantara ke Pulau Komodo oleh Ria Enes dan Susan bersama Rara Sudirman\, Natasha Chairani\, Mydoremi.id
DESCRIPTION:Merayakan Hari Anak Nasional\, Mydoremi hadir dengan drama musikal anak dengan konsep menyanyi\, akting dan menari dengan mengusung lagu-lagu anak dan lagu daerah Indonesia bersama dengan karakter kartun digital live Mydoremi yaitu Dodo\, Rere\, Mimi\, dan juga sahabat Mydoremi\, 16 anak Indonesia bertalenta yang telah melalui audisi Program Liburan Musikal Anak baik secara online maupun offline di Galeri Indonesia Kaya. \nRia Enes & Susan hadir sebagai pencerita\, diiringi alunan merdu dari penyanyi anak Rara Sudirman dan mantan penyanyi anak Natasha Chairani.
URL:https://indonesiakaya.com/event/jelajah-nusantara-ke-pulau-komodo-oleh-ria-enes-dan-susan-bersama-rara-sudirman-natasha-chairani-mydoremi-id/
LOCATION:Galeri Indonesia Kaya\, Grand Indonesia – West Mall Lantai 8\, Jl. M.H. Thamrin No.1\, Jakarta\, DKI Jakarta\, 10230\, Indonesia
CATEGORIES:Agenda Budaya,Galeri Indonesia Kaya
ATTACH;FMTTYPE=image/jpeg:https://indonesiakaya.com/wp-content/uploads/2023/07/22juli-1.jpg
END:VEVENT
BEGIN:VEVENT
DTSTART;TZID=Asia/Jakarta:20230723T150000
DTEND;TZID=Asia/Jakarta:20230723T170000
DTSTAMP:20260423T002413
CREATED:20230705T041700Z
LAST-MODIFIED:20240319T083839Z
UID:72352-1690124400-1690131600@indonesiakaya.com
SUMMARY:Anak Bali Melali oleh Tjok Kina bersama kawan-kawan tersayang
DESCRIPTION:Sebuah pementasan anak-anak yang terdiri dari drama\, musik gamelan\, tari Baris dan Puspanjali\, wayang\, permainan tradisional\, dan lantunan harmoni lagu anak Bali yang dikemas secara ringan\, menarik\, dan menyenangkan. Pementasan berdurasi 45 menit bertujuan untuk merayakan ekspresi dan kebahagiaan anak-anak melalui kesenian\, khususnya seni tradisi pada perayaan Hari Anak Nasional. \nPada suatu sore yang cerah\, anak-anak perempuan dan laki-laki sedang bermain sambil berlatih menari dan menyanyi karena mereka merencanakan diri untuk tampil di Galeri Indonesia Kaya. Mereka sangat bersemangat menari puspanjali\, menari Baris\, bermain Topeng hingga lupa waktu\, karena saking asyiknya bermain. Tidak terasa ternyata hari hampir petang (Sandekala). Guru tari dan musik mengingatkan untuk beristirahat\, namun mereka tidak mendengarkan\, hingga datanglah Kakek yang juga seorang Dalang\, menceritakan kenapa anak-anak harus beristirahat dan segera pulang lewat pertunjukan wayang. Anak-anak sangat antusias dan senang mendengarkan cerita tersebut hingga akhinya mereka bersama-sama membubarkan diri\, pulang ke rumah masing-masing dengan perasaan senang. \nTitimangsa adalah yayasan nirlaba yang bergerak di bidang budaya\, khususnya menghidupkan karya sastra ke dalam seni pertunjukan. Kerja Titimangsa sudah tercatat sejak tahun 2006 hingga 2023 ini\, Titimangsa sudah mementaskan kurang lebih sebanyak 62 produksi yang sebagian besar merupakan alih wahana dari karya sastra menjadi bentuk lain. Titimangsa juga aktif mengangkat sastra lama dan seni tradisi ke panggung pertunjukan yang dikemas dengan cara yang modern\, seperti Taksu Ubud (2021)\, Sudamala Dari Calonarang (2022 & 2023).
URL:https://indonesiakaya.com/event/anak-bali-melali-oleh-tjok-kina-bersama-kawan-kawan-tersayang/
LOCATION:Galeri Indonesia Kaya\, Grand Indonesia – West Mall Lantai 8\, Jl. M.H. Thamrin No.1\, Jakarta\, DKI Jakarta\, 10230\, Indonesia
CATEGORIES:Agenda Budaya,Galeri Indonesia Kaya
ATTACH;FMTTYPE=image/jpeg:https://indonesiakaya.com/wp-content/uploads/2023/07/23juli-1.jpg
END:VEVENT
BEGIN:VEVENT
DTSTART;TZID=Asia/Jakarta:20230729T150000
DTEND;TZID=Asia/Jakarta:20230729T160000
DTSTAMP:20260423T002413
CREATED:20230705T041705Z
LAST-MODIFIED:20230724T042356Z
UID:72354-1690642800-1690646400@indonesiakaya.com
SUMMARY:Janger Semara Ratih oleh Kembalikan Baliku - 15.00
DESCRIPTION:Diciptakan oleh I Gede Dharna sekitar 1920an di daerah Buleleng\, Bali\, tari Janger adalah bentuk nyanyian dari para petani yang bergembira saat panen tiba yang dibawakan dengan cara bersahut-sahutan oleh sekumpulan muda mudi. Dalam perkembangannya\, Janger pun menjadi tari pergaulan yang dibawakan dengan berpasangan serta berkelompok. \nDalam pementasannya\, tari janger kian berkembang dengan mementaskan lakon drama di dalamnya yang di kenal dengan Janger Melampan/Melampahan (Janger Berkisah). Hal ini yang mendasari penciptaan karya tari janger yang diberi tajuk “Janger Semara Ratih.” \nMengangkat kisah Dewa Semara dan Dewi Ratih sebagai dewa dewi cinta\, struktur tari yang di sajikan terbagi menjadi 3 yaitu\, bagian pertama menggambarkan gejolak cinta asmara para pemuda pemudi yang bergelora\, bagian kedua menggambarkan Dewa Semara dan Dewi Ratih yang memiliki kekuatan cinta yang luar biasa\, dan bagian ketiga menggambarkan bagaimana kekuatan cinta tersebut merasuki setiap insan. \nDalam setiap pembagian babaknya\, akan di tampilkan juga sajian Bondres yang kekinian sebagai pengantar cerita agar terjalin secara terstuktur dan menarik. Karya tari Janger Semara Ratih diharapakan sebagai media untuk menyebarkan rasa cinta dan kasih melalui seni pertunjukan agar terciptanya keharmonisan. \nKembalikan Baliku merupakan gebrakan budaya yang diinisiasi oleh Syandriasari Kameron untuk melestarikan salah satu budaya Indonesia\, yakni budaya Bali\, karena prihatin akan kondisi seni budaya Bali yang semakin tergerus oleh persaingan industri hiburan global\, sehingga seni budaya Bali semakin tidak selaras dengan perkembangan zaman dan kurang mampu menarik minat generasi muda. \nKembalikan Baliku mencoba hadir untuk mempertahankan seni budaya Bali sehingga dapat diserap oleh berbagai kalangan\, baik muda hingga tua\, dan telah memiliki pengalaman pertunjukan seperti menjadi bagian dari Jagantara yang diselenggarakan oleh WBI Foundation. Kembalikan Baliku juga menampilkan Cak Sesanghyangan Dedari yang merupakan tarian penolak bala dan meminta berkah demi kedamaian\, kesejahteraan dan kerukunan umat pada Synchronize Fest tahun 2022. Setiap Hari Tari Sedunia\, Kembalikan Baliku juga secara rutin menampilkan rangkaian tarian Bali di Anjungan Sarinah.
URL:https://indonesiakaya.com/event/janger-semara-ratih-oleh-kembalikan-baliku/
LOCATION:Galeri Indonesia Kaya\, Grand Indonesia – West Mall Lantai 8\, Jl. M.H. Thamrin No.1\, Jakarta\, DKI Jakarta\, 10230\, Indonesia
CATEGORIES:Agenda Budaya,Galeri Indonesia Kaya
ATTACH;FMTTYPE=image/jpeg:https://indonesiakaya.com/wp-content/uploads/2023/07/29juli-1.jpg
END:VEVENT
BEGIN:VEVENT
DTSTART;TZID=Asia/Jakarta:20230729T190000
DTEND;TZID=Asia/Jakarta:20230729T200000
DTSTAMP:20260423T002413
CREATED:20230724T035649Z
LAST-MODIFIED:20230728T093230Z
UID:72621-1690657200-1690660800@indonesiakaya.com
SUMMARY:Janger Semara Ratih oleh Kembalikan Baliku - 19.00
DESCRIPTION:Diciptakan oleh I Gede Dharna sekitar 1920an di daerah Buleleng\, Bali\, tari Janger adalah bentuk nyanyian dari para petani yang bergembira saat panen tiba yang dibawakan dengan cara bersahut-sahutan oleh sekumpulan muda mudi. Dalam perkembangannya\, Janger pun menjadi tari pergaulan yang dibawakan dengan berpasangan serta berkelompok. \nDalam pementasannya\, tari janger kian berkembang dengan mementaskan lakon drama di dalamnya yang di kenal dengan Janger Melampan/Melampahan (Janger Berkisah). Hal ini yang mendasari penciptaan karya tari janger yang diberi tajuk “Janger Semara Ratih.” \nMengangkat kisah Dewa Semara dan Dewi Ratih sebagai dewa dewi cinta\, struktur tari yang di sajikan terbagi menjadi 3 yaitu\, bagian pertama menggambarkan gejolak cinta asmara para pemuda pemudi yang bergelora\, bagian kedua menggambarkan Dewa Semara dan Dewi Ratih yang memiliki kekuatan cinta yang luar biasa\, dan bagian ketiga menggambarkan bagaimana kekuatan cinta tersebut merasuki setiap insan. \nDalam setiap pembagian babaknya\, akan di tampilkan juga sajian Bondres yang kekinian sebagai pengantar cerita agar terjalin secara terstuktur dan menarik. Karya tari Janger Semara Ratih diharapakan sebagai media untuk menyebarkan rasa cinta dan kasih melalui seni pertunjukan agar terciptanya keharmonisan. \nKembalikan Baliku merupakan gebrakan budaya yang diinisiasi oleh Syandriasari Kameron untuk melestarikan salah satu budaya Indonesia\, yakni budaya Bali\, karena prihatin akan kondisi seni budaya Bali yang semakin tergerus oleh persaingan industri hiburan global\, sehingga seni budaya Bali semakin tidak selaras dengan perkembangan zaman dan kurang mampu menarik minat generasi muda. \nKembalikan Baliku mencoba hadir untuk mempertahankan seni budaya Bali sehingga dapat diserap oleh berbagai kalangan\, baik muda hingga tua\, dan telah memiliki pengalaman pertunjukan seperti menjadi bagian dari Jagantara yang diselenggarakan oleh WBI Foundation. Kembalikan Baliku juga menampilkan Cak Sesanghyangan Dedari yang merupakan tarian penolak bala dan meminta berkah demi kedamaian\, kesejahteraan dan kerukunan umat pada Synchronize Fest tahun 2022. Setiap Hari Tari Sedunia\, Kembalikan Baliku juga secara rutin menampilkan rangkaian tarian Bali di Anjungan Sarinah.
URL:https://indonesiakaya.com/event/janger-semara-ratih-oleh-kembalikan-baliku-19-00/
LOCATION:Galeri Indonesia Kaya\, Grand Indonesia – West Mall Lantai 8\, Jl. M.H. Thamrin No.1\, Jakarta\, DKI Jakarta\, 10230\, Indonesia
CATEGORIES:Agenda Budaya,Galeri Indonesia Kaya
ATTACH;FMTTYPE=image/jpeg:https://indonesiakaya.com/wp-content/uploads/2023/07/29juli-1.jpg
END:VEVENT
END:VCALENDAR