BEGIN:VCALENDAR
VERSION:2.0
PRODID:-//Indonesia Kaya - ECPv6.15.15//NONSGML v1.0//EN
CALSCALE:GREGORIAN
METHOD:PUBLISH
X-WR-CALNAME:Indonesia Kaya
X-ORIGINAL-URL:https://indonesiakaya.com
X-WR-CALDESC:Events for Indonesia Kaya
REFRESH-INTERVAL;VALUE=DURATION:PT1H
X-Robots-Tag:noindex
X-PUBLISHED-TTL:PT1H
BEGIN:VTIMEZONE
TZID:Asia/Jakarta
BEGIN:STANDARD
TZOFFSETFROM:+0700
TZOFFSETTO:+0700
TZNAME:WIB
DTSTART:20220101T000000
END:STANDARD
END:VTIMEZONE
BEGIN:VEVENT
DTSTART;TZID=Asia/Jakarta:20230603T150000
DTEND;TZID=Asia/Jakarta:20230603T160000
DTSTAMP:20260423T015741
CREATED:20230529T030029Z
LAST-MODIFIED:20230529T034808Z
UID:71721-1685804400-1685808000@indonesiakaya.com
SUMMARY:Kuntilanak Mangga Dua
DESCRIPTION:Pemuda pekerja keras dan jujur bernama Tisna berniat untuk membahagiakan sang kekasih (Acih) yang akan berhari raya dengan memberinya baju baru. Namun\, baju itu ternyata hasil curian dari toko majikannya. Beruntung\, majikannya baik hati dan tidak memperkarakannya. \nSetelah menikah\, Tisna dan Acih pun pindah ke Jakarta dan mendapat rumah dari tempat Tisna bekerja. Namun\, rumah yang mereka tempati ternyata angker dan banyak hantu. \nSejarah Miss Tjitjih \nSeorang gadis asli Sumedang\, Jawa Barat\, yang bernama Tjitjih\, bergabung dengan Opera Valencia yang dipimpin oleh Abu Bakar Bafagih pada 1926. Tjitjih berparas cantik\, kreatif\, dan penuh disiplin dalam berkesenian. Sebagai wujud penghargaan terhadap kelompok opera tersebut\, pada 1928\, Opera Valencia diubah menjadi Miss Tjitjih Tonil Gezelschap. Kelompok opera yang awalnya berbahasa pengantar Melayu ini lantas berubah bahasa pengantar menjadi Sunda. \nSandiwara Sunda Miss Tjitjih merupakan salah satu aset budaya Jakarta. Karena itu\, melalui Dinas Kebudayaan dan Permuseuman Provinsi DKI Jakarta\, Pemerintah Provinsi DKI Jakarta melaksanakan kembali pembangunan Gedung Kesenian Miss Tjitjih yang direncanakan selesai pada 2003\, agar selanjutnya dapat difungsikan sebagai sarana Pergelaran Kesenian Sunda secara umum. Pada 26 Maret 2004\, Gedung Kesenian Miss Tjitjih dibuka secara resmi oleh Ibu Megawati Soekarnoputri\, sehingga Pagelaran Sandiwara Sunda Miss Tjitjih dan program-program pementasan lainnya dapat dilaksanakan secara rutin setiap bulannya.
URL:https://indonesiakaya.com/event/kuntilanak-mangga-dua/
LOCATION:Galeri Indonesia Kaya\, Grand Indonesia – West Mall Lantai 8\, Jl. M.H. Thamrin No.1\, Jakarta\, DKI Jakarta\, 10230\, Indonesia
CATEGORIES:Agenda Budaya,Galeri Indonesia Kaya
ATTACH;FMTTYPE=image/jpeg:https://indonesiakaya.com/wp-content/uploads/2023/05/KMD-.jpeg
END:VEVENT
BEGIN:VEVENT
DTSTART;TZID=Asia/Jakarta:20230610T150000
DTEND;TZID=Asia/Jakarta:20230610T160000
DTSTAMP:20260423T015741
CREATED:20230529T030006Z
LAST-MODIFIED:20230606T071825Z
UID:71723-1686409200-1686412800@indonesiakaya.com
SUMMARY:Dari Jember untuk Dunia
DESCRIPTION:Linkrafin\, juara 1 Lomba Karya Musik Anak Komunitas Kemenparekraf RI 2021\, yang merupakan sekelompok seniman musik dan kreator dari Jember Jawa Timur\, memaknai akulturasi budaya melalui musik\, tari\, dan bahasa\, untuk memperkenalkan kota mereka yang tumbuh dalam ruang harmoni antara keluhuran tradisi dan keagungan imaji. \nLingkar Kreatif Independen (Linkrafin) merupakan sebuah kelompok pemberdayaan karya yang memiliki tujuan untuk memperkaya khazanah budaya dan instrumen kesenian di lingkup industri kreatif. Didirikan oleh Yudho Andriansyah dan Bobby Rahadyan di Jember\, Linkrafin memulai gerakannya pada 2019 dan bermitra dengan beberapa kreator konten asal Jember dalam membuat beberapa karya kolektif media rekam yang dipublikasikan melalui portal media multiplatform. \nLinkrafin mendefinisikan kreatif sebagai segala bentuk ide dan gagasan (kekayaan intelektual) dalam ruang kreasi multiplatform yang memberi manfaat bagi pelaku dan penikmatnya\, serta memiliki fungsi pendidikan\, hiburan\, sosial\, budaya\, dan ekonomi. Termasuk di dalamnya\, segala elemen di dalam industri kreatif yang mencakup proses produksi\, distribusi\, ekshibisi\, apresiasi\, pendidikan\, dan arsip dokumentasi.
URL:https://indonesiakaya.com/event/dari-jember-untuk-dunia/
LOCATION:Galeri Indonesia Kaya\, Grand Indonesia – West Mall Lantai 8\, Jl. M.H. Thamrin No.1\, Jakarta\, DKI Jakarta\, 10230\, Indonesia
CATEGORIES:Agenda Budaya,Galeri Indonesia Kaya
ATTACH;FMTTYPE=image/jpeg:https://indonesiakaya.com/wp-content/uploads/2023/05/dari-jember.jpeg
END:VEVENT
BEGIN:VEVENT
DTSTART;TZID=Asia/Jakarta:20230617T150000
DTEND;TZID=Asia/Jakarta:20230617T160000
DTSTAMP:20260423T015741
CREATED:20230529T030003Z
LAST-MODIFIED:20230612T030238Z
UID:71725-1687014000-1687017600@indonesiakaya.com
SUMMARY:Arek Suramadu
DESCRIPTION:Tiga seniwati yang berasal dari Jawa Timur\, Nina Tamam\, penyanyi yang tenar dengan grup vokal Warna\, Mariska Setiawan\, seorang soprano seniman panggung\, dan Kathy Permata\, balerina sekaligus seniman panggung dan kreator konten\, berbagi kisah dan cerita mengenai tanah asal mereka melalui lagu-lagu yang akan membawa kenangan indah serta sebagai pengingat akan makna perjuangan dalam berkesenian dan berkarya. \nNina Tamam merupakan salah satu personel grup vokal Warna yang kemudian melanjutkan karier solonya dengan lagu-lagu pop yang populer di radio Indonesia. Ia juga berkiprah sebagai penyiar radio dan aktris musikal. Mariska Setiawan sendiri merupakan seorang soprano yang telah menyambangi genre teater musikal. Salah satunya sebagai “Eulis Andjung\,” peran utama di dalam Musikal Payung Fantasi. Sementara itu\, Kathy Permatasari\, balerina sekaligus kreator konten dengan puluhan ribu pengikut\, juga telah menekuni dunia vokal dan performing art seperti Musikal Payung Fantasi dan Film Petualangan Sherina 2.
URL:https://indonesiakaya.com/event/arek-suramadu/
LOCATION:Galeri Indonesia Kaya\, Grand Indonesia – West Mall Lantai 8\, Jl. M.H. Thamrin No.1\, Jakarta\, DKI Jakarta\, 10230\, Indonesia
CATEGORIES:Agenda Budaya,Galeri Indonesia Kaya
ATTACH;FMTTYPE=image/jpeg:https://indonesiakaya.com/wp-content/uploads/2023/05/arek-suramadu.jpeg
END:VEVENT
BEGIN:VEVENT
DTSTART;TZID=Asia/Jakarta:20230624T150000
DTEND;TZID=Asia/Jakarta:20230624T160000
DTSTAMP:20260423T015741
CREATED:20230529T030001Z
LAST-MODIFIED:20240808T062255Z
UID:71728-1687618800-1687622400@indonesiakaya.com
SUMMARY:Lenong Betawi "Jakartaku Semangatku"
DESCRIPTION:Merayakan HUT Jakarta\, Sinar Norray kembali meramaikan ruang seni pertunjukan Galeri Indonesia Kaya. Pertunjukan Sinar Norray kali ini menceritakan sebuah sanggar yang kebingungan karena tidak adanya proyek pementasan\, meski masa pandemi sudah berlalu dan sanggar telah kembali melakukan latihan kesenian secara rutin. Di tengah keputusasaan\, datanglah seorang turis\, yang diperankan oleh Wandha Dwiutari\, yang melihat sanggar dan mengajak para seniman di dalamnya untuk pentas di luar negeri. \nSinar Norray merupakan grup lenong yang didirikan oleh Mpok Nori\, seniman Betawi yang telah menjadi salah satu legenda komedi Betawi. Mpok Nori memulai kariernya dalam pentas lenong Betawi bersama sesama seniman Betawi\, Bokir. Ia juga tampil di berbagai acara komedi\, baik di atas panggung maupun di layar kaca. Sinar Norray mendidik seniman-seniman Betawi\, dari penari\, pemain lenong\, hingga musisi\, dan sering tampil di berbagai acara. Sementara itu\, Wandha Dwiutari adalah seorang pembawa berita dan juga figur publik yang telah mendapatkan jutaan pengikut di media sosial.
URL:https://indonesiakaya.com/event/lenong-betawi-jakartaku-semangatku/
LOCATION:Galeri Indonesia Kaya\, Grand Indonesia – West Mall Lantai 8\, Jl. M.H. Thamrin No.1\, Jakarta\, DKI Jakarta\, 10230\, Indonesia
CATEGORIES:Agenda Budaya,Galeri Indonesia Kaya
ATTACH;FMTTYPE=image/jpeg:https://indonesiakaya.com/wp-content/uploads/2023/05/lenong-betawi.jpeg
END:VEVENT
END:VCALENDAR