BEGIN:VCALENDAR
VERSION:2.0
PRODID:-//Indonesia Kaya - ECPv6.15.15//NONSGML v1.0//EN
CALSCALE:GREGORIAN
METHOD:PUBLISH
X-WR-CALNAME:Indonesia Kaya
X-ORIGINAL-URL:https://indonesiakaya.com
X-WR-CALDESC:Events for Indonesia Kaya
REFRESH-INTERVAL;VALUE=DURATION:PT1H
X-Robots-Tag:noindex
X-PUBLISHED-TTL:PT1H
BEGIN:VTIMEZONE
TZID:Asia/Jakarta
BEGIN:STANDARD
TZOFFSETFROM:+0700
TZOFFSETTO:+0700
TZNAME:WIB
DTSTART:20220101T000000
END:STANDARD
END:VTIMEZONE
BEGIN:VEVENT
DTSTART;TZID=Asia/Jakarta:20230513T150000
DTEND;TZID=Asia/Jakarta:20230513T160000
DTSTAMP:20260423T033424
CREATED:20230508T030044Z
LAST-MODIFIED:20230509T060818Z
UID:71153-1683990000-1683993600@indonesiakaya.com
SUMMARY:"Bhinneka Tunggal Ika" ala Tompi\, Sri Panggung\, dan Danang Suryonegoro
DESCRIPTION:Tompi\, seorang penyanyi sekaligus musisi papan atas Indonesia\, akan berkolaborasi bersama Sri Panggung dan Danang Suryonegoro dalam sebuah pertunjukan seni bertajuk “Bhinneka Tunggal Ika.” \nSri Panggung\, yang terdiri atas Galabby\, Louise Monique\, dan Jessica Januar\, berprofesi sebagai penyanyi serta seniman panggung pertunjukan\, dan merupakan alumni program Musikal Indonesia Kaya. Tak hanya itu\, mereka juga terlibat dalam Serial Musikal Nurbaya dan Payung Fantasi. Sementara itu\, Danang Suryonegoro adalah seorang host\, presenter\, dan pelaku seni.
URL:https://indonesiakaya.com/event/bhinneka-tunggal-ika/
LOCATION:Galeri Indonesia Kaya\, Grand Indonesia – West Mall Lantai 8\, Jl. M.H. Thamrin No.1\, Jakarta\, DKI Jakarta\, 10230\, Indonesia
CATEGORIES:Agenda Budaya,Galeri Indonesia Kaya
ATTACH;FMTTYPE=image/jpeg:https://indonesiakaya.com/wp-content/uploads/2023/05/GIK-2023_acara_web.jpg
END:VEVENT
BEGIN:VEVENT
DTSTART;TZID=Asia/Jakarta:20230520T150000
DTEND;TZID=Asia/Jakarta:20230520T160000
DTSTAMP:20260423T033424
CREATED:20230515T030013Z
LAST-MODIFIED:20230515T082037Z
UID:71592-1684594800-1684598400@indonesiakaya.com
SUMMARY:#INDONESIAKEREN Electroma dan Rafi Sudirman
DESCRIPTION:Pertunjukan lagu lagu Nusantara dengan aransemen kekinian ala Electroma akan semakin meyakinkan kita bersama bahwa #INDONESIAKEREN. Suara khas dan aksi panggung ciamik dari Dewi Gita dipadu aransemen kekinian Kenny Gabriel sebagai DJ akan berkolaborasi dengan warna jazz dari Rafi Sudirman \nElectroma adalah sebuah project kolaborasi antara penyanyi dan seniman Dewi Gita bersama Kenny Gabriel yang membawakan lagu lagu dengan sentuhan EDM\, sedangkan Rafi Sudirman adalah seorang penyanyi yang mengawali karir dalam kelompok Di Atas Rata Rata generasi kedua asuhan Erwin Gutawa dan Gita Gutawa yang kini aktif bersolo karier.
URL:https://indonesiakaya.com/event/indonesiakeren-electroma-dan-rafi-sudirman/
LOCATION:Galeri Indonesia Kaya\, Grand Indonesia – West Mall Lantai 8\, Jl. M.H. Thamrin No.1\, Jakarta\, DKI Jakarta\, 10230\, Indonesia
CATEGORIES:Agenda Budaya,Galeri Indonesia Kaya
ATTACH;FMTTYPE=image/jpeg:https://indonesiakaya.com/wp-content/uploads/2023/05/GIK_2023_Jadwal_Instagram_Pre-Event_mei-01.jpg
END:VEVENT
BEGIN:VEVENT
DTSTART;TZID=Asia/Jakarta:20230527T150000
DTEND;TZID=Asia/Jakarta:20230527T160000
DTSTAMP:20260423T033424
CREATED:20230515T100059Z
LAST-MODIFIED:20230522T020841Z
UID:71603-1685199600-1685203200@indonesiakaya.com
SUMMARY:Senandung Masa Masa - Keroncong Musyawarah bersama Mia Ismi\, Marsheilla Andreis\, Gusty Pratama\, dan Beyon Destiano
DESCRIPTION:Yang muda yang berkeroncong\, musisi-musisi Indonesia berkumpul memainkan irama keroncong. Dalam pementasan ini\, ragam lagu Indonesia mulai dari era 50-an hingga saat ini akan dibawakan dalam aransemen keroncong. Kali ini\, Keroncong Musyawarah berkolaborasi bersama empat penyanyi dan seniman panggung yang akan menambah meriahnya senandung dari masa ke masa. \nKERONCONG MUSYAWARAH \nTerbentuk sejak Mei 2016\, Keroncong Musyawarah yang beranggotakan enam personil tetap\, yaitu Angga Pratala (Cello)\, Anton DKW (Violin)\, Agung Melon (Cuk)\, Ava Victoria (Cak)\, Andika Candra (Flute)\, dan Dessy Saptany (E.Bass)\, mufakat untuk menyuguhkan musik dengan genre keroncong pop/langgam/crossover. \nPerjalanan Keroncong Musyawarah memasuki industri musik Indonesia dimulai dengan terciptanya karya cipta lagu orisinil berjudul “Tradisi” yang diciptakan oleh Ana Achjuman dan diaransemen oleh Keroncong Musyawarah. Rilis di bawah label Musik Bagus pada 2017. Karya produksi tersebut mendapatkan nominasi di ajang penghargaan musik bergengsi Anugerah Musik Indonesia (AMI) Awards 2018 dalam kategori “Karya Produksi Kroncong/Kroncong Kontemporer/Stambul/Langgam.” \nPada penampilan kali ini\, Keroncong Musyawarah berkolaborasi bersama empat seniman yang merupakan penyanyi ragam genre dan juga seniman panggung pertunjukan.
URL:https://indonesiakaya.com/event/senandung-masa-masa/
LOCATION:Galeri Indonesia Kaya\, Grand Indonesia – West Mall Lantai 8\, Jl. M.H. Thamrin No.1\, Jakarta\, DKI Jakarta\, 10230\, Indonesia
CATEGORIES:Agenda Budaya,Galeri Indonesia Kaya
ATTACH;FMTTYPE=image/jpeg:https://indonesiakaya.com/wp-content/uploads/2023/05/senandung_masa_masa_thumbnail.jpg
END:VEVENT
END:VCALENDAR